{"text_format":"1","workbook":"xlsx","n_sheets":10,"sheets":["Notice","MINIMES ESTIVAL","BENJAMINS ESTIVAL","MINIMES HIVERNAL","BENJAMINS HIVERNAL","Relais_BE","Relais_MI","verif_reglement","Licenciés","PARAMETRES"],"not_rendered":{"charts":0,"images":10,"macros":1,"external_links":0,"defined_names":4,"comments":0,"pivot_tables":0},"unopened":[],"bounds":{"document_bytes":16777216,"sheet_cells":100000,"rows_first":2000,"rows_last":500,"rows_between":2000,"halvings":0,"cell_chars":16384,"cell_head_chars":4096},"cells_cut":0,"cells_raw":0,"read":"whole","date_system":"1900"}

{"sheet":"Notice","index":0,"n_rows":106,"n_cols":21,"rows_kept":106,"cut":false,"hidden":false,"merged":[[8,17,9,17],[0,0,1,13],[2,17,5,17],[2,19,5,19],[2,20,5,20],[6,17,7,17],[6,19,7,19],[6,20,7,20]]}
["Equip'athlé - Notice d'utilisation du fichier d'engagement"]
[null,null,null,null,null,null,null,null,null,null,null,null,null,null,null,null,null,"Version","Description","Date","Auteur"]
[null,null,null,null,null,null,null,null,null,null,null,null,null,null,null,null,null,"0.1","Amélioration de l'outil fédéral","2022-04-01","CDA31"]
["Présentation des onglets du fichier :",null,null,null,null,null,null,null,null,null,null,null,null,null,null,null,null,null,"Inscription par numéro de licence"]
[null,null,null,null,null,null,null,null,null,null,null,null,null,null,null,null,null,null,"Vérification des engagements sur les triathlons"]
[null,null,null,null,null,null,null,null,null,null,null,null,null,null,null,null,null,null,"Vérification de la contrainte 5 athlètes par épreuve"]
[null,null,null,null,null,null,null,null,null,null,null,null,null,null,null,null,null,"1.0","Ajout de la notice et de l'engagement de plusieurs relais","2022-05-01","CDA31"]
[null,null,null,null,null,null,null,null,null,null,null,null,null,null,null,null,null,null,"Modification de la macro pour l'export logica : création de fichiers txt plutôt qu'enregistrer sous le fichier)"]
[null,null,null,null,null,null,null,null,null,null,null,null,null,null,null,null,null,"1.1","Ajout de la vérification du règlement lorsqu'un athlète fait 2 épreuves","2023-05-01","CDA31"]
[null,null,null,null,null,null,null,null,null,null,null,null,null,null,null,null,null,null,"Ajout de l'onglet \"engagement jury\""]
[]
[]
[]
[]
["Seuls les onglets en jaune \"MINIMES ESTIVAL\", \"BENJAMINS ESTIVAL\",  \"Relais_BE\", \"Relais_MI\" et \"engagement jury\" doivent être complétés par les clubs"]
["Dans ces onglets, les cellules à compléter sont colorées en jaune. Les cellules en blanc contiennent des formules. Elles seront complétées automatiquement."]
["/!\\  Ne pas renommer les onglets en jaune"]
[]
["Inscription des équipes :"]
[]
["Les onglets en jaune \"MINIMES ESTIVAL\" et \"BENJAMINS ESTIVAL\" fonctionnement de manière similaire."]
["Le fonctionnement est présenté ci-dessous :"]
[]
[]
[]
[]
[]
[]
[]
[]
[]
[]
[]
[]
[]
[]
[]
[]
[]
[]
[]
[]
[]
[]
[]
[]
[]
[]
[]
[]
[]
["Inscription des relais :"]
[]
["Les onglets \"Relais_BE\" et \"Relais_MI\" permettent l'inscription des différents relais. Pour équip'athlé, il est possible d'inscrire plusieurs relais mixtes. Le relais rapportant le plus de points sera pris en compte pour l'équipe."]
["Les deux onglets fonctionnent de la même manière :"]
[]
[]
[]
[]
[]
[]
[]
[]
[]
[]
[]
[]
[]
[]
[]
[]
[]
[]
[]
[]
[]
[]
["Vérification du nombre d'athlète par catégorie et par sexe"]
["L'onglet \"verif_reglement\" permet d'un coup d'œil de savoir combien d'athlètes sont inscrit par épreuve, par catégorie et par sexe"]
["L'ensemble des compteurs se mettent automatiquement en jour en fonction des inscriptions réalisées dans les onglet \"MINIMES ESTIVAL\" et \"BENJAMINS ESTIVAL\""]
["S'il y a plus de 5 athlète par épreuve pour une même catégorie et un même sexe, le chiffre s'affichera en rouge. Cela indique que le règlement equip'athlé n'est pas respecté."]
["Dans ce cas, merci de revoir les inscriptions avant de les envoyer pour se mettre en confirmité avec le règlement."]
[]
[]
[]
[]
[]
[]
[]
[]
[]
[]
[]
[]
[]
[]
[]
[]
[]
[]
[]
[]
[]
[]
["Engagement du jury"]
["Remplir toutes les cellules, si un juge n'est pas licencié, marquer \"NL\" dans la colonne licence"]

{"sheet":"MINIMES ESTIVAL","index":1,"n_rows":70,"n_cols":27,"rows_kept":70,"cut":false,"hidden":false,"merged":[[3,13,3,16],[3,17,3,20],[0,0,0,1],[0,3,0,21],[1,3,1,21],[2,0,3,0],[2,5,2,21],[3,10,3,12],[3,6,3,7],[3,8,3,9]]}
[null,null,null,"Equipe Athlé Automne / Printemps Minime U16"]
["N° club :",null,"Club:",null,null,null,null,null,null,null,null,null,null,null,null,null,null,null,null,null,null,null,"NIVEAU"]
[null,"Nom","Prénom","Cat","Sexe","Familles"]
[null,null,null,null,null,"Juge","Sprint",null,"Haies",null,"1/2 Fond / Marche",null,null,"Sauts",null,null,null,"Lancers"]
["Licence",null,null,null,null,"Jeune Juge","80m","120m","80 / 100m haies","200m haies","1 000m","2 000m","3 000m Marche","Hauteur","Perche","Longueur","Triple saut","Poids","Disque","Marteau","Javelot",null,"Validité du triathlon","Nombre d'épreuve hors relais","Vérification catégorie MI","Vérification athlète unique","Vérification si 2 épreuves"]
[null,{"$f":"IFERROR(INDEX(Licenciés!B:B,MATCH($A6,Licenciés!$A:$A,0)),\"\")","v":""},{"$f":"IFERROR(INDEX(Licenciés!C:C,MATCH($A6,Licenciés!$A:$A,0)),\"\")","v":""},{"$f":"IFERROR(INDEX(Licenciés!D:D,MATCH($A6,Licenciés!$A:$A,0)),\"\")","v":""},{"$f":"IFERROR(INDEX(Licenciés!E:E,MATCH($A6,Licenciés!$A:$A,0)),\"\")","v":""},null,null,null,null,null,null,null,null,null,null,null,null,null,null,null,null,null,{"$f":"IF(A6=\"\",\"\",IF(X6=3,IF(OR(AND(COUNTIF(N6:V6,\"X\")<2,COUNTIF(G6:H6,\"X\")<2,COUNTIF(I6:J6,\"X\")<2,COUNTIF(K6:M6,\"X\")<2,COUNTIF(G6:M6,\"X\")<3),AND(COUNTIF(N6:V6,\"X\")<3,COUNTIF(G6:M6,\"X\")<2))=TRUE,\"OK\",\"NON\"),IF(X6>3,\"NON\",\"\")))","v":""},{"$f":"IF(A6=\"\",\"\",COUNTIF(G6:U6,\"X\"))","v":""},{"$f":"IF(D6=\"\",\"\",(IF(D6=\"MI\",\"OK\",\"NON\")))","v":""},{"$f":"IF(A6=\"\",\"\",IF(COUNTIF(A:A,A6)>1,\"athlète inscrit plusieurs fois\",\"OK\"))","v":""},{"$f":"IF(A6=\"\",\"\",IF(X6=2,IF(OR(COUNTIF(I6:J6,\"X\")>1,COUNTIF(K6:M6,\"X\")>1,COUNTIF(G6:H6,\"X\")>1),\"NON\",\"OK\"),\"\"))","v":""}]
[null,{"$f":"IFERROR(INDEX(Licenciés!B:B,MATCH($A7,Licenciés!$A:$A,0)),\"\")","v":""},{"$f":"IFERROR(INDEX(Licenciés!C:C,MATCH($A7,Licenciés!$A:$A,0)),\"\")","v":""},{"$f":"IFERROR(INDEX(Licenciés!D:D,MATCH($A7,Licenciés!$A:$A,0)),\"\")","v":""},{"$f":"IFERROR(INDEX(Licenciés!E:E,MATCH($A7,Licenciés!$A:$A,0)),\"\")","v":""},null,null,null,null,null,null,null,null,null,null,null,null,null,null,null,null,null,{"$f":"IF(A7=\"\",\"\",IF(X7=3,IF(OR(AND(COUNTIF(N7:V7,\"X\")<2,COUNTIF(G7:H7,\"X\")<2,COUNTIF(I7:J7,\"X\")<2,COUNTIF(K7:M7,\"X\")<2,COUNTIF(G7:M7,\"X\")<3),AND(COUNTIF(N7:V7,\"X\")<3,COUNTIF(G7:M7,\"X\")<2))=TRUE,\"OK\",\"NON\"),IF(X7>3,\"NON\",\"\")))","v":""},"","","",{"$f":"IF(A7=\"\",\"\",IF(X7=2,IF(OR(COUNTIF(I7:J7,\"X\")>1,COUNTIF(K7:M7,\"X\")>1,COUNTIF(G7:H7,\"X\")>1),\"NON\",\"OK\"),\"\"))","v":""}]
[null,{"$f":"IFERROR(INDEX(Licenciés!B:B,MATCH($A8,Licenciés!$A:$A,0)),\"\")","v":""},{"$f":"IFERROR(INDEX(Licenciés!C:C,MATCH($A8,Licenciés!$A:$A,0)),\"\")","v":""},{"$f":"IFERROR(INDEX(Licenciés!D:D,MATCH($A8,Licenciés!$A:$A,0)),\"\")","v":""},{"$f":"IFERROR(INDEX(Licenciés!E:E,MATCH($A8,Licenciés!$A:$A,0)),\"\")","v":""},null,null,null,null,null,null,null,null,null,null,null,null,null,null,null,null,null,"","","","",""]
[null,{"$f":"IFERROR(INDEX(Licenciés!B:B,MATCH($A9,Licenciés!$A:$A,0)),\"\")","v":""},{"$f":"IFERROR(INDEX(Licenciés!C:C,MATCH($A9,Licenciés!$A:$A,0)),\"\")","v":""},{"$f":"IFERROR(INDEX(Licenciés!D:D,MATCH($A9,Licenciés!$A:$A,0)),\"\")","v":""},{"$f":"IFERROR(INDEX(Licenciés!E:E,MATCH($A9,Licenciés!$A:$A,0)),\"\")","v":""},null,null,null,null,null,null,null,null,null,null,null,null,null,null,null,null,null,"","","","",""]
[null,{"$f":"IFERROR(INDEX(Licenciés!B:B,MATCH($A10,Licenciés!$A:$A,0)),\"\")","v":""},{"$f":"IFERROR(INDEX(Licenciés!C:C,MATCH($A10,Licenciés!$A:$A,0)),\"\")","v":""},{"$f":"IFERROR(INDEX(Licenciés!D:D,MATCH($A10,Licenciés!$A:$A,0)),\"\")","v":""},{"$f":"IFERROR(INDEX(Licenciés!E:E,MATCH($A10,Licenciés!$A:$A,0)),\"\")","v":""},null,null,null,null,null,null,null,null,null,null,null,null,null,null,null,null,null,"","","","",""]
[null,{"$f":"IFERROR(INDEX(Licenciés!B:B,MATCH($A11,Licenciés!$A:$A,0)),\"\")","v":""},{"$f":"IFERROR(INDEX(Licenciés!C:C,MATCH($A11,Licenciés!$A:$A,0)),\"\")","v":""},{"$f":"IFERROR(INDEX(Licenciés!D:D,MATCH($A11,Licenciés!$A:$A,0)),\"\")","v":""},{"$f":"IFERROR(INDEX(Licenciés!E:E,MATCH($A11,Licenciés!$A:$A,0)),\"\")","v":""},null,null,null,null,null,null,null,null,null,null,null,null,null,null,null,null,null,"","","","",""]
[null,{"$f":"IFERROR(INDEX(Licenciés!B:B,MATCH($A12,Licenciés!$A:$A,0)),\"\")","v":""},{"$f":"IFERROR(INDEX(Licenciés!C:C,MATCH($A12,Licenciés!$A:$A,0)),\"\")","v":""},{"$f":"IFERROR(INDEX(Licenciés!D:D,MATCH($A12,Licenciés!$A:$A,0)),\"\")","v":""},{"$f":"IFERROR(INDEX(Licenciés!E:E,MATCH($A12,Licenciés!$A:$A,0)),\"\")","v":""},null,null,null,null,null,null,null,null,null,null,null,null,null,null,null,null,null,"","","","",""]
[null,{"$f":"IFERROR(INDEX(Licenciés!B:B,MATCH($A13,Licenciés!$A:$A,0)),\"\")","v":""},{"$f":"IFERROR(INDEX(Licenciés!C:C,MATCH($A13,Licenciés!$A:$A,0)),\"\")","v":""},{"$f":"IFERROR(INDEX(Licenciés!D:D,MATCH($A13,Licenciés!$A:$A,0)),\"\")","v":""},{"$f":"IFERROR(INDEX(Licenciés!E:E,MATCH($A13,Licenciés!$A:$A,0)),\"\")","v":""},null,null,null,null,null,null,null,null,null,null,null,null,null,null,null,null,null,"","",null,null,""]
[null,{"$f":"IFERROR(INDEX(Licenciés!B:B,MATCH($A14,Licenciés!$A:$A,0)),\"\")","v":""},{"$f":"IFERROR(INDEX(Licenciés!C:C,MATCH($A14,Licenciés!$A:$A,0)),\"\")","v":""},{"$f":"IFERROR(INDEX(Licenciés!D:D,MATCH($A14,Licenciés!$A:$A,0)),\"\")","v":""},{"$f":"IFERROR(INDEX(Licenciés!E:E,MATCH($A14,Licenciés!$A:$A,0)),\"\")","v":""},null,null,null,null,null,null,null,null,null,null,null,null,null,null,null,null,null,"","",null,null,""]
[null,{"$f":"IFERROR(INDEX(Licenciés!B:B,MATCH($A15,Licenciés!$A:$A,0)),\"\")","v":""},{"$f":"IFERROR(INDEX(Licenciés!C:C,MATCH($A15,Licenciés!$A:$A,0)),\"\")","v":""},{"$f":"IFERROR(INDEX(Licenciés!D:D,MATCH($A15,Licenciés!$A:$A,0)),\"\")","v":""},{"$f":"IFERROR(INDEX(Licenciés!E:E,MATCH($A15,Licenciés!$A:$A,0)),\"\")","v":""},null,null,null,null,null,null,null,null,null,null,null,null,null,null,null,null,null,"","",{"$f":"IF(D15=\"\",\"\",(IF(D15=\"MI\",\"OK\",\"NON\")))","v":""},{"$f":"IF(A15=\"\",\"\",IF(COUNTIF(A:A,A15)>1,\"athlète inscrit plusieurs fois\",\"OK\"))","v":""},""]
[null,{"$f":"IFERROR(INDEX(Licenciés!B:B,MATCH($A16,Licenciés!$A:$A,0)),\"\")","v":""},{"$f":"IFERROR(INDEX(Licenciés!C:C,MATCH($A16,Licenciés!$A:$A,0)),\"\")","v":""},{"$f":"IFERROR(INDEX(Licenciés!D:D,MATCH($A16,Licenciés!$A:$A,0)),\"\")","v":""},{"$f":"IFERROR(INDEX(Licenciés!E:E,MATCH($A16,Licenciés!$A:$A,0)),\"\")","v":""},null,null,null,null,null,null,null,null,null,null,null,null,null,null,null,null,null,"","","","",""]
[null,{"$f":"IFERROR(INDEX(Licenciés!B:B,MATCH($A17,Licenciés!$A:$A,0)),\"\")","v":""},{"$f":"IFERROR(INDEX(Licenciés!C:C,MATCH($A17,Licenciés!$A:$A,0)),\"\")","v":""},{"$f":"IFERROR(INDEX(Licenciés!D:D,MATCH($A17,Licenciés!$A:$A,0)),\"\")","v":""},{"$f":"IFERROR(INDEX(Licenciés!E:E,MATCH($A17,Licenciés!$A:$A,0)),\"\")","v":""},null,null,null,null,null,null,null,null,null,null,null,null,null,null,null,null,null,"","","","",""]
[null,{"$f":"IFERROR(INDEX(Licenciés!B:B,MATCH($A18,Licenciés!$A:$A,0)),\"\")","v":""},{"$f":"IFERROR(INDEX(Licenciés!C:C,MATCH($A18,Licenciés!$A:$A,0)),\"\")","v":""},{"$f":"IFERROR(INDEX(Licenciés!D:D,MATCH($A18,Licenciés!$A:$A,0)),\"\")","v":""},{"$f":"IFERROR(INDEX(Licenciés!E:E,MATCH($A18,Licenciés!$A:$A,0)),\"\")","v":""},null,null,null,null,null,null,null,null,null,null,null,null,null,null,null,null,null,"","","","",""]
[null,{"$f":"IFERROR(INDEX(Licenciés!B:B,MATCH($A19,Licenciés!$A:$A,0)),\"\")","v":""},{"$f":"IFERROR(INDEX(Licenciés!C:C,MATCH($A19,Licenciés!$A:$A,0)),\"\")","v":""},{"$f":"IFERROR(INDEX(Licenciés!D:D,MATCH($A19,Licenciés!$A:$A,0)),\"\")","v":""},{"$f":"IFERROR(INDEX(Licenciés!E:E,MATCH($A19,Licenciés!$A:$A,0)),\"\")","v":""},null,null,null,null,null,null,null,null,null,null,null,null,null,null,null,null,null,"","","","",""]
[null,{"$f":"IFERROR(INDEX(Licenciés!B:B,MATCH($A20,Licenciés!$A:$A,0)),\"\")","v":""},{"$f":"IFERROR(INDEX(Licenciés!C:C,MATCH($A20,Licenciés!$A:$A,0)),\"\")","v":""},{"$f":"IFERROR(INDEX(Licenciés!D:D,MATCH($A20,Licenciés!$A:$A,0)),\"\")","v":""},{"$f":"IFERROR(INDEX(Licenciés!E:E,MATCH($A20,Licenciés!$A:$A,0)),\"\")","v":""},null,null,null,null,null,null,null,null,null,null,null,null,null,null,null,null,null,"","","","",""]
[null,{"$f":"IFERROR(INDEX(Licenciés!B:B,MATCH($A21,Licenciés!$A:$A,0)),\"\")","v":""},{"$f":"IFERROR(INDEX(Licenciés!C:C,MATCH($A21,Licenciés!$A:$A,0)),\"\")","v":""},{"$f":"IFERROR(INDEX(Licenciés!D:D,MATCH($A21,Licenciés!$A:$A,0)),\"\")","v":""},{"$f":"IFERROR(INDEX(Licenciés!E:E,MATCH($A21,Licenciés!$A:$A,0)),\"\")","v":""},null,null,null,null,null,null,null,null,null,null,null,null,null,null,null,null,null,"","","","",""]
[null,{"$f":"IFERROR(INDEX(Licenciés!B:B,MATCH($A22,Licenciés!$A:$A,0)),\"\")","v":""},{"$f":"IFERROR(INDEX(Licenciés!C:C,MATCH($A22,Licenciés!$A:$A,0)),\"\")","v":""},{"$f":"IFERROR(INDEX(Licenciés!D:D,MATCH($A22,Licenciés!$A:$A,0)),\"\")","v":""},{"$f":"IFERROR(INDEX(Licenciés!E:E,MATCH($A22,Licenciés!$A:$A,0)),\"\")","v":""},null,null,null,null,null,null,null,null,null,null,null,null,null,null,null,null,null,"","","","",""]
[null,{"$f":"IFERROR(INDEX(Licenciés!B:B,MATCH($A23,Licenciés!$A:$A,0)),\"\")","v":""},{"$f":"IFERROR(INDEX(Licenciés!C:C,MATCH($A23,Licenciés!$A:$A,0)),\"\")","v":""},{"$f":"IFERROR(INDEX(Licenciés!D:D,MATCH($A23,Licenciés!$A:$A,0)),\"\")","v":""},{"$f":"IFERROR(INDEX(Licenciés!E:E,MATCH($A23,Licenciés!$A:$A,0)),\"\")","v":""},null,null,null,null,null,null,null,null,null,null,null,null,null,null,null,null,null,"","","","",""]
[null,{"$f":"IFERROR(INDEX(Licenciés!B:B,MATCH($A24,Licenciés!$A:$A,0)),\"\")","v":""},{"$f":"IFERROR(INDEX(Licenciés!C:C,MATCH($A24,Licenciés!$A:$A,0)),\"\")","v":""},{"$f":"IFERROR(INDEX(Licenciés!D:D,MATCH($A24,Licenciés!$A:$A,0)),\"\")","v":""},{"$f":"IFERROR(INDEX(Licenciés!E:E,MATCH($A24,Licenciés!$A:$A,0)),\"\")","v":""},null,null,null,null,null,null,null,null,null,null,null,null,null,null,null,null,null,"","","","",""]
[null,{"$f":"IFERROR(INDEX(Licenciés!B:B,MATCH($A25,Licenciés!$A:$A,0)),\"\")","v":""},{"$f":"IFERROR(INDEX(Licenciés!C:C,MATCH($A25,Licenciés!$A:$A,0)),\"\")","v":""},{"$f":"IFERROR(INDEX(Licenciés!D:D,MATCH($A25,Licenciés!$A:$A,0)),\"\")","v":""},{"$f":"IFERROR(INDEX(Licenciés!E:E,MATCH($A25,Licenciés!$A:$A,0)),\"\")","v":""},null,null,null,null,null,null,null,null,null,null,null,null,null,null,null,null,null,"","","","",""]
[null,{"$f":"IFERROR(INDEX(Licenciés!B:B,MATCH($A26,Licenciés!$A:$A,0)),\"\")","v":""},{"$f":"IFERROR(INDEX(Licenciés!C:C,MATCH($A26,Licenciés!$A:$A,0)),\"\")","v":""},{"$f":"IFERROR(INDEX(Licenciés!D:D,MATCH($A26,Licenciés!$A:$A,0)),\"\")","v":""},{"$f":"IFERROR(INDEX(Licenciés!E:E,MATCH($A26,Licenciés!$A:$A,0)),\"\")","v":""},null,null,null,null,null,null,null,null,null,null,null,null,null,null,null,null,null,"","","","",""]
[null,{"$f":"IFERROR(INDEX(Licenciés!B:B,MATCH($A27,Licenciés!$A:$A,0)),\"\")","v":""},{"$f":"IFERROR(INDEX(Licenciés!C:C,MATCH($A27,Licenciés!$A:$A,0)),\"\")","v":""},{"$f":"IFERROR(INDEX(Licenciés!D:D,MATCH($A27,Licenciés!$A:$A,0)),\"\")","v":""},{"$f":"IFERROR(INDEX(Licenciés!E:E,MATCH($A27,Licenciés!$A:$A,0)),\"\")","v":""},null,null,null,null,null,null,null,null,null,null,null,null,null,null,null,null,null,"","","","",""]
[null,{"$f":"IFERROR(INDEX(Licenciés!B:B,MATCH($A28,Licenciés!$A:$A,0)),\"\")","v":""},{"$f":"IFERROR(INDEX(Licenciés!C:C,MATCH($A28,Licenciés!$A:$A,0)),\"\")","v":""},{"$f":"IFERROR(INDEX(Licenciés!D:D,MATCH($A28,Licenciés!$A:$A,0)),\"\")","v":""},{"$f":"IFERROR(INDEX(Licenciés!E:E,MATCH($A28,Licenciés!$A:$A,0)),\"\")","v":""},null,null,null,null,null,null,null,null,null,null,null,null,null,null,null,null,null,"","","","",""]
[null,{"$f":"IFERROR(INDEX(Licenciés!B:B,MATCH($A29,Licenciés!$A:$A,0)),\"\")","v":""},{"$f":"IFERROR(INDEX(Licenciés!C:C,MATCH($A29,Licenciés!$A:$A,0)),\"\")","v":""},{"$f":"IFERROR(INDEX(Licenciés!D:D,MATCH($A29,Licenciés!$A:$A,0)),\"\")","v":""},{"$f":"IFERROR(INDEX(Licenciés!E:E,MATCH($A29,Licenciés!$A:$A,0)),\"\")","v":""},null,null,null,null,null,null,null,null,null,null,null,null,null,null,null,null,null,"","","","",""]
[null,{"$f":"IFERROR(INDEX(Licenciés!B:B,MATCH($A30,Licenciés!$A:$A,0)),\"\")","v":""},{"$f":"IFERROR(INDEX(Licenciés!C:C,MATCH($A30,Licenciés!$A:$A,0)),\"\")","v":""},{"$f":"IFERROR(INDEX(Licenciés!D:D,MATCH($A30,Licenciés!$A:$A,0)),\"\")","v":""},{"$f":"IFERROR(INDEX(Licenciés!E:E,MATCH($A30,Licenciés!$A:$A,0)),\"\")","v":""},null,null,null,null,null,null,null,null,null,null,null,null,null,null,null,null,null,"","","","",""]
[null,{"$f":"IFERROR(INDEX(Licenciés!B:B,MATCH($A31,Licenciés!$A:$A,0)),\"\")","v":""},{"$f":"IFERROR(INDEX(Licenciés!C:C,MATCH($A31,Licenciés!$A:$A,0)),\"\")","v":""},{"$f":"IFERROR(INDEX(Licenciés!D:D,MATCH($A31,Licenciés!$A:$A,0)),\"\")","v":""},{"$f":"IFERROR(INDEX(Licenciés!E:E,MATCH($A31,Licenciés!$A:$A,0)),\"\")","v":""},null,null,null,null,null,null,null,null,null,null,null,null,null,null,null,null,null,"","","","",""]
[null,{"$f":"IFERROR(INDEX(Licenciés!B:B,MATCH($A32,Licenciés!$A:$A,0)),\"\")","v":""},{"$f":"IFERROR(INDEX(Licenciés!C:C,MATCH($A32,Licenciés!$A:$A,0)),\"\")","v":""},{"$f":"IFERROR(INDEX(Licenciés!D:D,MATCH($A32,Licenciés!$A:$A,0)),\"\")","v":""},{"$f":"IFERROR(INDEX(Licenciés!E:E,MATCH($A32,Licenciés!$A:$A,0)),\"\")","v":""},null,null,null,null,null,null,null,null,null,null,null,null,null,null,null,null,null,"","","","",""]
[null,{"$f":"IFERROR(INDEX(Licenciés!B:B,MATCH($A33,Licenciés!$A:$A,0)),\"\")","v":""},{"$f":"IFERROR(INDEX(Licenciés!C:C,MATCH($A33,Licenciés!$A:$A,0)),\"\")","v":""},{"$f":"IFERROR(INDEX(Licenciés!D:D,MATCH($A33,Licenciés!$A:$A,0)),\"\")","v":""},{"$f":"IFERROR(INDEX(Licenciés!E:E,MATCH($A33,Licenciés!$A:$A,0)),\"\")","v":""},null,null,null,null,null,null,null,null,null,null,null,null,null,null,null,null,null,"","","","",""]
[null,{"$f":"IFERROR(INDEX(Licenciés!B:B,MATCH($A34,Licenciés!$A:$A,0)),\"\")","v":""},{"$f":"IFERROR(INDEX(Licenciés!C:C,MATCH($A34,Licenciés!$A:$A,0)),\"\")","v":""},{"$f":"IFERROR(INDEX(Licenciés!D:D,MATCH($A34,Licenciés!$A:$A,0)),\"\")","v":""},{"$f":"IFERROR(INDEX(Licenciés!E:E,MATCH($A34,Licenciés!$A:$A,0)),\"\")","v":""},null,null,null,null,null,null,null,null,null,null,null,null,null,null,null,null,null,"","","","",""]
[null,{"$f":"IFERROR(INDEX(Licenciés!B:B,MATCH($A35,Licenciés!$A:$A,0)),\"\")","v":""},{"$f":"IFERROR(INDEX(Licenciés!C:C,MATCH($A35,Licenciés!$A:$A,0)),\"\")","v":""},{"$f":"IFERROR(INDEX(Licenciés!D:D,MATCH($A35,Licenciés!$A:$A,0)),\"\")","v":""},{"$f":"IFERROR(INDEX(Licenciés!E:E,MATCH($A35,Licenciés!$A:$A,0)),\"\")","v":""},null,null,null,null,null,null,null,null,null,null,null,null,null,null,null,null,null,"","","","",""]
[null,{"$f":"IFERROR(INDEX(Licenciés!B:B,MATCH($A36,Licenciés!$A:$A,0)),\"\")","v":""},{"$f":"IFERROR(INDEX(Licenciés!C:C,MATCH($A36,Licenciés!$A:$A,0)),\"\")","v":""},{"$f":"IFERROR(INDEX(Licenciés!D:D,MATCH($A36,Licenciés!$A:$A,0)),\"\")","v":""},{"$f":"IFERROR(INDEX(Licenciés!E:E,MATCH($A36,Licenciés!$A:$A,0)),\"\")","v":""},null,null,null,null,null,null,null,null,null,null,null,null,null,null,null,null,null,"","","","",""]
[null,{"$f":"IFERROR(INDEX(Licenciés!B:B,MATCH($A37,Licenciés!$A:$A,0)),\"\")","v":""},{"$f":"IFERROR(INDEX(Licenciés!C:C,MATCH($A37,Licenciés!$A:$A,0)),\"\")","v":""},{"$f":"IFERROR(INDEX(Licenciés!D:D,MATCH($A37,Licenciés!$A:$A,0)),\"\")","v":""},{"$f":"IFERROR(INDEX(Licenciés!E:E,MATCH($A37,Licenciés!$A:$A,0)),\"\")","v":""},null,null,null,null,null,null,null,null,null,null,null,null,null,null,null,null,null,"","","","",""]
[null,{"$f":"IFERROR(INDEX(Licenciés!B:B,MATCH($A38,Licenciés!$A:$A,0)),\"\")","v":""},{"$f":"IFERROR(INDEX(Licenciés!C:C,MATCH($A38,Licenciés!$A:$A,0)),\"\")","v":""},{"$f":"IFERROR(INDEX(Licenciés!D:D,MATCH($A38,Licenciés!$A:$A,0)),\"\")","v":""},{"$f":"IFERROR(INDEX(Licenciés!E:E,MATCH($A38,Licenciés!$A:$A,0)),\"\")","v":""},null,null,null,null,null,null,null,null,null,null,null,null,null,null,null,null,null,"","","","",""]
[null,{"$f":"IFERROR(INDEX(Licenciés!B:B,MATCH($A39,Licenciés!$A:$A,0)),\"\")","v":""},{"$f":"IFERROR(INDEX(Licenciés!C:C,MATCH($A39,Licenciés!$A:$A,0)),\"\")","v":""},{"$f":"IFERROR(INDEX(Licenciés!D:D,MATCH($A39,Licenciés!$A:$A,0)),\"\")","v":""},{"$f":"IFERROR(INDEX(Licenciés!E:E,MATCH($A39,Licenciés!$A:$A,0)),\"\")","v":""},null,null,null,null,null,null,null,null,null,null,null,null,null,null,null,null,null,"","","","",""]
[null,{"$f":"IFERROR(INDEX(Licenciés!B:B,MATCH($A40,Licenciés!$A:$A,0)),\"\")","v":""},{"$f":"IFERROR(INDEX(Licenciés!C:C,MATCH($A40,Licenciés!$A:$A,0)),\"\")","v":""},{"$f":"IFERROR(INDEX(Licenciés!D:D,MATCH($A40,Licenciés!$A:$A,0)),\"\")","v":""},{"$f":"IFERROR(INDEX(Licenciés!E:E,MATCH($A40,Licenciés!$A:$A,0)),\"\")","v":""},null,null,null,null,null,null,null,null,null,null,null,null,null,null,null,null,null,"","","","",""]
[null,{"$f":"IFERROR(INDEX(Licenciés!B:B,MATCH($A41,Licenciés!$A:$A,0)),\"\")","v":""},{"$f":"IFERROR(INDEX(Licenciés!C:C,MATCH($A41,Licenciés!$A:$A,0)),\"\")","v":""},{"$f":"IFERROR(INDEX(Licenciés!D:D,MATCH($A41,Licenciés!$A:$A,0)),\"\")","v":""},{"$f":"IFERROR(INDEX(Licenciés!E:E,MATCH($A41,Licenciés!$A:$A,0)),\"\")","v":""},null,null,null,null,null,null,null,null,null,null,null,null,null,null,null,null,null,"","","","",""]
[null,{"$f":"IFERROR(INDEX(Licenciés!B:B,MATCH($A42,Licenciés!$A:$A,0)),\"\")","v":""},{"$f":"IFERROR(INDEX(Licenciés!C:C,MATCH($A42,Licenciés!$A:$A,0)),\"\")","v":""},{"$f":"IFERROR(INDEX(Licenciés!D:D,MATCH($A42,Licenciés!$A:$A,0)),\"\")","v":""},{"$f":"IFERROR(INDEX(Licenciés!E:E,MATCH($A42,Licenciés!$A:$A,0)),\"\")","v":""},null,null,null,null,null,null,null,null,null,null,null,null,null,null,null,null,null,"","","","",""]
[null,{"$f":"IFERROR(INDEX(Licenciés!B:B,MATCH($A43,Licenciés!$A:$A,0)),\"\")","v":""},{"$f":"IFERROR(INDEX(Licenciés!C:C,MATCH($A43,Licenciés!$A:$A,0)),\"\")","v":""},{"$f":"IFERROR(INDEX(Licenciés!D:D,MATCH($A43,Licenciés!$A:$A,0)),\"\")","v":""},{"$f":"IFERROR(INDEX(Licenciés!E:E,MATCH($A43,Licenciés!$A:$A,0)),\"\")","v":""},null,null,null,null,null,null,null,null,null,null,null,null,null,null,null,null,null,"","","","",""]
[null,{"$f":"IFERROR(INDEX(Licenciés!B:B,MATCH($A44,Licenciés!$A:$A,0)),\"\")","v":""},{"$f":"IFERROR(INDEX(Licenciés!C:C,MATCH($A44,Licenciés!$A:$A,0)),\"\")","v":""},{"$f":"IFERROR(INDEX(Licenciés!D:D,MATCH($A44,Licenciés!$A:$A,0)),\"\")","v":""},{"$f":"IFERROR(INDEX(Licenciés!E:E,MATCH($A44,Licenciés!$A:$A,0)),\"\")","v":""},null,null,null,null,null,null,null,null,null,null,null,null,null,null,null,null,null,"","","","",""]
[null,{"$f":"IFERROR(INDEX(Licenciés!B:B,MATCH($A45,Licenciés!$A:$A,0)),\"\")","v":""},{"$f":"IFERROR(INDEX(Licenciés!C:C,MATCH($A45,Licenciés!$A:$A,0)),\"\")","v":""},{"$f":"IFERROR(INDEX(Licenciés!D:D,MATCH($A45,Licenciés!$A:$A,0)),\"\")","v":""},{"$f":"IFERROR(INDEX(Licenciés!E:E,MATCH($A45,Licenciés!$A:$A,0)),\"\")","v":""},null,null,null,null,null,null,null,null,null,null,null,null,null,null,null,null,null,"","","","",""]
[null,{"$f":"IFERROR(INDEX(Licenciés!B:B,MATCH($A46,Licenciés!$A:$A,0)),\"\")","v":""},{"$f":"IFERROR(INDEX(Licenciés!C:C,MATCH($A46,Licenciés!$A:$A,0)),\"\")","v":""},{"$f":"IFERROR(INDEX(Licenciés!D:D,MATCH($A46,Licenciés!$A:$A,0)),\"\")","v":""},{"$f":"IFERROR(INDEX(Licenciés!E:E,MATCH($A46,Licenciés!$A:$A,0)),\"\")","v":""},null,null,null,null,null,null,null,null,null,null,null,null,null,null,null,null,null,"","","","",""]
[null,{"$f":"IFERROR(INDEX(Licenciés!B:B,MATCH($A47,Licenciés!$A:$A,0)),\"\")","v":""},{"$f":"IFERROR(INDEX(Licenciés!C:C,MATCH($A47,Licenciés!$A:$A,0)),\"\")","v":""},{"$f":"IFERROR(INDEX(Licenciés!D:D,MATCH($A47,Licenciés!$A:$A,0)),\"\")","v":""},{"$f":"IFERROR(INDEX(Licenciés!E:E,MATCH($A47,Licenciés!$A:$A,0)),\"\")","v":""},null,null,null,null,null,null,null,null,null,null,null,null,null,null,null,null,null,"","","","",""]
[null,{"$f":"IFERROR(INDEX(Licenciés!B:B,MATCH($A48,Licenciés!$A:$A,0)),\"\")","v":""},{"$f":"IFERROR(INDEX(Licenciés!C:C,MATCH($A48,Licenciés!$A:$A,0)),\"\")","v":""},{"$f":"IFERROR(INDEX(Licenciés!D:D,MATCH($A48,Licenciés!$A:$A,0)),\"\")","v":""},{"$f":"IFERROR(INDEX(Licenciés!E:E,MATCH($A48,Licenciés!$A:$A,0)),\"\")","v":""},null,null,null,null,null,null,null,null,null,null,null,null,null,null,null,null,null,"","","","",""]
[null,{"$f":"IFERROR(INDEX(Licenciés!B:B,MATCH($A49,Licenciés!$A:$A,0)),\"\")","v":""},{"$f":"IFERROR(INDEX(Licenciés!C:C,MATCH($A49,Licenciés!$A:$A,0)),\"\")","v":""},{"$f":"IFERROR(INDEX(Licenciés!D:D,MATCH($A49,Licenciés!$A:$A,0)),\"\")","v":""},{"$f":"IFERROR(INDEX(Licenciés!E:E,MATCH($A49,Licenciés!$A:$A,0)),\"\")","v":""},null,null,null,null,null,null,null,null,null,null,null,null,null,null,null,null,null,"","","","",""]
[null,{"$f":"IFERROR(INDEX(Licenciés!B:B,MATCH($A50,Licenciés!$A:$A,0)),\"\")","v":""},{"$f":"IFERROR(INDEX(Licenciés!C:C,MATCH($A50,Licenciés!$A:$A,0)),\"\")","v":""},{"$f":"IFERROR(INDEX(Licenciés!D:D,MATCH($A50,Licenciés!$A:$A,0)),\"\")","v":""},{"$f":"IFERROR(INDEX(Licenciés!E:E,MATCH($A50,Licenciés!$A:$A,0)),\"\")","v":""},null,null,null,null,null,null,null,null,null,null,null,null,null,null,null,null,null,"","","","",""]
[null,{"$f":"IFERROR(INDEX(Licenciés!B:B,MATCH($A51,Licenciés!$A:$A,0)),\"\")","v":""},{"$f":"IFERROR(INDEX(Licenciés!C:C,MATCH($A51,Licenciés!$A:$A,0)),\"\")","v":""},{"$f":"IFERROR(INDEX(Licenciés!D:D,MATCH($A51,Licenciés!$A:$A,0)),\"\")","v":""},{"$f":"IFERROR(INDEX(Licenciés!E:E,MATCH($A51,Licenciés!$A:$A,0)),\"\")","v":""},null,null,null,null,null,null,null,null,null,null,null,null,null,null,null,null,null,"","","","",""]
[null,{"$f":"IFERROR(INDEX(Licenciés!B:B,MATCH($A52,Licenciés!$A:$A,0)),\"\")","v":""},{"$f":"IFERROR(INDEX(Licenciés!C:C,MATCH($A52,Licenciés!$A:$A,0)),\"\")","v":""},{"$f":"IFERROR(INDEX(Licenciés!D:D,MATCH($A52,Licenciés!$A:$A,0)),\"\")","v":""},{"$f":"IFERROR(INDEX(Licenciés!E:E,MATCH($A52,Licenciés!$A:$A,0)),\"\")","v":""},null,null,null,null,null,null,null,null,null,null,null,null,null,null,null,null,null,"","","","",""]
[null,{"$f":"IFERROR(INDEX(Licenciés!B:B,MATCH($A53,Licenciés!$A:$A,0)),\"\")","v":""},{"$f":"IFERROR(INDEX(Licenciés!C:C,MATCH($A53,Licenciés!$A:$A,0)),\"\")","v":""},{"$f":"IFERROR(INDEX(Licenciés!D:D,MATCH($A53,Licenciés!$A:$A,0)),\"\")","v":""},{"$f":"IFERROR(INDEX(Licenciés!E:E,MATCH($A53,Licenciés!$A:$A,0)),\"\")","v":""},null,null,null,null,null,null,null,null,null,null,null,null,null,null,null,null,null,"","","","",""]
[null,{"$f":"IFERROR(INDEX(Licenciés!B:B,MATCH($A54,Licenciés!$A:$A,0)),\"\")","v":""},{"$f":"IFERROR(INDEX(Licenciés!C:C,MATCH($A54,Licenciés!$A:$A,0)),\"\")","v":""},{"$f":"IFERROR(INDEX(Licenciés!D:D,MATCH($A54,Licenciés!$A:$A,0)),\"\")","v":""},{"$f":"IFERROR(INDEX(Licenciés!E:E,MATCH($A54,Licenciés!$A:$A,0)),\"\")","v":""},null,null,null,null,null,null,null,null,null,null,null,null,null,null,null,null,null,"","","","",""]
[null,{"$f":"IFERROR(INDEX(Licenciés!B:B,MATCH($A55,Licenciés!$A:$A,0)),\"\")","v":""},{"$f":"IFERROR(INDEX(Licenciés!C:C,MATCH($A55,Licenciés!$A:$A,0)),\"\")","v":""},{"$f":"IFERROR(INDEX(Licenciés!D:D,MATCH($A55,Licenciés!$A:$A,0)),\"\")","v":""},{"$f":"IFERROR(INDEX(Licenciés!E:E,MATCH($A55,Licenciés!$A:$A,0)),\"\")","v":""},null,null,null,null,null,null,null,null,null,null,null,null,null,null,null,null,null,"","","","",""]
[null,{"$f":"IFERROR(INDEX(Licenciés!B:B,MATCH($A56,Licenciés!$A:$A,0)),\"\")","v":""},{"$f":"IFERROR(INDEX(Licenciés!C:C,MATCH($A56,Licenciés!$A:$A,0)),\"\")","v":""},{"$f":"IFERROR(INDEX(Licenciés!D:D,MATCH($A56,Licenciés!$A:$A,0)),\"\")","v":""},{"$f":"IFERROR(INDEX(Licenciés!E:E,MATCH($A56,Licenciés!$A:$A,0)),\"\")","v":""},null,null,null,null,null,null,null,null,null,null,null,null,null,null,null,null,null,"","","","",""]
[null,{"$f":"IFERROR(INDEX(Licenciés!B:B,MATCH($A57,Licenciés!$A:$A,0)),\"\")","v":""},{"$f":"IFERROR(INDEX(Licenciés!C:C,MATCH($A57,Licenciés!$A:$A,0)),\"\")","v":""},{"$f":"IFERROR(INDEX(Licenciés!D:D,MATCH($A57,Licenciés!$A:$A,0)),\"\")","v":""},{"$f":"IFERROR(INDEX(Licenciés!E:E,MATCH($A57,Licenciés!$A:$A,0)),\"\")","v":""},null,null,null,null,null,null,null,null,null,null,null,null,null,null,null,null,null,"","","","",""]
[null,{"$f":"IFERROR(INDEX(Licenciés!B:B,MATCH($A58,Licenciés!$A:$A,0)),\"\")","v":""},{"$f":"IFERROR(INDEX(Licenciés!C:C,MATCH($A58,Licenciés!$A:$A,0)),\"\")","v":""},{"$f":"IFERROR(INDEX(Licenciés!D:D,MATCH($A58,Licenciés!$A:$A,0)),\"\")","v":""},{"$f":"IFERROR(INDEX(Licenciés!E:E,MATCH($A58,Licenciés!$A:$A,0)),\"\")","v":""},null,null,null,null,null,null,null,null,null,null,null,null,null,null,null,null,null,"","","","",""]
[null,{"$f":"IFERROR(INDEX(Licenciés!B:B,MATCH($A59,Licenciés!$A:$A,0)),\"\")","v":""},{"$f":"IFERROR(INDEX(Licenciés!C:C,MATCH($A59,Licenciés!$A:$A,0)),\"\")","v":""},{"$f":"IFERROR(INDEX(Licenciés!D:D,MATCH($A59,Licenciés!$A:$A,0)),\"\")","v":""},{"$f":"IFERROR(INDEX(Licenciés!E:E,MATCH($A59,Licenciés!$A:$A,0)),\"\")","v":""},null,null,null,null,null,null,null,null,null,null,null,null,null,null,null,null,null,"","","","",""]
[null,{"$f":"IFERROR(INDEX(Licenciés!B:B,MATCH($A60,Licenciés!$A:$A,0)),\"\")","v":""},{"$f":"IFERROR(INDEX(Licenciés!C:C,MATCH($A60,Licenciés!$A:$A,0)),\"\")","v":""},{"$f":"IFERROR(INDEX(Licenciés!D:D,MATCH($A60,Licenciés!$A:$A,0)),\"\")","v":""},{"$f":"IFERROR(INDEX(Licenciés!E:E,MATCH($A60,Licenciés!$A:$A,0)),\"\")","v":""},null,null,null,null,null,null,null,null,null,null,null,null,null,null,null,null,null,"","","","",""]
[null,{"$f":"IFERROR(INDEX(Licenciés!B:B,MATCH($A61,Licenciés!$A:$A,0)),\"\")","v":""},{"$f":"IFERROR(INDEX(Licenciés!C:C,MATCH($A61,Licenciés!$A:$A,0)),\"\")","v":""},{"$f":"IFERROR(INDEX(Licenciés!D:D,MATCH($A61,Licenciés!$A:$A,0)),\"\")","v":""},{"$f":"IFERROR(INDEX(Licenciés!E:E,MATCH($A61,Licenciés!$A:$A,0)),\"\")","v":""},null,null,null,null,null,null,null,null,null,null,null,null,null,null,null,null,null,"","","","",""]
[null,{"$f":"IFERROR(INDEX(Licenciés!B:B,MATCH($A62,Licenciés!$A:$A,0)),\"\")","v":""},{"$f":"IFERROR(INDEX(Licenciés!C:C,MATCH($A62,Licenciés!$A:$A,0)),\"\")","v":""},{"$f":"IFERROR(INDEX(Licenciés!D:D,MATCH($A62,Licenciés!$A:$A,0)),\"\")","v":""},{"$f":"IFERROR(INDEX(Licenciés!E:E,MATCH($A62,Licenciés!$A:$A,0)),\"\")","v":""},null,null,null,null,null,null,null,null,null,null,null,null,null,null,null,null,null,"","","","",""]
[null,{"$f":"IFERROR(INDEX(Licenciés!B:B,MATCH($A63,Licenciés!$A:$A,0)),\"\")","v":""},{"$f":"IFERROR(INDEX(Licenciés!C:C,MATCH($A63,Licenciés!$A:$A,0)),\"\")","v":""},{"$f":"IFERROR(INDEX(Licenciés!D:D,MATCH($A63,Licenciés!$A:$A,0)),\"\")","v":""},{"$f":"IFERROR(INDEX(Licenciés!E:E,MATCH($A63,Licenciés!$A:$A,0)),\"\")","v":""},null,null,null,null,null,null,null,null,null,null,null,null,null,null,null,null,null,"","","","",""]
[null,{"$f":"IFERROR(INDEX(Licenciés!B:B,MATCH($A64,Licenciés!$A:$A,0)),\"\")","v":""},{"$f":"IFERROR(INDEX(Licenciés!C:C,MATCH($A64,Licenciés!$A:$A,0)),\"\")","v":""},{"$f":"IFERROR(INDEX(Licenciés!D:D,MATCH($A64,Licenciés!$A:$A,0)),\"\")","v":""},{"$f":"IFERROR(INDEX(Licenciés!E:E,MATCH($A64,Licenciés!$A:$A,0)),\"\")","v":""},null,null,null,null,null,null,null,null,null,null,null,null,null,null,null,null,null,"","","","",""]
[null,{"$f":"IFERROR(INDEX(Licenciés!B:B,MATCH($A65,Licenciés!$A:$A,0)),\"\")","v":""},{"$f":"IFERROR(INDEX(Licenciés!C:C,MATCH($A65,Licenciés!$A:$A,0)),\"\")","v":""},{"$f":"IFERROR(INDEX(Licenciés!D:D,MATCH($A65,Licenciés!$A:$A,0)),\"\")","v":""},{"$f":"IFERROR(INDEX(Licenciés!E:E,MATCH($A65,Licenciés!$A:$A,0)),\"\")","v":""},null,null,null,null,null,null,null,null,null,null,null,null,null,null,null,null,null,"","","","",""]
[null,{"$f":"IFERROR(INDEX(Licenciés!B:B,MATCH($A66,Licenciés!$A:$A,0)),\"\")","v":""},{"$f":"IFERROR(INDEX(Licenciés!C:C,MATCH($A66,Licenciés!$A:$A,0)),\"\")","v":""},{"$f":"IFERROR(INDEX(Licenciés!D:D,MATCH($A66,Licenciés!$A:$A,0)),\"\")","v":""},{"$f":"IFERROR(INDEX(Licenciés!E:E,MATCH($A66,Licenciés!$A:$A,0)),\"\")","v":""},null,null,null,null,null,null,null,null,null,null,null,null,null,null,null,null,null,"","","","",""]
[null,{"$f":"IFERROR(INDEX(Licenciés!B:B,MATCH($A67,Licenciés!$A:$A,0)),\"\")","v":""},{"$f":"IFERROR(INDEX(Licenciés!C:C,MATCH($A67,Licenciés!$A:$A,0)),\"\")","v":""},{"$f":"IFERROR(INDEX(Licenciés!D:D,MATCH($A67,Licenciés!$A:$A,0)),\"\")","v":""},{"$f":"IFERROR(INDEX(Licenciés!E:E,MATCH($A67,Licenciés!$A:$A,0)),\"\")","v":""},null,null,null,null,null,null,null,null,null,null,null,null,null,null,null,null,null,"","","","",""]
[null,{"$f":"IFERROR(INDEX(Licenciés!B:B,MATCH($A68,Licenciés!$A:$A,0)),\"\")","v":""},{"$f":"IFERROR(INDEX(Licenciés!C:C,MATCH($A68,Licenciés!$A:$A,0)),\"\")","v":""},{"$f":"IFERROR(INDEX(Licenciés!D:D,MATCH($A68,Licenciés!$A:$A,0)),\"\")","v":""},{"$f":"IFERROR(INDEX(Licenciés!E:E,MATCH($A68,Licenciés!$A:$A,0)),\"\")","v":""},null,null,null,null,null,null,null,null,null,null,null,null,null,null,null,null,null,"","","","",""]
[null,{"$f":"IFERROR(INDEX(Licenciés!B:B,MATCH($A69,Licenciés!$A:$A,0)),\"\")","v":""},{"$f":"IFERROR(INDEX(Licenciés!C:C,MATCH($A69,Licenciés!$A:$A,0)),\"\")","v":""},{"$f":"IFERROR(INDEX(Licenciés!D:D,MATCH($A69,Licenciés!$A:$A,0)),\"\")","v":""},{"$f":"IFERROR(INDEX(Licenciés!E:E,MATCH($A69,Licenciés!$A:$A,0)),\"\")","v":""},null,null,null,null,null,null,null,null,null,null,null,null,null,null,null,null,null,"","","","",""]
[null,{"$f":"IFERROR(INDEX(Licenciés!B:B,MATCH($A70,Licenciés!$A:$A,0)),\"\")","v":""},{"$f":"IFERROR(INDEX(Licenciés!C:C,MATCH($A70,Licenciés!$A:$A,0)),\"\")","v":""},{"$f":"IFERROR(INDEX(Licenciés!D:D,MATCH($A70,Licenciés!$A:$A,0)),\"\")","v":""},{"$f":"IFERROR(INDEX(Licenciés!E:E,MATCH($A70,Licenciés!$A:$A,0)),\"\")","v":""},null,null,null,null,null,null,null,null,null,null,null,null,null,null,null,null,null,"",{"$f":"IF(A70=\"\",\"\",COUNTIF(G70:U70,\"X\"))","v":""},"","",""]

{"sheet":"BENJAMINS ESTIVAL","index":2,"n_rows":70,"n_cols":24,"rows_kept":70,"cut":false,"hidden":false,"merged":[[0,0,0,1],[0,3,0,18],[1,3,1,18],[2,5,2,18],[3,6,3,9],[3,10,3,13],[3,14,3,17]]}
[null,null,null,"Equipe Athlé Automne / Printemps Benjamins U14"]
["N° club :",null,"Club:",null,null,null,null,null,null,null,null,null,null,null,null,null,null,null,null,"NIVEAU"]
[null,"Nom","Prénom","Cat","Sexe","Familles"]
[null,null,null,null,null,"Juge","Courses",null,null,null,"Sauts",null,null,null,"Lancers"]
["Licence",null,null,null,null,"Jeune Juge","50m","50m haies","1000m","2 000m Marche","Hauteur","Perche","Longueur","Triple saut","Poids","Disque","Marteau","Javelot",null,"Validité du triathlon","Nombre d'épreuve hors relais","Vérification catégorie BE","Vérification athlète unique","Vérification si 2 épreuves"]
[null,{"$f":"IFERROR(INDEX(Licenciés!B:B,MATCH($A6,Licenciés!$A:$A,0)),\"\")","v":""},{"$f":"IFERROR(INDEX(Licenciés!C:C,MATCH($A6,Licenciés!$A:$A,0)),\"\")","v":""},{"$f":"IFERROR(INDEX(Licenciés!D:D,MATCH($A6,Licenciés!$A:$A,0)),\"\")","v":""},{"$f":"IFERROR(INDEX(Licenciés!E:E,MATCH($A6,Licenciés!$A:$A,0)),\"\")","v":""},null,null,null,null,null,null,null,null,null,null,null,null,null,null,{"$f":"IF(A6=\"\",\"\",IF(U6=3,IF(AND(COUNTIF(G6:J6,\"X\")<2,COUNTIF(K6:N6,\"X\")<2,COUNTIF(O6:R6,\"X\")<2)=TRUE,\"OK\",\"NON\"),IF(U6>3,\"NON\",\"\")))","v":""},{"$f":"IF(A6=\"\",\"\",COUNTIF(G6:S6,\"X\"))","v":""},{"$f":"IF(D6=\"\",\"\",IF(D6=\"BE\",\"OK\",\"NON\"))","v":""},{"$f":"IF(A6=\"\",\"\",IF(COUNTIF(A:A,A6)>1,\"athlète inscrit plusieurs fois\",\"OK\"))","v":""},{"$f":"IF(U6=2,IF(OR(AND(COUNTIF(G6:J6,\"X\")=1,COUNTIF(K6:R6,\"X\")=1),AND(COUNTIF(G6:J6,\"X\")=0,COUNTIF(K6:N6,\"X\")=1,COUNTIF(O6:R6,\"X\")=1)),\"OK\",\"NON\"),\"\")","v":""}]
[null,{"$f":"IFERROR(INDEX(Licenciés!B:B,MATCH($A7,Licenciés!$A:$A,0)),\"\")","v":""},{"$f":"IFERROR(INDEX(Licenciés!C:C,MATCH($A7,Licenciés!$A:$A,0)),\"\")","v":""},{"$f":"IFERROR(INDEX(Licenciés!D:D,MATCH($A7,Licenciés!$A:$A,0)),\"\")","v":""},{"$f":"IFERROR(INDEX(Licenciés!E:E,MATCH($A7,Licenciés!$A:$A,0)),\"\")","v":""},null,null,null,null,null,null,null,null,null,null,null,null,null,null,{"$f":"IF(A7=\"\",\"\",IF(AND(COUNTIF(G7:J7,\"X\")<2,COUNTIF(K7:N7,\"X\")<2,COUNTIF(O7:R7,\"X\")<2)=TRUE,\"OK\",\"NON\"))","v":""},"","","",{"$f":"IF(U7=2,IF(OR(AND(COUNTIF(G7:J7,\"X\")=1,COUNTIF(K7:R7,\"X\")=1),AND(COUNTIF(G7:J7,\"X\")=0,COUNTIF(K7:N7,\"X\")=1,COUNTIF(O7:R7,\"X\")=1)),\"OK\",\"NON\"),\"\")","v":""}]
[null,{"$f":"IFERROR(INDEX(Licenciés!B:B,MATCH($A8,Licenciés!$A:$A,0)),\"\")","v":""},{"$f":"IFERROR(INDEX(Licenciés!C:C,MATCH($A8,Licenciés!$A:$A,0)),\"\")","v":""},{"$f":"IFERROR(INDEX(Licenciés!D:D,MATCH($A8,Licenciés!$A:$A,0)),\"\")","v":""},{"$f":"IFERROR(INDEX(Licenciés!E:E,MATCH($A8,Licenciés!$A:$A,0)),\"\")","v":""},null,null,null,null,null,null,null,null,null,null,null,null,null,null,"","","","",""]
[null,{"$f":"IFERROR(INDEX(Licenciés!B:B,MATCH($A9,Licenciés!$A:$A,0)),\"\")","v":""},{"$f":"IFERROR(INDEX(Licenciés!C:C,MATCH($A9,Licenciés!$A:$A,0)),\"\")","v":""},{"$f":"IFERROR(INDEX(Licenciés!D:D,MATCH($A9,Licenciés!$A:$A,0)),\"\")","v":""},{"$f":"IFERROR(INDEX(Licenciés!E:E,MATCH($A9,Licenciés!$A:$A,0)),\"\")","v":""},null,null,null,null,null,null,null,null,null,null,null,null,null,null,"","","","",""]
[null,{"$f":"IFERROR(INDEX(Licenciés!B:B,MATCH($A10,Licenciés!$A:$A,0)),\"\")","v":""},{"$f":"IFERROR(INDEX(Licenciés!C:C,MATCH($A10,Licenciés!$A:$A,0)),\"\")","v":""},{"$f":"IFERROR(INDEX(Licenciés!D:D,MATCH($A10,Licenciés!$A:$A,0)),\"\")","v":""},{"$f":"IFERROR(INDEX(Licenciés!E:E,MATCH($A10,Licenciés!$A:$A,0)),\"\")","v":""},null,null,null,null,null,null,null,null,null,null,null,null,null,null,"","","","",""]
[null,{"$f":"IFERROR(INDEX(Licenciés!B:B,MATCH($A11,Licenciés!$A:$A,0)),\"\")","v":""},{"$f":"IFERROR(INDEX(Licenciés!C:C,MATCH($A11,Licenciés!$A:$A,0)),\"\")","v":""},{"$f":"IFERROR(INDEX(Licenciés!D:D,MATCH($A11,Licenciés!$A:$A,0)),\"\")","v":""},{"$f":"IFERROR(INDEX(Licenciés!E:E,MATCH($A11,Licenciés!$A:$A,0)),\"\")","v":""},null,null,null,null,null,null,null,null,null,null,null,null,null,null,"","","","",""]
[null,{"$f":"IFERROR(INDEX(Licenciés!B:B,MATCH($A12,Licenciés!$A:$A,0)),\"\")","v":""},{"$f":"IFERROR(INDEX(Licenciés!C:C,MATCH($A12,Licenciés!$A:$A,0)),\"\")","v":""},{"$f":"IFERROR(INDEX(Licenciés!D:D,MATCH($A12,Licenciés!$A:$A,0)),\"\")","v":""},{"$f":"IFERROR(INDEX(Licenciés!E:E,MATCH($A12,Licenciés!$A:$A,0)),\"\")","v":""},null,null,null,null,null,null,null,null,null,null,null,null,null,null,"","","","",""]
[null,{"$f":"IFERROR(INDEX(Licenciés!B:B,MATCH($A13,Licenciés!$A:$A,0)),\"\")","v":""},{"$f":"IFERROR(INDEX(Licenciés!C:C,MATCH($A13,Licenciés!$A:$A,0)),\"\")","v":""},{"$f":"IFERROR(INDEX(Licenciés!D:D,MATCH($A13,Licenciés!$A:$A,0)),\"\")","v":""},{"$f":"IFERROR(INDEX(Licenciés!E:E,MATCH($A13,Licenciés!$A:$A,0)),\"\")","v":""},null,null,null,null,null,null,null,null,null,null,null,null,null,null,"","","","",""]
[null,{"$f":"IFERROR(INDEX(Licenciés!B:B,MATCH($A14,Licenciés!$A:$A,0)),\"\")","v":""},{"$f":"IFERROR(INDEX(Licenciés!C:C,MATCH($A14,Licenciés!$A:$A,0)),\"\")","v":""},{"$f":"IFERROR(INDEX(Licenciés!D:D,MATCH($A14,Licenciés!$A:$A,0)),\"\")","v":""},{"$f":"IFERROR(INDEX(Licenciés!E:E,MATCH($A14,Licenciés!$A:$A,0)),\"\")","v":""},null,null,null,null,null,null,null,null,null,null,null,null,null,null,"","","","",""]
[null,{"$f":"IFERROR(INDEX(Licenciés!B:B,MATCH($A15,Licenciés!$A:$A,0)),\"\")","v":""},{"$f":"IFERROR(INDEX(Licenciés!C:C,MATCH($A15,Licenciés!$A:$A,0)),\"\")","v":""},{"$f":"IFERROR(INDEX(Licenciés!D:D,MATCH($A15,Licenciés!$A:$A,0)),\"\")","v":""},{"$f":"IFERROR(INDEX(Licenciés!E:E,MATCH($A15,Licenciés!$A:$A,0)),\"\")","v":""},null,null,null,null,null,null,null,null,null,null,null,null,null,null,"","","","",""]
[null,{"$f":"IFERROR(INDEX(Licenciés!B:B,MATCH($A16,Licenciés!$A:$A,0)),\"\")","v":""},{"$f":"IFERROR(INDEX(Licenciés!C:C,MATCH($A16,Licenciés!$A:$A,0)),\"\")","v":""},{"$f":"IFERROR(INDEX(Licenciés!D:D,MATCH($A16,Licenciés!$A:$A,0)),\"\")","v":""},{"$f":"IFERROR(INDEX(Licenciés!E:E,MATCH($A16,Licenciés!$A:$A,0)),\"\")","v":""},null,null,null,null,null,null,null,null,null,null,null,null,null,null,"","","","",""]
[null,{"$f":"IFERROR(INDEX(Licenciés!B:B,MATCH($A17,Licenciés!$A:$A,0)),\"\")","v":""},{"$f":"IFERROR(INDEX(Licenciés!C:C,MATCH($A17,Licenciés!$A:$A,0)),\"\")","v":""},{"$f":"IFERROR(INDEX(Licenciés!D:D,MATCH($A17,Licenciés!$A:$A,0)),\"\")","v":""},{"$f":"IFERROR(INDEX(Licenciés!E:E,MATCH($A17,Licenciés!$A:$A,0)),\"\")","v":""},null,null,null,null,null,null,null,null,null,null,null,null,null,null,"","","","",""]
[null,{"$f":"IFERROR(INDEX(Licenciés!B:B,MATCH($A18,Licenciés!$A:$A,0)),\"\")","v":""},{"$f":"IFERROR(INDEX(Licenciés!C:C,MATCH($A18,Licenciés!$A:$A,0)),\"\")","v":""},{"$f":"IFERROR(INDEX(Licenciés!D:D,MATCH($A18,Licenciés!$A:$A,0)),\"\")","v":""},{"$f":"IFERROR(INDEX(Licenciés!E:E,MATCH($A18,Licenciés!$A:$A,0)),\"\")","v":""},null,null,null,null,null,null,null,null,null,null,null,null,null,null,"","","","",""]
[null,{"$f":"IFERROR(INDEX(Licenciés!B:B,MATCH($A19,Licenciés!$A:$A,0)),\"\")","v":""},{"$f":"IFERROR(INDEX(Licenciés!C:C,MATCH($A19,Licenciés!$A:$A,0)),\"\")","v":""},{"$f":"IFERROR(INDEX(Licenciés!D:D,MATCH($A19,Licenciés!$A:$A,0)),\"\")","v":""},{"$f":"IFERROR(INDEX(Licenciés!E:E,MATCH($A19,Licenciés!$A:$A,0)),\"\")","v":""},null,null,null,null,null,null,null,null,null,null,null,null,null,null,"","","","",""]
[null,{"$f":"IFERROR(INDEX(Licenciés!B:B,MATCH($A20,Licenciés!$A:$A,0)),\"\")","v":""},{"$f":"IFERROR(INDEX(Licenciés!C:C,MATCH($A20,Licenciés!$A:$A,0)),\"\")","v":""},{"$f":"IFERROR(INDEX(Licenciés!D:D,MATCH($A20,Licenciés!$A:$A,0)),\"\")","v":""},{"$f":"IFERROR(INDEX(Licenciés!E:E,MATCH($A20,Licenciés!$A:$A,0)),\"\")","v":""},null,null,null,null,null,null,null,null,null,null,null,null,null,null,"","","","",""]
[null,{"$f":"IFERROR(INDEX(Licenciés!B:B,MATCH($A21,Licenciés!$A:$A,0)),\"\")","v":""},{"$f":"IFERROR(INDEX(Licenciés!C:C,MATCH($A21,Licenciés!$A:$A,0)),\"\")","v":""},{"$f":"IFERROR(INDEX(Licenciés!D:D,MATCH($A21,Licenciés!$A:$A,0)),\"\")","v":""},{"$f":"IFERROR(INDEX(Licenciés!E:E,MATCH($A21,Licenciés!$A:$A,0)),\"\")","v":""},null,null,null,null,null,null,null,null,null,null,null,null,null,null,"","","","",""]
[null,{"$f":"IFERROR(INDEX(Licenciés!B:B,MATCH($A22,Licenciés!$A:$A,0)),\"\")","v":""},{"$f":"IFERROR(INDEX(Licenciés!C:C,MATCH($A22,Licenciés!$A:$A,0)),\"\")","v":""},{"$f":"IFERROR(INDEX(Licenciés!D:D,MATCH($A22,Licenciés!$A:$A,0)),\"\")","v":""},{"$f":"IFERROR(INDEX(Licenciés!E:E,MATCH($A22,Licenciés!$A:$A,0)),\"\")","v":""},null,null,null,null,null,null,null,null,null,null,null,null,null,null,"","","","",""]
[null,{"$f":"IFERROR(INDEX(Licenciés!B:B,MATCH($A23,Licenciés!$A:$A,0)),\"\")","v":""},{"$f":"IFERROR(INDEX(Licenciés!C:C,MATCH($A23,Licenciés!$A:$A,0)),\"\")","v":""},{"$f":"IFERROR(INDEX(Licenciés!D:D,MATCH($A23,Licenciés!$A:$A,0)),\"\")","v":""},{"$f":"IFERROR(INDEX(Licenciés!E:E,MATCH($A23,Licenciés!$A:$A,0)),\"\")","v":""},null,null,null,null,null,null,null,null,null,null,null,null,null,null,"","","","",""]
[null,{"$f":"IFERROR(INDEX(Licenciés!B:B,MATCH($A24,Licenciés!$A:$A,0)),\"\")","v":""},{"$f":"IFERROR(INDEX(Licenciés!C:C,MATCH($A24,Licenciés!$A:$A,0)),\"\")","v":""},{"$f":"IFERROR(INDEX(Licenciés!D:D,MATCH($A24,Licenciés!$A:$A,0)),\"\")","v":""},{"$f":"IFERROR(INDEX(Licenciés!E:E,MATCH($A24,Licenciés!$A:$A,0)),\"\")","v":""},null,null,null,null,null,null,null,null,null,null,null,null,null,null,"","","","",""]
[null,{"$f":"IFERROR(INDEX(Licenciés!B:B,MATCH($A25,Licenciés!$A:$A,0)),\"\")","v":""},{"$f":"IFERROR(INDEX(Licenciés!C:C,MATCH($A25,Licenciés!$A:$A,0)),\"\")","v":""},{"$f":"IFERROR(INDEX(Licenciés!D:D,MATCH($A25,Licenciés!$A:$A,0)),\"\")","v":""},{"$f":"IFERROR(INDEX(Licenciés!E:E,MATCH($A25,Licenciés!$A:$A,0)),\"\")","v":""},null,null,null,null,null,null,null,null,null,null,null,null,null,null,"","","","",""]
[null,{"$f":"IFERROR(INDEX(Licenciés!B:B,MATCH($A26,Licenciés!$A:$A,0)),\"\")","v":""},{"$f":"IFERROR(INDEX(Licenciés!C:C,MATCH($A26,Licenciés!$A:$A,0)),\"\")","v":""},{"$f":"IFERROR(INDEX(Licenciés!D:D,MATCH($A26,Licenciés!$A:$A,0)),\"\")","v":""},{"$f":"IFERROR(INDEX(Licenciés!E:E,MATCH($A26,Licenciés!$A:$A,0)),\"\")","v":""},null,null,null,null,null,null,null,null,null,null,null,null,null,null,"","","","",""]
[null,{"$f":"IFERROR(INDEX(Licenciés!B:B,MATCH($A27,Licenciés!$A:$A,0)),\"\")","v":""},{"$f":"IFERROR(INDEX(Licenciés!C:C,MATCH($A27,Licenciés!$A:$A,0)),\"\")","v":""},{"$f":"IFERROR(INDEX(Licenciés!D:D,MATCH($A27,Licenciés!$A:$A,0)),\"\")","v":""},{"$f":"IFERROR(INDEX(Licenciés!E:E,MATCH($A27,Licenciés!$A:$A,0)),\"\")","v":""},null,null,null,null,null,null,null,null,null,null,null,null,null,null,"","","","",""]
[null,{"$f":"IFERROR(INDEX(Licenciés!B:B,MATCH($A28,Licenciés!$A:$A,0)),\"\")","v":""},{"$f":"IFERROR(INDEX(Licenciés!C:C,MATCH($A28,Licenciés!$A:$A,0)),\"\")","v":""},{"$f":"IFERROR(INDEX(Licenciés!D:D,MATCH($A28,Licenciés!$A:$A,0)),\"\")","v":""},{"$f":"IFERROR(INDEX(Licenciés!E:E,MATCH($A28,Licenciés!$A:$A,0)),\"\")","v":""},null,null,null,null,null,null,null,null,null,null,null,null,null,null,"","","","",""]
[null,{"$f":"IFERROR(INDEX(Licenciés!B:B,MATCH($A29,Licenciés!$A:$A,0)),\"\")","v":""},{"$f":"IFERROR(INDEX(Licenciés!C:C,MATCH($A29,Licenciés!$A:$A,0)),\"\")","v":""},{"$f":"IFERROR(INDEX(Licenciés!D:D,MATCH($A29,Licenciés!$A:$A,0)),\"\")","v":""},{"$f":"IFERROR(INDEX(Licenciés!E:E,MATCH($A29,Licenciés!$A:$A,0)),\"\")","v":""},null,null,null,null,null,null,null,null,null,null,null,null,null,null,"","","","",""]
[null,{"$f":"IFERROR(INDEX(Licenciés!B:B,MATCH($A30,Licenciés!$A:$A,0)),\"\")","v":""},{"$f":"IFERROR(INDEX(Licenciés!C:C,MATCH($A30,Licenciés!$A:$A,0)),\"\")","v":""},{"$f":"IFERROR(INDEX(Licenciés!D:D,MATCH($A30,Licenciés!$A:$A,0)),\"\")","v":""},{"$f":"IFERROR(INDEX(Licenciés!E:E,MATCH($A30,Licenciés!$A:$A,0)),\"\")","v":""},null,null,null,null,null,null,null,null,null,null,null,null,null,null,"","","","",""]
[null,{"$f":"IFERROR(INDEX(Licenciés!B:B,MATCH($A31,Licenciés!$A:$A,0)),\"\")","v":""},{"$f":"IFERROR(INDEX(Licenciés!C:C,MATCH($A31,Licenciés!$A:$A,0)),\"\")","v":""},{"$f":"IFERROR(INDEX(Licenciés!D:D,MATCH($A31,Licenciés!$A:$A,0)),\"\")","v":""},{"$f":"IFERROR(INDEX(Licenciés!E:E,MATCH($A31,Licenciés!$A:$A,0)),\"\")","v":""},null,null,null,null,null,null,null,null,null,null,null,null,null,null,"","","","",""]
[null,{"$f":"IFERROR(INDEX(Licenciés!B:B,MATCH($A32,Licenciés!$A:$A,0)),\"\")","v":""},{"$f":"IFERROR(INDEX(Licenciés!C:C,MATCH($A32,Licenciés!$A:$A,0)),\"\")","v":""},{"$f":"IFERROR(INDEX(Licenciés!D:D,MATCH($A32,Licenciés!$A:$A,0)),\"\")","v":""},{"$f":"IFERROR(INDEX(Licenciés!E:E,MATCH($A32,Licenciés!$A:$A,0)),\"\")","v":""},null,null,null,null,null,null,null,null,null,null,null,null,null,null,"","","","",""]
[null,{"$f":"IFERROR(INDEX(Licenciés!B:B,MATCH($A33,Licenciés!$A:$A,0)),\"\")","v":""},{"$f":"IFERROR(INDEX(Licenciés!C:C,MATCH($A33,Licenciés!$A:$A,0)),\"\")","v":""},{"$f":"IFERROR(INDEX(Licenciés!D:D,MATCH($A33,Licenciés!$A:$A,0)),\"\")","v":""},{"$f":"IFERROR(INDEX(Licenciés!E:E,MATCH($A33,Licenciés!$A:$A,0)),\"\")","v":""},null,null,null,null,null,null,null,null,null,null,null,null,null,null,"","","","",""]
[null,{"$f":"IFERROR(INDEX(Licenciés!B:B,MATCH($A34,Licenciés!$A:$A,0)),\"\")","v":""},{"$f":"IFERROR(INDEX(Licenciés!C:C,MATCH($A34,Licenciés!$A:$A,0)),\"\")","v":""},{"$f":"IFERROR(INDEX(Licenciés!D:D,MATCH($A34,Licenciés!$A:$A,0)),\"\")","v":""},{"$f":"IFERROR(INDEX(Licenciés!E:E,MATCH($A34,Licenciés!$A:$A,0)),\"\")","v":""},null,null,null,null,null,null,null,null,null,null,null,null,null,null,"","","","",""]
[null,{"$f":"IFERROR(INDEX(Licenciés!B:B,MATCH($A35,Licenciés!$A:$A,0)),\"\")","v":""},{"$f":"IFERROR(INDEX(Licenciés!C:C,MATCH($A35,Licenciés!$A:$A,0)),\"\")","v":""},{"$f":"IFERROR(INDEX(Licenciés!D:D,MATCH($A35,Licenciés!$A:$A,0)),\"\")","v":""},{"$f":"IFERROR(INDEX(Licenciés!E:E,MATCH($A35,Licenciés!$A:$A,0)),\"\")","v":""},null,null,null,null,null,null,null,null,null,null,null,null,null,null,"","","","",""]
[null,{"$f":"IFERROR(INDEX(Licenciés!B:B,MATCH($A36,Licenciés!$A:$A,0)),\"\")","v":""},{"$f":"IFERROR(INDEX(Licenciés!C:C,MATCH($A36,Licenciés!$A:$A,0)),\"\")","v":""},{"$f":"IFERROR(INDEX(Licenciés!D:D,MATCH($A36,Licenciés!$A:$A,0)),\"\")","v":""},{"$f":"IFERROR(INDEX(Licenciés!E:E,MATCH($A36,Licenciés!$A:$A,0)),\"\")","v":""},null,null,null,null,null,null,null,null,null,null,null,null,null,null,"","","","",""]
[null,{"$f":"IFERROR(INDEX(Licenciés!B:B,MATCH($A37,Licenciés!$A:$A,0)),\"\")","v":""},{"$f":"IFERROR(INDEX(Licenciés!C:C,MATCH($A37,Licenciés!$A:$A,0)),\"\")","v":""},{"$f":"IFERROR(INDEX(Licenciés!D:D,MATCH($A37,Licenciés!$A:$A,0)),\"\")","v":""},{"$f":"IFERROR(INDEX(Licenciés!E:E,MATCH($A37,Licenciés!$A:$A,0)),\"\")","v":""},null,null,null,null,null,null,null,null,null,null,null,null,null,null,"","","","",""]
[null,{"$f":"IFERROR(INDEX(Licenciés!B:B,MATCH($A38,Licenciés!$A:$A,0)),\"\")","v":""},{"$f":"IFERROR(INDEX(Licenciés!C:C,MATCH($A38,Licenciés!$A:$A,0)),\"\")","v":""},{"$f":"IFERROR(INDEX(Licenciés!D:D,MATCH($A38,Licenciés!$A:$A,0)),\"\")","v":""},{"$f":"IFERROR(INDEX(Licenciés!E:E,MATCH($A38,Licenciés!$A:$A,0)),\"\")","v":""},null,null,null,null,null,null,null,null,null,null,null,null,null,null,"","","","",""]
[null,{"$f":"IFERROR(INDEX(Licenciés!B:B,MATCH($A39,Licenciés!$A:$A,0)),\"\")","v":""},{"$f":"IFERROR(INDEX(Licenciés!C:C,MATCH($A39,Licenciés!$A:$A,0)),\"\")","v":""},{"$f":"IFERROR(INDEX(Licenciés!D:D,MATCH($A39,Licenciés!$A:$A,0)),\"\")","v":""},{"$f":"IFERROR(INDEX(Licenciés!E:E,MATCH($A39,Licenciés!$A:$A,0)),\"\")","v":""},null,null,null,null,null,null,null,null,null,null,null,null,null,null,"","","","",""]
[null,{"$f":"IFERROR(INDEX(Licenciés!B:B,MATCH($A40,Licenciés!$A:$A,0)),\"\")","v":""},{"$f":"IFERROR(INDEX(Licenciés!C:C,MATCH($A40,Licenciés!$A:$A,0)),\"\")","v":""},{"$f":"IFERROR(INDEX(Licenciés!D:D,MATCH($A40,Licenciés!$A:$A,0)),\"\")","v":""},{"$f":"IFERROR(INDEX(Licenciés!E:E,MATCH($A40,Licenciés!$A:$A,0)),\"\")","v":""},null,null,null,null,null,null,null,null,null,null,null,null,null,null,"","","","",""]
[null,{"$f":"IFERROR(INDEX(Licenciés!B:B,MATCH($A41,Licenciés!$A:$A,0)),\"\")","v":""},{"$f":"IFERROR(INDEX(Licenciés!C:C,MATCH($A41,Licenciés!$A:$A,0)),\"\")","v":""},{"$f":"IFERROR(INDEX(Licenciés!D:D,MATCH($A41,Licenciés!$A:$A,0)),\"\")","v":""},{"$f":"IFERROR(INDEX(Licenciés!E:E,MATCH($A41,Licenciés!$A:$A,0)),\"\")","v":""},null,null,null,null,null,null,null,null,null,null,null,null,null,null,"","","","",""]
[null,{"$f":"IFERROR(INDEX(Licenciés!B:B,MATCH($A42,Licenciés!$A:$A,0)),\"\")","v":""},{"$f":"IFERROR(INDEX(Licenciés!C:C,MATCH($A42,Licenciés!$A:$A,0)),\"\")","v":""},{"$f":"IFERROR(INDEX(Licenciés!D:D,MATCH($A42,Licenciés!$A:$A,0)),\"\")","v":""},{"$f":"IFERROR(INDEX(Licenciés!E:E,MATCH($A42,Licenciés!$A:$A,0)),\"\")","v":""},null,null,null,null,null,null,null,null,null,null,null,null,null,null,"","","","",""]
[null,{"$f":"IFERROR(INDEX(Licenciés!B:B,MATCH($A43,Licenciés!$A:$A,0)),\"\")","v":""},{"$f":"IFERROR(INDEX(Licenciés!C:C,MATCH($A43,Licenciés!$A:$A,0)),\"\")","v":""},{"$f":"IFERROR(INDEX(Licenciés!D:D,MATCH($A43,Licenciés!$A:$A,0)),\"\")","v":""},{"$f":"IFERROR(INDEX(Licenciés!E:E,MATCH($A43,Licenciés!$A:$A,0)),\"\")","v":""},null,null,null,null,null,null,null,null,null,null,null,null,null,null,"","","","",""]
[null,{"$f":"IFERROR(INDEX(Licenciés!B:B,MATCH($A44,Licenciés!$A:$A,0)),\"\")","v":""},{"$f":"IFERROR(INDEX(Licenciés!C:C,MATCH($A44,Licenciés!$A:$A,0)),\"\")","v":""},{"$f":"IFERROR(INDEX(Licenciés!D:D,MATCH($A44,Licenciés!$A:$A,0)),\"\")","v":""},{"$f":"IFERROR(INDEX(Licenciés!E:E,MATCH($A44,Licenciés!$A:$A,0)),\"\")","v":""},null,null,null,null,null,null,null,null,null,null,null,null,null,null,"","","","",""]
[null,{"$f":"IFERROR(INDEX(Licenciés!B:B,MATCH($A45,Licenciés!$A:$A,0)),\"\")","v":""},{"$f":"IFERROR(INDEX(Licenciés!C:C,MATCH($A45,Licenciés!$A:$A,0)),\"\")","v":""},{"$f":"IFERROR(INDEX(Licenciés!D:D,MATCH($A45,Licenciés!$A:$A,0)),\"\")","v":""},{"$f":"IFERROR(INDEX(Licenciés!E:E,MATCH($A45,Licenciés!$A:$A,0)),\"\")","v":""},null,null,null,null,null,null,null,null,null,null,null,null,null,null,"","","","",""]
[null,{"$f":"IFERROR(INDEX(Licenciés!B:B,MATCH($A46,Licenciés!$A:$A,0)),\"\")","v":""},{"$f":"IFERROR(INDEX(Licenciés!C:C,MATCH($A46,Licenciés!$A:$A,0)),\"\")","v":""},{"$f":"IFERROR(INDEX(Licenciés!D:D,MATCH($A46,Licenciés!$A:$A,0)),\"\")","v":""},{"$f":"IFERROR(INDEX(Licenciés!E:E,MATCH($A46,Licenciés!$A:$A,0)),\"\")","v":""},null,null,null,null,null,null,null,null,null,null,null,null,null,null,"","","","",""]
[null,{"$f":"IFERROR(INDEX(Licenciés!B:B,MATCH($A47,Licenciés!$A:$A,0)),\"\")","v":""},{"$f":"IFERROR(INDEX(Licenciés!C:C,MATCH($A47,Licenciés!$A:$A,0)),\"\")","v":""},{"$f":"IFERROR(INDEX(Licenciés!D:D,MATCH($A47,Licenciés!$A:$A,0)),\"\")","v":""},{"$f":"IFERROR(INDEX(Licenciés!E:E,MATCH($A47,Licenciés!$A:$A,0)),\"\")","v":""},null,null,null,null,null,null,null,null,null,null,null,null,null,null,"","","","",""]
[null,{"$f":"IFERROR(INDEX(Licenciés!B:B,MATCH($A48,Licenciés!$A:$A,0)),\"\")","v":""},{"$f":"IFERROR(INDEX(Licenciés!C:C,MATCH($A48,Licenciés!$A:$A,0)),\"\")","v":""},{"$f":"IFERROR(INDEX(Licenciés!D:D,MATCH($A48,Licenciés!$A:$A,0)),\"\")","v":""},{"$f":"IFERROR(INDEX(Licenciés!E:E,MATCH($A48,Licenciés!$A:$A,0)),\"\")","v":""},null,null,null,null,null,null,null,null,null,null,null,null,null,null,"","","","",""]
[null,{"$f":"IFERROR(INDEX(Licenciés!B:B,MATCH($A49,Licenciés!$A:$A,0)),\"\")","v":""},{"$f":"IFERROR(INDEX(Licenciés!C:C,MATCH($A49,Licenciés!$A:$A,0)),\"\")","v":""},{"$f":"IFERROR(INDEX(Licenciés!D:D,MATCH($A49,Licenciés!$A:$A,0)),\"\")","v":""},{"$f":"IFERROR(INDEX(Licenciés!E:E,MATCH($A49,Licenciés!$A:$A,0)),\"\")","v":""},null,null,null,null,null,null,null,null,null,null,null,null,null,null,"","","","",""]
[null,{"$f":"IFERROR(INDEX(Licenciés!B:B,MATCH($A50,Licenciés!$A:$A,0)),\"\")","v":""},{"$f":"IFERROR(INDEX(Licenciés!C:C,MATCH($A50,Licenciés!$A:$A,0)),\"\")","v":""},{"$f":"IFERROR(INDEX(Licenciés!D:D,MATCH($A50,Licenciés!$A:$A,0)),\"\")","v":""},{"$f":"IFERROR(INDEX(Licenciés!E:E,MATCH($A50,Licenciés!$A:$A,0)),\"\")","v":""},null,null,null,null,null,null,null,null,null,null,null,null,null,null,"","","","",""]
[null,{"$f":"IFERROR(INDEX(Licenciés!B:B,MATCH($A51,Licenciés!$A:$A,0)),\"\")","v":""},{"$f":"IFERROR(INDEX(Licenciés!C:C,MATCH($A51,Licenciés!$A:$A,0)),\"\")","v":""},{"$f":"IFERROR(INDEX(Licenciés!D:D,MATCH($A51,Licenciés!$A:$A,0)),\"\")","v":""},{"$f":"IFERROR(INDEX(Licenciés!E:E,MATCH($A51,Licenciés!$A:$A,0)),\"\")","v":""},null,null,null,null,null,null,null,null,null,null,null,null,null,null,"","","","",""]
[null,{"$f":"IFERROR(INDEX(Licenciés!B:B,MATCH($A52,Licenciés!$A:$A,0)),\"\")","v":""},{"$f":"IFERROR(INDEX(Licenciés!C:C,MATCH($A52,Licenciés!$A:$A,0)),\"\")","v":""},{"$f":"IFERROR(INDEX(Licenciés!D:D,MATCH($A52,Licenciés!$A:$A,0)),\"\")","v":""},{"$f":"IFERROR(INDEX(Licenciés!E:E,MATCH($A52,Licenciés!$A:$A,0)),\"\")","v":""},null,null,null,null,null,null,null,null,null,null,null,null,null,null,"","","","",""]
[null,{"$f":"IFERROR(INDEX(Licenciés!B:B,MATCH($A53,Licenciés!$A:$A,0)),\"\")","v":""},{"$f":"IFERROR(INDEX(Licenciés!C:C,MATCH($A53,Licenciés!$A:$A,0)),\"\")","v":""},{"$f":"IFERROR(INDEX(Licenciés!D:D,MATCH($A53,Licenciés!$A:$A,0)),\"\")","v":""},{"$f":"IFERROR(INDEX(Licenciés!E:E,MATCH($A53,Licenciés!$A:$A,0)),\"\")","v":""},null,null,null,null,null,null,null,null,null,null,null,null,null,null,"","","","",""]
[null,{"$f":"IFERROR(INDEX(Licenciés!B:B,MATCH($A54,Licenciés!$A:$A,0)),\"\")","v":""},{"$f":"IFERROR(INDEX(Licenciés!C:C,MATCH($A54,Licenciés!$A:$A,0)),\"\")","v":""},{"$f":"IFERROR(INDEX(Licenciés!D:D,MATCH($A54,Licenciés!$A:$A,0)),\"\")","v":""},{"$f":"IFERROR(INDEX(Licenciés!E:E,MATCH($A54,Licenciés!$A:$A,0)),\"\")","v":""},null,null,null,null,null,null,null,null,null,null,null,null,null,null,"","","","",""]
[null,{"$f":"IFERROR(INDEX(Licenciés!B:B,MATCH($A55,Licenciés!$A:$A,0)),\"\")","v":""},{"$f":"IFERROR(INDEX(Licenciés!C:C,MATCH($A55,Licenciés!$A:$A,0)),\"\")","v":""},{"$f":"IFERROR(INDEX(Licenciés!D:D,MATCH($A55,Licenciés!$A:$A,0)),\"\")","v":""},{"$f":"IFERROR(INDEX(Licenciés!E:E,MATCH($A55,Licenciés!$A:$A,0)),\"\")","v":""},null,null,null,null,null,null,null,null,null,null,null,null,null,null,"","","","",""]
[null,{"$f":"IFERROR(INDEX(Licenciés!B:B,MATCH($A56,Licenciés!$A:$A,0)),\"\")","v":""},{"$f":"IFERROR(INDEX(Licenciés!C:C,MATCH($A56,Licenciés!$A:$A,0)),\"\")","v":""},{"$f":"IFERROR(INDEX(Licenciés!D:D,MATCH($A56,Licenciés!$A:$A,0)),\"\")","v":""},{"$f":"IFERROR(INDEX(Licenciés!E:E,MATCH($A56,Licenciés!$A:$A,0)),\"\")","v":""},null,null,null,null,null,null,null,null,null,null,null,null,null,null,"","","","",""]
[null,{"$f":"IFERROR(INDEX(Licenciés!B:B,MATCH($A57,Licenciés!$A:$A,0)),\"\")","v":""},{"$f":"IFERROR(INDEX(Licenciés!C:C,MATCH($A57,Licenciés!$A:$A,0)),\"\")","v":""},{"$f":"IFERROR(INDEX(Licenciés!D:D,MATCH($A57,Licenciés!$A:$A,0)),\"\")","v":""},{"$f":"IFERROR(INDEX(Licenciés!E:E,MATCH($A57,Licenciés!$A:$A,0)),\"\")","v":""},null,null,null,null,null,null,null,null,null,null,null,null,null,null,"","","","",""]
[null,{"$f":"IFERROR(INDEX(Licenciés!B:B,MATCH($A58,Licenciés!$A:$A,0)),\"\")","v":""},{"$f":"IFERROR(INDEX(Licenciés!C:C,MATCH($A58,Licenciés!$A:$A,0)),\"\")","v":""},{"$f":"IFERROR(INDEX(Licenciés!D:D,MATCH($A58,Licenciés!$A:$A,0)),\"\")","v":""},{"$f":"IFERROR(INDEX(Licenciés!E:E,MATCH($A58,Licenciés!$A:$A,0)),\"\")","v":""},null,null,null,null,null,null,null,null,null,null,null,null,null,null,"","","","",""]
[null,{"$f":"IFERROR(INDEX(Licenciés!B:B,MATCH($A59,Licenciés!$A:$A,0)),\"\")","v":""},{"$f":"IFERROR(INDEX(Licenciés!C:C,MATCH($A59,Licenciés!$A:$A,0)),\"\")","v":""},{"$f":"IFERROR(INDEX(Licenciés!D:D,MATCH($A59,Licenciés!$A:$A,0)),\"\")","v":""},{"$f":"IFERROR(INDEX(Licenciés!E:E,MATCH($A59,Licenciés!$A:$A,0)),\"\")","v":""},null,null,null,null,null,null,null,null,null,null,null,null,null,null,"","","","",""]
[null,{"$f":"IFERROR(INDEX(Licenciés!B:B,MATCH($A60,Licenciés!$A:$A,0)),\"\")","v":""},{"$f":"IFERROR(INDEX(Licenciés!C:C,MATCH($A60,Licenciés!$A:$A,0)),\"\")","v":""},{"$f":"IFERROR(INDEX(Licenciés!D:D,MATCH($A60,Licenciés!$A:$A,0)),\"\")","v":""},{"$f":"IFERROR(INDEX(Licenciés!E:E,MATCH($A60,Licenciés!$A:$A,0)),\"\")","v":""},null,null,null,null,null,null,null,null,null,null,null,null,null,null,"","","","",""]
[null,{"$f":"IFERROR(INDEX(Licenciés!B:B,MATCH($A61,Licenciés!$A:$A,0)),\"\")","v":""},{"$f":"IFERROR(INDEX(Licenciés!C:C,MATCH($A61,Licenciés!$A:$A,0)),\"\")","v":""},{"$f":"IFERROR(INDEX(Licenciés!D:D,MATCH($A61,Licenciés!$A:$A,0)),\"\")","v":""},{"$f":"IFERROR(INDEX(Licenciés!E:E,MATCH($A61,Licenciés!$A:$A,0)),\"\")","v":""},null,null,null,null,null,null,null,null,null,null,null,null,null,null,"","","","",""]
[null,{"$f":"IFERROR(INDEX(Licenciés!B:B,MATCH($A62,Licenciés!$A:$A,0)),\"\")","v":""},{"$f":"IFERROR(INDEX(Licenciés!C:C,MATCH($A62,Licenciés!$A:$A,0)),\"\")","v":""},{"$f":"IFERROR(INDEX(Licenciés!D:D,MATCH($A62,Licenciés!$A:$A,0)),\"\")","v":""},{"$f":"IFERROR(INDEX(Licenciés!E:E,MATCH($A62,Licenciés!$A:$A,0)),\"\")","v":""},null,null,null,null,null,null,null,null,null,null,null,null,null,null,"","","","",""]
[null,{"$f":"IFERROR(INDEX(Licenciés!B:B,MATCH($A63,Licenciés!$A:$A,0)),\"\")","v":""},{"$f":"IFERROR(INDEX(Licenciés!C:C,MATCH($A63,Licenciés!$A:$A,0)),\"\")","v":""},{"$f":"IFERROR(INDEX(Licenciés!D:D,MATCH($A63,Licenciés!$A:$A,0)),\"\")","v":""},{"$f":"IFERROR(INDEX(Licenciés!E:E,MATCH($A63,Licenciés!$A:$A,0)),\"\")","v":""},null,null,null,null,null,null,null,null,null,null,null,null,null,null,"","","","",""]
[null,{"$f":"IFERROR(INDEX(Licenciés!B:B,MATCH($A64,Licenciés!$A:$A,0)),\"\")","v":""},{"$f":"IFERROR(INDEX(Licenciés!C:C,MATCH($A64,Licenciés!$A:$A,0)),\"\")","v":""},{"$f":"IFERROR(INDEX(Licenciés!D:D,MATCH($A64,Licenciés!$A:$A,0)),\"\")","v":""},{"$f":"IFERROR(INDEX(Licenciés!E:E,MATCH($A64,Licenciés!$A:$A,0)),\"\")","v":""},null,null,null,null,null,null,null,null,null,null,null,null,null,null,"","","","",""]
[null,{"$f":"IFERROR(INDEX(Licenciés!B:B,MATCH($A65,Licenciés!$A:$A,0)),\"\")","v":""},{"$f":"IFERROR(INDEX(Licenciés!C:C,MATCH($A65,Licenciés!$A:$A,0)),\"\")","v":""},{"$f":"IFERROR(INDEX(Licenciés!D:D,MATCH($A65,Licenciés!$A:$A,0)),\"\")","v":""},{"$f":"IFERROR(INDEX(Licenciés!E:E,MATCH($A65,Licenciés!$A:$A,0)),\"\")","v":""},null,null,null,null,null,null,null,null,null,null,null,null,null,null,"","","","",""]
[null,{"$f":"IFERROR(INDEX(Licenciés!B:B,MATCH($A66,Licenciés!$A:$A,0)),\"\")","v":""},{"$f":"IFERROR(INDEX(Licenciés!C:C,MATCH($A66,Licenciés!$A:$A,0)),\"\")","v":""},{"$f":"IFERROR(INDEX(Licenciés!D:D,MATCH($A66,Licenciés!$A:$A,0)),\"\")","v":""},{"$f":"IFERROR(INDEX(Licenciés!E:E,MATCH($A66,Licenciés!$A:$A,0)),\"\")","v":""},null,null,null,null,null,null,null,null,null,null,null,null,null,null,"","","","",""]
[null,{"$f":"IFERROR(INDEX(Licenciés!B:B,MATCH($A67,Licenciés!$A:$A,0)),\"\")","v":""},{"$f":"IFERROR(INDEX(Licenciés!C:C,MATCH($A67,Licenciés!$A:$A,0)),\"\")","v":""},{"$f":"IFERROR(INDEX(Licenciés!D:D,MATCH($A67,Licenciés!$A:$A,0)),\"\")","v":""},{"$f":"IFERROR(INDEX(Licenciés!E:E,MATCH($A67,Licenciés!$A:$A,0)),\"\")","v":""},null,null,null,null,null,null,null,null,null,null,null,null,null,null,"","","","",""]
[null,{"$f":"IFERROR(INDEX(Licenciés!B:B,MATCH($A68,Licenciés!$A:$A,0)),\"\")","v":""},{"$f":"IFERROR(INDEX(Licenciés!C:C,MATCH($A68,Licenciés!$A:$A,0)),\"\")","v":""},{"$f":"IFERROR(INDEX(Licenciés!D:D,MATCH($A68,Licenciés!$A:$A,0)),\"\")","v":""},{"$f":"IFERROR(INDEX(Licenciés!E:E,MATCH($A68,Licenciés!$A:$A,0)),\"\")","v":""},null,null,null,null,null,null,null,null,null,null,null,null,null,null,"","","","",""]
[null,{"$f":"IFERROR(INDEX(Licenciés!B:B,MATCH($A69,Licenciés!$A:$A,0)),\"\")","v":""},{"$f":"IFERROR(INDEX(Licenciés!C:C,MATCH($A69,Licenciés!$A:$A,0)),\"\")","v":""},{"$f":"IFERROR(INDEX(Licenciés!D:D,MATCH($A69,Licenciés!$A:$A,0)),\"\")","v":""},{"$f":"IFERROR(INDEX(Licenciés!E:E,MATCH($A69,Licenciés!$A:$A,0)),\"\")","v":""},null,null,null,null,null,null,null,null,null,null,null,null,null,null,"","","","",""]
[null,{"$f":"IFERROR(INDEX(Licenciés!B:B,MATCH($A70,Licenciés!$A:$A,0)),\"\")","v":""},{"$f":"IFERROR(INDEX(Licenciés!C:C,MATCH($A70,Licenciés!$A:$A,0)),\"\")","v":""},{"$f":"IFERROR(INDEX(Licenciés!D:D,MATCH($A70,Licenciés!$A:$A,0)),\"\")","v":""},{"$f":"IFERROR(INDEX(Licenciés!E:E,MATCH($A70,Licenciés!$A:$A,0)),\"\")","v":""},null,null,null,null,null,null,null,null,null,null,null,null,null,null,"","","","",""]

{"sheet":"MINIMES HIVERNAL","index":3,"n_rows":5,"n_cols":14,"rows_kept":5,"cut":false,"hidden":true,"merged":[[0,0,0,1],[0,3,0,13],[1,3,1,13],[2,5,2,13],[3,6,3,9],[3,10,3,13]]}
[null,null,null,"Equipe Athlé Hivernal Minime U16"]
["N° club :","moi","Club:"]
[null,"Nom","Prénom","Cat","Sexe","Familles"]
[null,null,null,null,null,"Juge","Course et Lancers",null,null,null,"Sauts"]
["Licence",null,null,null,null,"Jeune Juge","50m Salle","50m haies Salle","3 000m Marche Salle","Poids Salle","Hauteur Salle","Perche Salle","Longueur Salle","Triple saut Salle"]

{"sheet":"BENJAMINS HIVERNAL","index":4,"n_rows":5,"n_cols":14,"rows_kept":5,"cut":false,"hidden":true,"merged":[[2,5,2,13],[3,6,3,9],[3,10,3,13],[0,0,0,1],[0,3,0,13],[1,3,1,13],[2,1,4,1],[2,2,4,2],[2,3,4,3],[2,4,4,4]]}
[null,null,null,"Equipe Athlé Hivernal Benjamins U14"]
["N° club :",null,"Club:"]
[null,"Nom","Prénom","Cat","Sexe","Familles"]
[null,null,null,null,null,"Juge","Course et Lancers",null,null,null,"Sauts"]
["Licence",null,null,null,null,"Jeune Juge","50m Salle","50m haies Salle","2 000m Marche Salle","Poids Salle","Hauteur Salle","Perche Salle","Longueur Salle","Triple saut Salle"]

{"sheet":"Relais_BE","index":5,"n_rows":49,"n_cols":12,"rows_kept":49,"cut":false,"hidden":false,"merged":[[33,0,36,0],[37,0,40,0],[41,0,44,0],[45,0,48,0],[6,2,8,2],[9,0,12,0],[13,0,16,0],[17,0,20,0],[21,0,24,0],[25,0,28,0],[29,0,32,0],[9,10,12,10],[13,10,16,10],[17,10,20,10],[21,10,24,10],[25,10,28,10],[29,10,32,10],[33,10,36,10],[37,10,40,10],[41,10,44,10],[45,10,48,10],[6,7,8,7],[6,8,8,8],[0,2,0,11],[2,1,4,10],[6,3,8,3],[6,4,8,4],[6,5,8,5],[6,6,8,6],[6,11,8,11],[6,9,8,9],[6,10,8,10]]}
[null,null,"Equipe Athlé Automne / Printemps U16"]
[]
[null,"Benjamins U14"]
[]
[]
[]
[null,null,"Nom","Prénom","Cat","Sexe","nom club","nom equipe","ordre de relais","Vérif catégorie athlète","Vérif relais mixte","Vérif athlète dans un seul relais"]
[]
[null,"Licence"]
["BE 1",null,{"$f":"IFERROR(INDEX(Licenciés!B:B,MATCH($B10,Licenciés!$A:$A,0)),\"\")","v":""},{"$f":"IFERROR(INDEX(Licenciés!C:C,MATCH($B10,Licenciés!$A:$A,0)),\"\")","v":""},{"$f":"IFERROR(INDEX(Licenciés!D:D,MATCH($B10,Licenciés!$A:$A,0)),\"\")","v":""},{"$f":"IFERROR(INDEX(Licenciés!E:E,MATCH($B10,Licenciés!$A:$A,0)),\"\")","v":""},{"$f":"'BENJAMINS ESTIVAL'!$D$2&\" \"&'BENJAMINS ESTIVAL'!$U$2","v":" "},{"$f":"G10&\" \"&A10","v":"  BE 1"},1,{"$f":"IF(B10=\"\",\"\",IF(E10=\"BE\",\"OK\",\"NON\"))","v":""},{"$f":"IF(B10=\"\",\"\",IF(AND(OR(COUNTIF(E10:E13,\"BE\")=4,COUNTIF(E10:E13,\"MI\")=4),COUNTIF(F10:F13,\"F\")=2,COUNTIF(F10:F13,\"M\")=2),\"Mixte\",\"NON\"))","v":""},{"$f":"IF(B10=\"\",\"\",IF(COUNTIF(B:B,B10)>1,\"athlète dans plusieurs relais\",\"OK\"))","v":""}]
[null,null,{"$f":"IFERROR(INDEX(Licenciés!B:B,MATCH($B11,Licenciés!$A:$A,0)),\"\")","v":""},{"$f":"IFERROR(INDEX(Licenciés!C:C,MATCH($B11,Licenciés!$A:$A,0)),\"\")","v":""},{"$f":"IFERROR(INDEX(Licenciés!D:D,MATCH($B11,Licenciés!$A:$A,0)),\"\")","v":""},{"$f":"IFERROR(INDEX(Licenciés!E:E,MATCH($B11,Licenciés!$A:$A,0)),\"\")","v":""},{"$f":"'BENJAMINS ESTIVAL'!$D$2&\" \"&'BENJAMINS ESTIVAL'!$U$2","v":" "},{"$f":"H10","v":"  BE 1"},2,"",null,""]
[null,null,{"$f":"IFERROR(INDEX(Licenciés!B:B,MATCH($B12,Licenciés!$A:$A,0)),\"\")","v":""},{"$f":"IFERROR(INDEX(Licenciés!C:C,MATCH($B12,Licenciés!$A:$A,0)),\"\")","v":""},{"$f":"IFERROR(INDEX(Licenciés!D:D,MATCH($B12,Licenciés!$A:$A,0)),\"\")","v":""},{"$f":"IFERROR(INDEX(Licenciés!E:E,MATCH($B12,Licenciés!$A:$A,0)),\"\")","v":""},{"$f":"'BENJAMINS ESTIVAL'!$D$2&\" \"&'BENJAMINS ESTIVAL'!$U$2","v":" "},{"$f":"H11","v":"  BE 1"},3,"",null,""]
[null,null,{"$f":"IFERROR(INDEX(Licenciés!B:B,MATCH($B13,Licenciés!$A:$A,0)),\"\")","v":""},{"$f":"IFERROR(INDEX(Licenciés!C:C,MATCH($B13,Licenciés!$A:$A,0)),\"\")","v":""},{"$f":"IFERROR(INDEX(Licenciés!D:D,MATCH($B13,Licenciés!$A:$A,0)),\"\")","v":""},{"$f":"IFERROR(INDEX(Licenciés!E:E,MATCH($B13,Licenciés!$A:$A,0)),\"\")","v":""},{"$f":"'BENJAMINS ESTIVAL'!$D$2&\" \"&'BENJAMINS ESTIVAL'!$U$2","v":" "},{"$f":"H12","v":"  BE 1"},4,"",null,""]
["BE 2",null,{"$f":"IFERROR(INDEX(Licenciés!B:B,MATCH($B14,Licenciés!$A:$A,0)),\"\")","v":""},{"$f":"IFERROR(INDEX(Licenciés!C:C,MATCH($B14,Licenciés!$A:$A,0)),\"\")","v":""},{"$f":"IFERROR(INDEX(Licenciés!D:D,MATCH($B14,Licenciés!$A:$A,0)),\"\")","v":""},{"$f":"IFERROR(INDEX(Licenciés!E:E,MATCH($B14,Licenciés!$A:$A,0)),\"\")","v":""},{"$f":"'BENJAMINS ESTIVAL'!$D$2&\" \"&'BENJAMINS ESTIVAL'!$U$2","v":" "},{"$f":"G14&\" \"&A14","v":"  BE 2"},1,"",{"$f":"IF(B14=\"\",\"\",IF(AND(OR(COUNTIF(E14:E17,\"BE\")=4,COUNTIF(E14:E17,\"MI\")=4),COUNTIF(F14:F17,\"F\")=2,COUNTIF(F14:F17,\"M\")=2),\"Mixte\",\"NON\"))","v":""},""]
[null,null,{"$f":"IFERROR(INDEX(Licenciés!B:B,MATCH($B15,Licenciés!$A:$A,0)),\"\")","v":""},{"$f":"IFERROR(INDEX(Licenciés!C:C,MATCH($B15,Licenciés!$A:$A,0)),\"\")","v":""},{"$f":"IFERROR(INDEX(Licenciés!D:D,MATCH($B15,Licenciés!$A:$A,0)),\"\")","v":""},{"$f":"IFERROR(INDEX(Licenciés!E:E,MATCH($B15,Licenciés!$A:$A,0)),\"\")","v":""},{"$f":"'BENJAMINS ESTIVAL'!$D$2&\" \"&'BENJAMINS ESTIVAL'!$U$2","v":" "},{"$f":"H14","v":"  BE 2"},2,"",null,""]
[null,null,{"$f":"IFERROR(INDEX(Licenciés!B:B,MATCH($B16,Licenciés!$A:$A,0)),\"\")","v":""},{"$f":"IFERROR(INDEX(Licenciés!C:C,MATCH($B16,Licenciés!$A:$A,0)),\"\")","v":""},{"$f":"IFERROR(INDEX(Licenciés!D:D,MATCH($B16,Licenciés!$A:$A,0)),\"\")","v":""},{"$f":"IFERROR(INDEX(Licenciés!E:E,MATCH($B16,Licenciés!$A:$A,0)),\"\")","v":""},{"$f":"'BENJAMINS ESTIVAL'!$D$2&\" \"&'BENJAMINS ESTIVAL'!$U$2","v":" "},{"$f":"H15","v":"  BE 2"},3,"",null,""]
[null,null,{"$f":"IFERROR(INDEX(Licenciés!B:B,MATCH($B17,Licenciés!$A:$A,0)),\"\")","v":""},{"$f":"IFERROR(INDEX(Licenciés!C:C,MATCH($B17,Licenciés!$A:$A,0)),\"\")","v":""},{"$f":"IFERROR(INDEX(Licenciés!D:D,MATCH($B17,Licenciés!$A:$A,0)),\"\")","v":""},{"$f":"IFERROR(INDEX(Licenciés!E:E,MATCH($B17,Licenciés!$A:$A,0)),\"\")","v":""},{"$f":"'BENJAMINS ESTIVAL'!$D$2&\" \"&'BENJAMINS ESTIVAL'!$U$2","v":" "},{"$f":"H16","v":"  BE 2"},4,"",null,""]
["BE 3",null,{"$f":"IFERROR(INDEX(Licenciés!B:B,MATCH($B18,Licenciés!$A:$A,0)),\"\")","v":""},{"$f":"IFERROR(INDEX(Licenciés!C:C,MATCH($B18,Licenciés!$A:$A,0)),\"\")","v":""},{"$f":"IFERROR(INDEX(Licenciés!D:D,MATCH($B18,Licenciés!$A:$A,0)),\"\")","v":""},{"$f":"IFERROR(INDEX(Licenciés!E:E,MATCH($B18,Licenciés!$A:$A,0)),\"\")","v":""},{"$f":"'BENJAMINS ESTIVAL'!$D$2&\" \"&'BENJAMINS ESTIVAL'!$U$2","v":" "},{"$f":"G18&\" \"&A18","v":"  BE 3"},1,"",{"$f":"IF(B18=\"\",\"\",IF(AND(OR(COUNTIF(E18:E21,\"BE\")=4,COUNTIF(E18:E21,\"MI\")=4),COUNTIF(F18:F21,\"F\")=2,COUNTIF(F18:F21,\"M\")=2),\"Mixte\",\"NON\"))","v":""},""]
[null,null,{"$f":"IFERROR(INDEX(Licenciés!B:B,MATCH($B19,Licenciés!$A:$A,0)),\"\")","v":""},{"$f":"IFERROR(INDEX(Licenciés!C:C,MATCH($B19,Licenciés!$A:$A,0)),\"\")","v":""},{"$f":"IFERROR(INDEX(Licenciés!D:D,MATCH($B19,Licenciés!$A:$A,0)),\"\")","v":""},{"$f":"IFERROR(INDEX(Licenciés!E:E,MATCH($B19,Licenciés!$A:$A,0)),\"\")","v":""},{"$f":"'BENJAMINS ESTIVAL'!$D$2&\" \"&'BENJAMINS ESTIVAL'!$U$2","v":" "},{"$f":"H18","v":"  BE 3"},2,"",null,""]
[null,null,{"$f":"IFERROR(INDEX(Licenciés!B:B,MATCH($B20,Licenciés!$A:$A,0)),\"\")","v":""},{"$f":"IFERROR(INDEX(Licenciés!C:C,MATCH($B20,Licenciés!$A:$A,0)),\"\")","v":""},{"$f":"IFERROR(INDEX(Licenciés!D:D,MATCH($B20,Licenciés!$A:$A,0)),\"\")","v":""},{"$f":"IFERROR(INDEX(Licenciés!E:E,MATCH($B20,Licenciés!$A:$A,0)),\"\")","v":""},{"$f":"'BENJAMINS ESTIVAL'!$D$2&\" \"&'BENJAMINS ESTIVAL'!$U$2","v":" "},{"$f":"H19","v":"  BE 3"},3,"",null,""]
[null,null,{"$f":"IFERROR(INDEX(Licenciés!B:B,MATCH($B21,Licenciés!$A:$A,0)),\"\")","v":""},{"$f":"IFERROR(INDEX(Licenciés!C:C,MATCH($B21,Licenciés!$A:$A,0)),\"\")","v":""},{"$f":"IFERROR(INDEX(Licenciés!D:D,MATCH($B21,Licenciés!$A:$A,0)),\"\")","v":""},{"$f":"IFERROR(INDEX(Licenciés!E:E,MATCH($B21,Licenciés!$A:$A,0)),\"\")","v":""},{"$f":"'BENJAMINS ESTIVAL'!$D$2&\" \"&'BENJAMINS ESTIVAL'!$U$2","v":" "},{"$f":"H20","v":"  BE 3"},4,"",null,""]
["BE 4",null,{"$f":"IFERROR(INDEX(Licenciés!B:B,MATCH($B22,Licenciés!$A:$A,0)),\"\")","v":""},{"$f":"IFERROR(INDEX(Licenciés!C:C,MATCH($B22,Licenciés!$A:$A,0)),\"\")","v":""},{"$f":"IFERROR(INDEX(Licenciés!D:D,MATCH($B22,Licenciés!$A:$A,0)),\"\")","v":""},{"$f":"IFERROR(INDEX(Licenciés!E:E,MATCH($B22,Licenciés!$A:$A,0)),\"\")","v":""},{"$f":"'BENJAMINS ESTIVAL'!$D$2&\" \"&'BENJAMINS ESTIVAL'!$U$2","v":" "},{"$f":"G22&\" \"&A22","v":"  BE 4"},1,"",{"$f":"IF(B22=\"\",\"\",IF(AND(OR(COUNTIF(E22:E25,\"BE\")=4,COUNTIF(E22:E25,\"MI\")=4),COUNTIF(F22:F25,\"F\")=2,COUNTIF(F22:F25,\"M\")=2),\"Mixte\",\"NON\"))","v":""},""]
[null,null,{"$f":"IFERROR(INDEX(Licenciés!B:B,MATCH($B23,Licenciés!$A:$A,0)),\"\")","v":""},{"$f":"IFERROR(INDEX(Licenciés!C:C,MATCH($B23,Licenciés!$A:$A,0)),\"\")","v":""},{"$f":"IFERROR(INDEX(Licenciés!D:D,MATCH($B23,Licenciés!$A:$A,0)),\"\")","v":""},{"$f":"IFERROR(INDEX(Licenciés!E:E,MATCH($B23,Licenciés!$A:$A,0)),\"\")","v":""},{"$f":"'BENJAMINS ESTIVAL'!$D$2&\" \"&'BENJAMINS ESTIVAL'!$U$2","v":" "},{"$f":"H22","v":"  BE 4"},2,"",null,""]
[null,null,{"$f":"IFERROR(INDEX(Licenciés!B:B,MATCH($B24,Licenciés!$A:$A,0)),\"\")","v":""},{"$f":"IFERROR(INDEX(Licenciés!C:C,MATCH($B24,Licenciés!$A:$A,0)),\"\")","v":""},{"$f":"IFERROR(INDEX(Licenciés!D:D,MATCH($B24,Licenciés!$A:$A,0)),\"\")","v":""},{"$f":"IFERROR(INDEX(Licenciés!E:E,MATCH($B24,Licenciés!$A:$A,0)),\"\")","v":""},{"$f":"'BENJAMINS ESTIVAL'!$D$2&\" \"&'BENJAMINS ESTIVAL'!$U$2","v":" "},{"$f":"H23","v":"  BE 4"},3,"",null,""]
[null,null,{"$f":"IFERROR(INDEX(Licenciés!B:B,MATCH($B25,Licenciés!$A:$A,0)),\"\")","v":""},{"$f":"IFERROR(INDEX(Licenciés!C:C,MATCH($B25,Licenciés!$A:$A,0)),\"\")","v":""},{"$f":"IFERROR(INDEX(Licenciés!D:D,MATCH($B25,Licenciés!$A:$A,0)),\"\")","v":""},{"$f":"IFERROR(INDEX(Licenciés!E:E,MATCH($B25,Licenciés!$A:$A,0)),\"\")","v":""},{"$f":"'BENJAMINS ESTIVAL'!$D$2&\" \"&'BENJAMINS ESTIVAL'!$U$2","v":" "},{"$f":"H24","v":"  BE 4"},4,"",null,""]
["BE 5",null,{"$f":"IFERROR(INDEX(Licenciés!B:B,MATCH($B26,Licenciés!$A:$A,0)),\"\")","v":""},{"$f":"IFERROR(INDEX(Licenciés!C:C,MATCH($B26,Licenciés!$A:$A,0)),\"\")","v":""},{"$f":"IFERROR(INDEX(Licenciés!D:D,MATCH($B26,Licenciés!$A:$A,0)),\"\")","v":""},{"$f":"IFERROR(INDEX(Licenciés!E:E,MATCH($B26,Licenciés!$A:$A,0)),\"\")","v":""},{"$f":"'BENJAMINS ESTIVAL'!$D$2&\" \"&'BENJAMINS ESTIVAL'!$U$2","v":" "},{"$f":"G26&\" \"&A26","v":"  BE 5"},1,"",{"$f":"IF(B26=\"\",\"\",IF(AND(OR(COUNTIF(E26:E29,\"BE\")=4,COUNTIF(E26:E29,\"MI\")=4),COUNTIF(F26:F29,\"F\")=2,COUNTIF(F26:F29,\"M\")=2),\"Mixte\",\"NON\"))","v":""},""]
[null,null,{"$f":"IFERROR(INDEX(Licenciés!B:B,MATCH($B27,Licenciés!$A:$A,0)),\"\")","v":""},{"$f":"IFERROR(INDEX(Licenciés!C:C,MATCH($B27,Licenciés!$A:$A,0)),\"\")","v":""},{"$f":"IFERROR(INDEX(Licenciés!D:D,MATCH($B27,Licenciés!$A:$A,0)),\"\")","v":""},{"$f":"IFERROR(INDEX(Licenciés!E:E,MATCH($B27,Licenciés!$A:$A,0)),\"\")","v":""},{"$f":"'BENJAMINS ESTIVAL'!$D$2&\" \"&'BENJAMINS ESTIVAL'!$U$2","v":" "},{"$f":"H26","v":"  BE 5"},2,"",null,""]
[null,null,{"$f":"IFERROR(INDEX(Licenciés!B:B,MATCH($B28,Licenciés!$A:$A,0)),\"\")","v":""},{"$f":"IFERROR(INDEX(Licenciés!C:C,MATCH($B28,Licenciés!$A:$A,0)),\"\")","v":""},{"$f":"IFERROR(INDEX(Licenciés!D:D,MATCH($B28,Licenciés!$A:$A,0)),\"\")","v":""},{"$f":"IFERROR(INDEX(Licenciés!E:E,MATCH($B28,Licenciés!$A:$A,0)),\"\")","v":""},{"$f":"'BENJAMINS ESTIVAL'!$D$2&\" \"&'BENJAMINS ESTIVAL'!$U$2","v":" "},{"$f":"H27","v":"  BE 5"},3,"",null,""]
[null,null,{"$f":"IFERROR(INDEX(Licenciés!B:B,MATCH($B29,Licenciés!$A:$A,0)),\"\")","v":""},{"$f":"IFERROR(INDEX(Licenciés!C:C,MATCH($B29,Licenciés!$A:$A,0)),\"\")","v":""},{"$f":"IFERROR(INDEX(Licenciés!D:D,MATCH($B29,Licenciés!$A:$A,0)),\"\")","v":""},{"$f":"IFERROR(INDEX(Licenciés!E:E,MATCH($B29,Licenciés!$A:$A,0)),\"\")","v":""},{"$f":"'BENJAMINS ESTIVAL'!$D$2&\" \"&'BENJAMINS ESTIVAL'!$U$2","v":" "},{"$f":"H28","v":"  BE 5"},4,"",null,""]
["BE 6",null,{"$f":"IFERROR(INDEX(Licenciés!B:B,MATCH($B30,Licenciés!$A:$A,0)),\"\")","v":""},{"$f":"IFERROR(INDEX(Licenciés!C:C,MATCH($B30,Licenciés!$A:$A,0)),\"\")","v":""},{"$f":"IFERROR(INDEX(Licenciés!D:D,MATCH($B30,Licenciés!$A:$A,0)),\"\")","v":""},{"$f":"IFERROR(INDEX(Licenciés!E:E,MATCH($B30,Licenciés!$A:$A,0)),\"\")","v":""},{"$f":"'BENJAMINS ESTIVAL'!$D$2&\" \"&'BENJAMINS ESTIVAL'!$U$2","v":" "},{"$f":"G30&\" \"&A30","v":"  BE 6"},1,"","",""]
[null,null,{"$f":"IFERROR(INDEX(Licenciés!B:B,MATCH($B31,Licenciés!$A:$A,0)),\"\")","v":""},{"$f":"IFERROR(INDEX(Licenciés!C:C,MATCH($B31,Licenciés!$A:$A,0)),\"\")","v":""},{"$f":"IFERROR(INDEX(Licenciés!D:D,MATCH($B31,Licenciés!$A:$A,0)),\"\")","v":""},{"$f":"IFERROR(INDEX(Licenciés!E:E,MATCH($B31,Licenciés!$A:$A,0)),\"\")","v":""},{"$f":"'BENJAMINS ESTIVAL'!$D$2&\" \"&'BENJAMINS ESTIVAL'!$U$2","v":" "},{"$f":"H30","v":"  BE 6"},2,"",null,""]
[null,null,{"$f":"IFERROR(INDEX(Licenciés!B:B,MATCH($B32,Licenciés!$A:$A,0)),\"\")","v":""},{"$f":"IFERROR(INDEX(Licenciés!C:C,MATCH($B32,Licenciés!$A:$A,0)),\"\")","v":""},{"$f":"IFERROR(INDEX(Licenciés!D:D,MATCH($B32,Licenciés!$A:$A,0)),\"\")","v":""},{"$f":"IFERROR(INDEX(Licenciés!E:E,MATCH($B32,Licenciés!$A:$A,0)),\"\")","v":""},{"$f":"'BENJAMINS ESTIVAL'!$D$2&\" \"&'BENJAMINS ESTIVAL'!$U$2","v":" "},{"$f":"H31","v":"  BE 6"},3,"",null,""]
[null,null,{"$f":"IFERROR(INDEX(Licenciés!B:B,MATCH($B33,Licenciés!$A:$A,0)),\"\")","v":""},{"$f":"IFERROR(INDEX(Licenciés!C:C,MATCH($B33,Licenciés!$A:$A,0)),\"\")","v":""},{"$f":"IFERROR(INDEX(Licenciés!D:D,MATCH($B33,Licenciés!$A:$A,0)),\"\")","v":""},{"$f":"IFERROR(INDEX(Licenciés!E:E,MATCH($B33,Licenciés!$A:$A,0)),\"\")","v":""},{"$f":"'BENJAMINS ESTIVAL'!$D$2&\" \"&'BENJAMINS ESTIVAL'!$U$2","v":" "},{"$f":"H32","v":"  BE 6"},4,"",null,""]
["BE 7",null,{"$f":"IFERROR(INDEX(Licenciés!B:B,MATCH($B34,Licenciés!$A:$A,0)),\"\")","v":""},{"$f":"IFERROR(INDEX(Licenciés!C:C,MATCH($B34,Licenciés!$A:$A,0)),\"\")","v":""},{"$f":"IFERROR(INDEX(Licenciés!D:D,MATCH($B34,Licenciés!$A:$A,0)),\"\")","v":""},{"$f":"IFERROR(INDEX(Licenciés!E:E,MATCH($B34,Licenciés!$A:$A,0)),\"\")","v":""},{"$f":"'BENJAMINS ESTIVAL'!$D$2&\" \"&'BENJAMINS ESTIVAL'!$U$2","v":" "},{"$f":"G34&\" \"&A34","v":"  BE 7"},1,"","",""]
[null,null,{"$f":"IFERROR(INDEX(Licenciés!B:B,MATCH($B35,Licenciés!$A:$A,0)),\"\")","v":""},{"$f":"IFERROR(INDEX(Licenciés!C:C,MATCH($B35,Licenciés!$A:$A,0)),\"\")","v":""},{"$f":"IFERROR(INDEX(Licenciés!D:D,MATCH($B35,Licenciés!$A:$A,0)),\"\")","v":""},{"$f":"IFERROR(INDEX(Licenciés!E:E,MATCH($B35,Licenciés!$A:$A,0)),\"\")","v":""},{"$f":"'BENJAMINS ESTIVAL'!$D$2&\" \"&'BENJAMINS ESTIVAL'!$U$2","v":" "},{"$f":"H34","v":"  BE 7"},2,"",null,""]
[null,null,{"$f":"IFERROR(INDEX(Licenciés!B:B,MATCH($B36,Licenciés!$A:$A,0)),\"\")","v":""},{"$f":"IFERROR(INDEX(Licenciés!C:C,MATCH($B36,Licenciés!$A:$A,0)),\"\")","v":""},{"$f":"IFERROR(INDEX(Licenciés!D:D,MATCH($B36,Licenciés!$A:$A,0)),\"\")","v":""},{"$f":"IFERROR(INDEX(Licenciés!E:E,MATCH($B36,Licenciés!$A:$A,0)),\"\")","v":""},{"$f":"'BENJAMINS ESTIVAL'!$D$2&\" \"&'BENJAMINS ESTIVAL'!$U$2","v":" "},{"$f":"H35","v":"  BE 7"},3,"",null,""]
[null,null,{"$f":"IFERROR(INDEX(Licenciés!B:B,MATCH($B37,Licenciés!$A:$A,0)),\"\")","v":""},{"$f":"IFERROR(INDEX(Licenciés!C:C,MATCH($B37,Licenciés!$A:$A,0)),\"\")","v":""},{"$f":"IFERROR(INDEX(Licenciés!D:D,MATCH($B37,Licenciés!$A:$A,0)),\"\")","v":""},{"$f":"IFERROR(INDEX(Licenciés!E:E,MATCH($B37,Licenciés!$A:$A,0)),\"\")","v":""},{"$f":"'BENJAMINS ESTIVAL'!$D$2&\" \"&'BENJAMINS ESTIVAL'!$U$2","v":" "},{"$f":"H36","v":"  BE 7"},4,"",null,""]
["BE 8",null,{"$f":"IFERROR(INDEX(Licenciés!B:B,MATCH($B38,Licenciés!$A:$A,0)),\"\")","v":""},{"$f":"IFERROR(INDEX(Licenciés!C:C,MATCH($B38,Licenciés!$A:$A,0)),\"\")","v":""},{"$f":"IFERROR(INDEX(Licenciés!D:D,MATCH($B38,Licenciés!$A:$A,0)),\"\")","v":""},{"$f":"IFERROR(INDEX(Licenciés!E:E,MATCH($B38,Licenciés!$A:$A,0)),\"\")","v":""},{"$f":"'BENJAMINS ESTIVAL'!$D$2&\" \"&'BENJAMINS ESTIVAL'!$U$2","v":" "},{"$f":"G38&\" \"&A38","v":"  BE 8"},1,"","",""]
[null,null,{"$f":"IFERROR(INDEX(Licenciés!B:B,MATCH($B39,Licenciés!$A:$A,0)),\"\")","v":""},{"$f":"IFERROR(INDEX(Licenciés!C:C,MATCH($B39,Licenciés!$A:$A,0)),\"\")","v":""},{"$f":"IFERROR(INDEX(Licenciés!D:D,MATCH($B39,Licenciés!$A:$A,0)),\"\")","v":""},{"$f":"IFERROR(INDEX(Licenciés!E:E,MATCH($B39,Licenciés!$A:$A,0)),\"\")","v":""},{"$f":"'BENJAMINS ESTIVAL'!$D$2&\" \"&'BENJAMINS ESTIVAL'!$U$2","v":" "},{"$f":"H38","v":"  BE 8"},2,"",null,""]
[null,null,{"$f":"IFERROR(INDEX(Licenciés!B:B,MATCH($B40,Licenciés!$A:$A,0)),\"\")","v":""},{"$f":"IFERROR(INDEX(Licenciés!C:C,MATCH($B40,Licenciés!$A:$A,0)),\"\")","v":""},{"$f":"IFERROR(INDEX(Licenciés!D:D,MATCH($B40,Licenciés!$A:$A,0)),\"\")","v":""},{"$f":"IFERROR(INDEX(Licenciés!E:E,MATCH($B40,Licenciés!$A:$A,0)),\"\")","v":""},{"$f":"'BENJAMINS ESTIVAL'!$D$2&\" \"&'BENJAMINS ESTIVAL'!$U$2","v":" "},{"$f":"H39","v":"  BE 8"},3,"",null,""]
[null,null,{"$f":"IFERROR(INDEX(Licenciés!B:B,MATCH($B41,Licenciés!$A:$A,0)),\"\")","v":""},{"$f":"IFERROR(INDEX(Licenciés!C:C,MATCH($B41,Licenciés!$A:$A,0)),\"\")","v":""},{"$f":"IFERROR(INDEX(Licenciés!D:D,MATCH($B41,Licenciés!$A:$A,0)),\"\")","v":""},{"$f":"IFERROR(INDEX(Licenciés!E:E,MATCH($B41,Licenciés!$A:$A,0)),\"\")","v":""},{"$f":"'BENJAMINS ESTIVAL'!$D$2&\" \"&'BENJAMINS ESTIVAL'!$U$2","v":" "},{"$f":"H40","v":"  BE 8"},4,"",null,""]
["BE 9",null,{"$f":"IFERROR(INDEX(Licenciés!B:B,MATCH($B42,Licenciés!$A:$A,0)),\"\")","v":""},{"$f":"IFERROR(INDEX(Licenciés!C:C,MATCH($B42,Licenciés!$A:$A,0)),\"\")","v":""},{"$f":"IFERROR(INDEX(Licenciés!D:D,MATCH($B42,Licenciés!$A:$A,0)),\"\")","v":""},{"$f":"IFERROR(INDEX(Licenciés!E:E,MATCH($B42,Licenciés!$A:$A,0)),\"\")","v":""},{"$f":"'BENJAMINS ESTIVAL'!$D$2&\" \"&'BENJAMINS ESTIVAL'!$U$2","v":" "},{"$f":"G42&\" \"&A42","v":"  BE 9"},1,"",{"$f":"IF(B42=\"\",\"\",IF(AND(OR(COUNTIF(E42:E45,\"BE\")=4,COUNTIF(E42:E45,\"MI\")=4),COUNTIF(F42:F45,\"F\")=2,COUNTIF(F42:F45,\"M\")=2),\"Mixte\",\"NON\"))","v":""},""]
[null,null,{"$f":"IFERROR(INDEX(Licenciés!B:B,MATCH($B43,Licenciés!$A:$A,0)),\"\")","v":""},{"$f":"IFERROR(INDEX(Licenciés!C:C,MATCH($B43,Licenciés!$A:$A,0)),\"\")","v":""},{"$f":"IFERROR(INDEX(Licenciés!D:D,MATCH($B43,Licenciés!$A:$A,0)),\"\")","v":""},{"$f":"IFERROR(INDEX(Licenciés!E:E,MATCH($B43,Licenciés!$A:$A,0)),\"\")","v":""},{"$f":"'BENJAMINS ESTIVAL'!$D$2&\" \"&'BENJAMINS ESTIVAL'!$U$2","v":" "},{"$f":"H42","v":"  BE 9"},2,"",null,""]
[null,null,{"$f":"IFERROR(INDEX(Licenciés!B:B,MATCH($B44,Licenciés!$A:$A,0)),\"\")","v":""},{"$f":"IFERROR(INDEX(Licenciés!C:C,MATCH($B44,Licenciés!$A:$A,0)),\"\")","v":""},{"$f":"IFERROR(INDEX(Licenciés!D:D,MATCH($B44,Licenciés!$A:$A,0)),\"\")","v":""},{"$f":"IFERROR(INDEX(Licenciés!E:E,MATCH($B44,Licenciés!$A:$A,0)),\"\")","v":""},{"$f":"'BENJAMINS ESTIVAL'!$D$2&\" \"&'BENJAMINS ESTIVAL'!$U$2","v":" "},{"$f":"H43","v":"  BE 9"},3,"",null,""]
[null,null,{"$f":"IFERROR(INDEX(Licenciés!B:B,MATCH($B45,Licenciés!$A:$A,0)),\"\")","v":""},{"$f":"IFERROR(INDEX(Licenciés!C:C,MATCH($B45,Licenciés!$A:$A,0)),\"\")","v":""},{"$f":"IFERROR(INDEX(Licenciés!D:D,MATCH($B45,Licenciés!$A:$A,0)),\"\")","v":""},{"$f":"IFERROR(INDEX(Licenciés!E:E,MATCH($B45,Licenciés!$A:$A,0)),\"\")","v":""},{"$f":"'BENJAMINS ESTIVAL'!$D$2&\" \"&'BENJAMINS ESTIVAL'!$U$2","v":" "},{"$f":"H44","v":"  BE 9"},4,"",null,""]
["BE 10",null,{"$f":"IFERROR(INDEX(Licenciés!B:B,MATCH($B46,Licenciés!$A:$A,0)),\"\")","v":""},{"$f":"IFERROR(INDEX(Licenciés!C:C,MATCH($B46,Licenciés!$A:$A,0)),\"\")","v":""},{"$f":"IFERROR(INDEX(Licenciés!D:D,MATCH($B46,Licenciés!$A:$A,0)),\"\")","v":""},{"$f":"IFERROR(INDEX(Licenciés!E:E,MATCH($B46,Licenciés!$A:$A,0)),\"\")","v":""},{"$f":"'BENJAMINS ESTIVAL'!$D$2&\" \"&'BENJAMINS ESTIVAL'!$U$2","v":" "},{"$f":"G46&\" \"&A46","v":"  BE 10"},1,"",{"$f":"IF(B46=\"\",\"\",IF(AND(OR(COUNTIF(E46:E49,\"BE\")=4,COUNTIF(E46:E49,\"MI\")=4),COUNTIF(F46:F49,\"F\")=2,COUNTIF(F46:F49,\"M\")=2),\"Mixte\",\"NON\"))","v":""},""]
[null,null,{"$f":"IFERROR(INDEX(Licenciés!B:B,MATCH($B47,Licenciés!$A:$A,0)),\"\")","v":""},{"$f":"IFERROR(INDEX(Licenciés!C:C,MATCH($B47,Licenciés!$A:$A,0)),\"\")","v":""},{"$f":"IFERROR(INDEX(Licenciés!D:D,MATCH($B47,Licenciés!$A:$A,0)),\"\")","v":""},{"$f":"IFERROR(INDEX(Licenciés!E:E,MATCH($B47,Licenciés!$A:$A,0)),\"\")","v":""},{"$f":"'BENJAMINS ESTIVAL'!$D$2&\" \"&'BENJAMINS ESTIVAL'!$U$2","v":" "},{"$f":"H46","v":"  BE 10"},2,"",null,""]
[null,null,{"$f":"IFERROR(INDEX(Licenciés!B:B,MATCH($B48,Licenciés!$A:$A,0)),\"\")","v":""},{"$f":"IFERROR(INDEX(Licenciés!C:C,MATCH($B48,Licenciés!$A:$A,0)),\"\")","v":""},{"$f":"IFERROR(INDEX(Licenciés!D:D,MATCH($B48,Licenciés!$A:$A,0)),\"\")","v":""},{"$f":"IFERROR(INDEX(Licenciés!E:E,MATCH($B48,Licenciés!$A:$A,0)),\"\")","v":""},{"$f":"'BENJAMINS ESTIVAL'!$D$2&\" \"&'BENJAMINS ESTIVAL'!$U$2","v":" "},{"$f":"H47","v":"  BE 10"},3,"",null,""]
[null,null,{"$f":"IFERROR(INDEX(Licenciés!B:B,MATCH($B49,Licenciés!$A:$A,0)),\"\")","v":""},{"$f":"IFERROR(INDEX(Licenciés!C:C,MATCH($B49,Licenciés!$A:$A,0)),\"\")","v":""},{"$f":"IFERROR(INDEX(Licenciés!D:D,MATCH($B49,Licenciés!$A:$A,0)),\"\")","v":""},{"$f":"IFERROR(INDEX(Licenciés!E:E,MATCH($B49,Licenciés!$A:$A,0)),\"\")","v":""},{"$f":"'BENJAMINS ESTIVAL'!$D$2&\" \"&'BENJAMINS ESTIVAL'!$U$2","v":" "},{"$f":"H48","v":"  BE 10"},4,"",null,""]

{"sheet":"Relais_MI","index":6,"n_rows":49,"n_cols":12,"rows_kept":49,"cut":false,"hidden":false,"merged":[[33,0,36,0],[37,0,40,0],[41,0,44,0],[45,0,48,0],[6,2,8,2],[9,0,12,0],[13,0,16,0],[17,0,20,0],[21,0,24,0],[25,0,28,0],[29,0,32,0],[9,10,12,10],[13,10,16,10],[17,10,20,10],[21,10,24,10],[25,10,28,10],[29,10,32,10],[33,10,36,10],[37,10,40,10],[41,10,44,10],[45,10,48,10],[6,7,8,7],[6,8,8,8],[0,2,0,11],[2,1,4,10],[6,3,8,3],[6,4,8,4],[6,5,8,5],[6,6,8,6],[6,11,8,11],[6,9,8,9],[6,10,8,10]]}
[null,null,"Equipe Athlé Automne / Printemps U16"]
[]
[null,"Minimes U16"]
[]
[]
[]
[null,null,"Nom","Prénom","Cat","Sexe","nom club","nom equipe","ordre de relais","Vérif catégorie athlète","Vérif relais mixte","Vérif athlète dans un seul relais"]
[]
[null,"Licence"]
["MI 1",null,{"$f":"IFERROR(INDEX(Licenciés!B:B,MATCH($B10,Licenciés!$A:$A,0)),\"\")","v":""},{"$f":"IFERROR(INDEX(Licenciés!C:C,MATCH($B10,Licenciés!$A:$A,0)),\"\")","v":""},{"$f":"IFERROR(INDEX(Licenciés!D:D,MATCH($B10,Licenciés!$A:$A,0)),\"\")","v":""},{"$f":"IFERROR(INDEX(Licenciés!E:E,MATCH($B10,Licenciés!$A:$A,0)),\"\")","v":""},{"$f":"'MINIMES ESTIVAL'!$D$2&\" \"&'MINIMES ESTIVAL'!$X$2","v":" "},{"$f":"G10&\" \"&A10","v":"  MI 1"},1,{"$f":"IF(B10=\"\",\"\",IF(E10=\"MI\",\"OK\",\"NON\"))","v":""},{"$f":"IF(B10=\"\",\"\",IF(AND(OR(COUNTIF(E10:E13,\"BE\")=4,COUNTIF(E10:E13,\"MI\")=4),COUNTIF(F10:F13,\"F\")=2,COUNTIF(F10:F13,\"M\")=2),\"Mixte\",\"NON\"))","v":""},{"$f":"IF(B10=\"\",\"\",IF(COUNTIF(B:B,B10)>1,\"athlète dans plusieurs relais\",\"OK\"))","v":""}]
[null,null,{"$f":"IFERROR(INDEX(Licenciés!B:B,MATCH($B11,Licenciés!$A:$A,0)),\"\")","v":""},{"$f":"IFERROR(INDEX(Licenciés!C:C,MATCH($B11,Licenciés!$A:$A,0)),\"\")","v":""},{"$f":"IFERROR(INDEX(Licenciés!D:D,MATCH($B11,Licenciés!$A:$A,0)),\"\")","v":""},{"$f":"IFERROR(INDEX(Licenciés!E:E,MATCH($B11,Licenciés!$A:$A,0)),\"\")","v":""},{"$f":"G10","v":" "},"  MI 1",2,"",null,""]
[null,null,{"$f":"IFERROR(INDEX(Licenciés!B:B,MATCH($B12,Licenciés!$A:$A,0)),\"\")","v":""},{"$f":"IFERROR(INDEX(Licenciés!C:C,MATCH($B12,Licenciés!$A:$A,0)),\"\")","v":""},{"$f":"IFERROR(INDEX(Licenciés!D:D,MATCH($B12,Licenciés!$A:$A,0)),\"\")","v":""},{"$f":"IFERROR(INDEX(Licenciés!E:E,MATCH($B12,Licenciés!$A:$A,0)),\"\")","v":""},{"$f":"G11","v":" "},"  MI 1",3,"",null,""]
[null,null,{"$f":"IFERROR(INDEX(Licenciés!B:B,MATCH($B13,Licenciés!$A:$A,0)),\"\")","v":""},{"$f":"IFERROR(INDEX(Licenciés!C:C,MATCH($B13,Licenciés!$A:$A,0)),\"\")","v":""},{"$f":"IFERROR(INDEX(Licenciés!D:D,MATCH($B13,Licenciés!$A:$A,0)),\"\")","v":""},{"$f":"IFERROR(INDEX(Licenciés!E:E,MATCH($B13,Licenciés!$A:$A,0)),\"\")","v":""},{"$f":"G12","v":" "},"  MI 1",4,"",null,""]
["MI 2",null,{"$f":"IFERROR(INDEX(Licenciés!B:B,MATCH($B14,Licenciés!$A:$A,0)),\"\")","v":""},{"$f":"IFERROR(INDEX(Licenciés!C:C,MATCH($B14,Licenciés!$A:$A,0)),\"\")","v":""},{"$f":"IFERROR(INDEX(Licenciés!D:D,MATCH($B14,Licenciés!$A:$A,0)),\"\")","v":""},{"$f":"IFERROR(INDEX(Licenciés!E:E,MATCH($B14,Licenciés!$A:$A,0)),\"\")","v":""},{"$f":"'MINIMES ESTIVAL'!$D$2&\" \"&'MINIMES ESTIVAL'!$X$2","v":" "},{"$f":"G14&\" \"&A14","v":"  MI 2"},1,"",{"$f":"IF(B14=\"\",\"\",IF(AND(OR(COUNTIF(E14:E17,\"BE\")=4,COUNTIF(E14:E17,\"MI\")=4),COUNTIF(F14:F17,\"F\")=2,COUNTIF(F14:F17,\"M\")=2),\"Mixte\",\"NON\"))","v":""},""]
[null,null,{"$f":"IFERROR(INDEX(Licenciés!B:B,MATCH($B15,Licenciés!$A:$A,0)),\"\")","v":""},{"$f":"IFERROR(INDEX(Licenciés!C:C,MATCH($B15,Licenciés!$A:$A,0)),\"\")","v":""},{"$f":"IFERROR(INDEX(Licenciés!D:D,MATCH($B15,Licenciés!$A:$A,0)),\"\")","v":""},{"$f":"IFERROR(INDEX(Licenciés!E:E,MATCH($B15,Licenciés!$A:$A,0)),\"\")","v":""},{"$f":"G14","v":" "},{"$f":"H14","v":"  MI 2"},2,"",null,""]
[null,null,{"$f":"IFERROR(INDEX(Licenciés!B:B,MATCH($B16,Licenciés!$A:$A,0)),\"\")","v":""},{"$f":"IFERROR(INDEX(Licenciés!C:C,MATCH($B16,Licenciés!$A:$A,0)),\"\")","v":""},{"$f":"IFERROR(INDEX(Licenciés!D:D,MATCH($B16,Licenciés!$A:$A,0)),\"\")","v":""},{"$f":"IFERROR(INDEX(Licenciés!E:E,MATCH($B16,Licenciés!$A:$A,0)),\"\")","v":""},{"$f":"G15","v":" "},{"$f":"H15","v":"  MI 2"},3,"",null,""]
[null,null,{"$f":"IFERROR(INDEX(Licenciés!B:B,MATCH($B17,Licenciés!$A:$A,0)),\"\")","v":""},{"$f":"IFERROR(INDEX(Licenciés!C:C,MATCH($B17,Licenciés!$A:$A,0)),\"\")","v":""},{"$f":"IFERROR(INDEX(Licenciés!D:D,MATCH($B17,Licenciés!$A:$A,0)),\"\")","v":""},{"$f":"IFERROR(INDEX(Licenciés!E:E,MATCH($B17,Licenciés!$A:$A,0)),\"\")","v":""},{"$f":"G16","v":" "},{"$f":"H16","v":"  MI 2"},4,"",null,""]
["MI 3",null,{"$f":"IFERROR(INDEX(Licenciés!B:B,MATCH($B18,Licenciés!$A:$A,0)),\"\")","v":""},{"$f":"IFERROR(INDEX(Licenciés!C:C,MATCH($B18,Licenciés!$A:$A,0)),\"\")","v":""},{"$f":"IFERROR(INDEX(Licenciés!D:D,MATCH($B18,Licenciés!$A:$A,0)),\"\")","v":""},{"$f":"IFERROR(INDEX(Licenciés!E:E,MATCH($B18,Licenciés!$A:$A,0)),\"\")","v":""},{"$f":"'MINIMES ESTIVAL'!$D$2&\" \"&'MINIMES ESTIVAL'!$X$2","v":" "},{"$f":"G18&\" \"&A18","v":"  MI 3"},1,"",{"$f":"IF(B18=\"\",\"\",IF(AND(OR(COUNTIF(E18:E21,\"BE\")=4,COUNTIF(E18:E21,\"MI\")=4),COUNTIF(F18:F21,\"F\")=2,COUNTIF(F18:F21,\"M\")=2),\"Mixte\",\"NON\"))","v":""},""]
[null,null,{"$f":"IFERROR(INDEX(Licenciés!B:B,MATCH($B19,Licenciés!$A:$A,0)),\"\")","v":""},{"$f":"IFERROR(INDEX(Licenciés!C:C,MATCH($B19,Licenciés!$A:$A,0)),\"\")","v":""},{"$f":"IFERROR(INDEX(Licenciés!D:D,MATCH($B19,Licenciés!$A:$A,0)),\"\")","v":""},{"$f":"IFERROR(INDEX(Licenciés!E:E,MATCH($B19,Licenciés!$A:$A,0)),\"\")","v":""},{"$f":"G18","v":" "},{"$f":"H18","v":"  MI 3"},2,"",null,""]
[null,null,{"$f":"IFERROR(INDEX(Licenciés!B:B,MATCH($B20,Licenciés!$A:$A,0)),\"\")","v":""},{"$f":"IFERROR(INDEX(Licenciés!C:C,MATCH($B20,Licenciés!$A:$A,0)),\"\")","v":""},{"$f":"IFERROR(INDEX(Licenciés!D:D,MATCH($B20,Licenciés!$A:$A,0)),\"\")","v":""},{"$f":"IFERROR(INDEX(Licenciés!E:E,MATCH($B20,Licenciés!$A:$A,0)),\"\")","v":""},{"$f":"G19","v":" "},{"$f":"H19","v":"  MI 3"},3,"",null,""]
[null,null,{"$f":"IFERROR(INDEX(Licenciés!B:B,MATCH($B21,Licenciés!$A:$A,0)),\"\")","v":""},{"$f":"IFERROR(INDEX(Licenciés!C:C,MATCH($B21,Licenciés!$A:$A,0)),\"\")","v":""},{"$f":"IFERROR(INDEX(Licenciés!D:D,MATCH($B21,Licenciés!$A:$A,0)),\"\")","v":""},{"$f":"IFERROR(INDEX(Licenciés!E:E,MATCH($B21,Licenciés!$A:$A,0)),\"\")","v":""},{"$f":"G20","v":" "},{"$f":"H20","v":"  MI 3"},4,"",null,""]
["MI 4",null,{"$f":"IFERROR(INDEX(Licenciés!B:B,MATCH($B22,Licenciés!$A:$A,0)),\"\")","v":""},{"$f":"IFERROR(INDEX(Licenciés!C:C,MATCH($B22,Licenciés!$A:$A,0)),\"\")","v":""},{"$f":"IFERROR(INDEX(Licenciés!D:D,MATCH($B22,Licenciés!$A:$A,0)),\"\")","v":""},{"$f":"IFERROR(INDEX(Licenciés!E:E,MATCH($B22,Licenciés!$A:$A,0)),\"\")","v":""},{"$f":"'MINIMES ESTIVAL'!$D$2&\" \"&'MINIMES ESTIVAL'!$X$2","v":" "},{"$f":"G22&\" \"&A22","v":"  MI 4"},1,"","",""]
[null,null,{"$f":"IFERROR(INDEX(Licenciés!B:B,MATCH($B23,Licenciés!$A:$A,0)),\"\")","v":""},{"$f":"IFERROR(INDEX(Licenciés!C:C,MATCH($B23,Licenciés!$A:$A,0)),\"\")","v":""},{"$f":"IFERROR(INDEX(Licenciés!D:D,MATCH($B23,Licenciés!$A:$A,0)),\"\")","v":""},{"$f":"IFERROR(INDEX(Licenciés!E:E,MATCH($B23,Licenciés!$A:$A,0)),\"\")","v":""},{"$f":"G22","v":" "},{"$f":"H22","v":"  MI 4"},2,"",null,""]
[null,null,{"$f":"IFERROR(INDEX(Licenciés!B:B,MATCH($B24,Licenciés!$A:$A,0)),\"\")","v":""},{"$f":"IFERROR(INDEX(Licenciés!C:C,MATCH($B24,Licenciés!$A:$A,0)),\"\")","v":""},{"$f":"IFERROR(INDEX(Licenciés!D:D,MATCH($B24,Licenciés!$A:$A,0)),\"\")","v":""},{"$f":"IFERROR(INDEX(Licenciés!E:E,MATCH($B24,Licenciés!$A:$A,0)),\"\")","v":""},{"$f":"G23","v":" "},{"$f":"H23","v":"  MI 4"},3,"",null,""]
[null,null,{"$f":"IFERROR(INDEX(Licenciés!B:B,MATCH($B25,Licenciés!$A:$A,0)),\"\")","v":""},{"$f":"IFERROR(INDEX(Licenciés!C:C,MATCH($B25,Licenciés!$A:$A,0)),\"\")","v":""},{"$f":"IFERROR(INDEX(Licenciés!D:D,MATCH($B25,Licenciés!$A:$A,0)),\"\")","v":""},{"$f":"IFERROR(INDEX(Licenciés!E:E,MATCH($B25,Licenciés!$A:$A,0)),\"\")","v":""},{"$f":"G24","v":" "},{"$f":"H24","v":"  MI 4"},4,"",null,""]
["MI 5",null,{"$f":"IFERROR(INDEX(Licenciés!B:B,MATCH($B26,Licenciés!$A:$A,0)),\"\")","v":""},{"$f":"IFERROR(INDEX(Licenciés!C:C,MATCH($B26,Licenciés!$A:$A,0)),\"\")","v":""},{"$f":"IFERROR(INDEX(Licenciés!D:D,MATCH($B26,Licenciés!$A:$A,0)),\"\")","v":""},{"$f":"IFERROR(INDEX(Licenciés!E:E,MATCH($B26,Licenciés!$A:$A,0)),\"\")","v":""},{"$f":"'MINIMES ESTIVAL'!$D$2&\" \"&'MINIMES ESTIVAL'!$X$2","v":" "},{"$f":"G26&\" \"&A26","v":"  MI 5"},1,"","",""]
[null,null,{"$f":"IFERROR(INDEX(Licenciés!B:B,MATCH($B27,Licenciés!$A:$A,0)),\"\")","v":""},{"$f":"IFERROR(INDEX(Licenciés!C:C,MATCH($B27,Licenciés!$A:$A,0)),\"\")","v":""},{"$f":"IFERROR(INDEX(Licenciés!D:D,MATCH($B27,Licenciés!$A:$A,0)),\"\")","v":""},{"$f":"IFERROR(INDEX(Licenciés!E:E,MATCH($B27,Licenciés!$A:$A,0)),\"\")","v":""},{"$f":"G26","v":" "},{"$f":"H26","v":"  MI 5"},2,"",null,""]
[null,null,{"$f":"IFERROR(INDEX(Licenciés!B:B,MATCH($B28,Licenciés!$A:$A,0)),\"\")","v":""},{"$f":"IFERROR(INDEX(Licenciés!C:C,MATCH($B28,Licenciés!$A:$A,0)),\"\")","v":""},{"$f":"IFERROR(INDEX(Licenciés!D:D,MATCH($B28,Licenciés!$A:$A,0)),\"\")","v":""},{"$f":"IFERROR(INDEX(Licenciés!E:E,MATCH($B28,Licenciés!$A:$A,0)),\"\")","v":""},{"$f":"G27","v":" "},{"$f":"H27","v":"  MI 5"},3,"",null,""]
[null,null,{"$f":"IFERROR(INDEX(Licenciés!B:B,MATCH($B29,Licenciés!$A:$A,0)),\"\")","v":""},{"$f":"IFERROR(INDEX(Licenciés!C:C,MATCH($B29,Licenciés!$A:$A,0)),\"\")","v":""},{"$f":"IFERROR(INDEX(Licenciés!D:D,MATCH($B29,Licenciés!$A:$A,0)),\"\")","v":""},{"$f":"IFERROR(INDEX(Licenciés!E:E,MATCH($B29,Licenciés!$A:$A,0)),\"\")","v":""},{"$f":"G28","v":" "},{"$f":"H28","v":"  MI 5"},4,"",null,""]
["MI 6",null,{"$f":"IFERROR(INDEX(Licenciés!B:B,MATCH($B30,Licenciés!$A:$A,0)),\"\")","v":""},{"$f":"IFERROR(INDEX(Licenciés!C:C,MATCH($B30,Licenciés!$A:$A,0)),\"\")","v":""},{"$f":"IFERROR(INDEX(Licenciés!D:D,MATCH($B30,Licenciés!$A:$A,0)),\"\")","v":""},{"$f":"IFERROR(INDEX(Licenciés!E:E,MATCH($B30,Licenciés!$A:$A,0)),\"\")","v":""},{"$f":"'MINIMES ESTIVAL'!$D$2&\" \"&'MINIMES ESTIVAL'!$X$2","v":" "},{"$f":"G30&\" \"&A30","v":"  MI 6"},1,"","",""]
[null,null,{"$f":"IFERROR(INDEX(Licenciés!B:B,MATCH($B31,Licenciés!$A:$A,0)),\"\")","v":""},{"$f":"IFERROR(INDEX(Licenciés!C:C,MATCH($B31,Licenciés!$A:$A,0)),\"\")","v":""},{"$f":"IFERROR(INDEX(Licenciés!D:D,MATCH($B31,Licenciés!$A:$A,0)),\"\")","v":""},{"$f":"IFERROR(INDEX(Licenciés!E:E,MATCH($B31,Licenciés!$A:$A,0)),\"\")","v":""},{"$f":"G30","v":" "},{"$f":"H30","v":"  MI 6"},2,"",null,""]
[null,null,{"$f":"IFERROR(INDEX(Licenciés!B:B,MATCH($B32,Licenciés!$A:$A,0)),\"\")","v":""},{"$f":"IFERROR(INDEX(Licenciés!C:C,MATCH($B32,Licenciés!$A:$A,0)),\"\")","v":""},{"$f":"IFERROR(INDEX(Licenciés!D:D,MATCH($B32,Licenciés!$A:$A,0)),\"\")","v":""},{"$f":"IFERROR(INDEX(Licenciés!E:E,MATCH($B32,Licenciés!$A:$A,0)),\"\")","v":""},{"$f":"G31","v":" "},{"$f":"H31","v":"  MI 6"},3,"",null,""]
[null,null,{"$f":"IFERROR(INDEX(Licenciés!B:B,MATCH($B33,Licenciés!$A:$A,0)),\"\")","v":""},{"$f":"IFERROR(INDEX(Licenciés!C:C,MATCH($B33,Licenciés!$A:$A,0)),\"\")","v":""},{"$f":"IFERROR(INDEX(Licenciés!D:D,MATCH($B33,Licenciés!$A:$A,0)),\"\")","v":""},{"$f":"IFERROR(INDEX(Licenciés!E:E,MATCH($B33,Licenciés!$A:$A,0)),\"\")","v":""},{"$f":"G32","v":" "},{"$f":"H32","v":"  MI 6"},4,"",null,""]
["MI 7",null,{"$f":"IFERROR(INDEX(Licenciés!B:B,MATCH($B34,Licenciés!$A:$A,0)),\"\")","v":""},{"$f":"IFERROR(INDEX(Licenciés!C:C,MATCH($B34,Licenciés!$A:$A,0)),\"\")","v":""},{"$f":"IFERROR(INDEX(Licenciés!D:D,MATCH($B34,Licenciés!$A:$A,0)),\"\")","v":""},{"$f":"IFERROR(INDEX(Licenciés!E:E,MATCH($B34,Licenciés!$A:$A,0)),\"\")","v":""},{"$f":"'MINIMES ESTIVAL'!$D$2&\" \"&'MINIMES ESTIVAL'!$X$2","v":" "},{"$f":"G34&\" \"&A34","v":"  MI 7"},1,"",{"$f":"IF(B34=\"\",\"\",IF(AND(OR(COUNTIF(E34:E37,\"BE\")=4,COUNTIF(E34:E37,\"MI\")=4),COUNTIF(F34:F37,\"F\")=2,COUNTIF(F34:F37,\"M\")=2),\"Mixte\",\"NON\"))","v":""},""]
[null,null,{"$f":"IFERROR(INDEX(Licenciés!B:B,MATCH($B35,Licenciés!$A:$A,0)),\"\")","v":""},{"$f":"IFERROR(INDEX(Licenciés!C:C,MATCH($B35,Licenciés!$A:$A,0)),\"\")","v":""},{"$f":"IFERROR(INDEX(Licenciés!D:D,MATCH($B35,Licenciés!$A:$A,0)),\"\")","v":""},{"$f":"IFERROR(INDEX(Licenciés!E:E,MATCH($B35,Licenciés!$A:$A,0)),\"\")","v":""},{"$f":"G34","v":" "},{"$f":"H34","v":"  MI 7"},2,"",null,""]
[null,null,{"$f":"IFERROR(INDEX(Licenciés!B:B,MATCH($B36,Licenciés!$A:$A,0)),\"\")","v":""},{"$f":"IFERROR(INDEX(Licenciés!C:C,MATCH($B36,Licenciés!$A:$A,0)),\"\")","v":""},{"$f":"IFERROR(INDEX(Licenciés!D:D,MATCH($B36,Licenciés!$A:$A,0)),\"\")","v":""},{"$f":"IFERROR(INDEX(Licenciés!E:E,MATCH($B36,Licenciés!$A:$A,0)),\"\")","v":""},{"$f":"G35","v":" "},{"$f":"H35","v":"  MI 7"},3,"",null,""]
[null,null,{"$f":"IFERROR(INDEX(Licenciés!B:B,MATCH($B37,Licenciés!$A:$A,0)),\"\")","v":""},{"$f":"IFERROR(INDEX(Licenciés!C:C,MATCH($B37,Licenciés!$A:$A,0)),\"\")","v":""},{"$f":"IFERROR(INDEX(Licenciés!D:D,MATCH($B37,Licenciés!$A:$A,0)),\"\")","v":""},{"$f":"IFERROR(INDEX(Licenciés!E:E,MATCH($B37,Licenciés!$A:$A,0)),\"\")","v":""},{"$f":"G36","v":" "},{"$f":"H36","v":"  MI 7"},4,"",null,""]
["MI 8",null,{"$f":"IFERROR(INDEX(Licenciés!B:B,MATCH($B38,Licenciés!$A:$A,0)),\"\")","v":""},{"$f":"IFERROR(INDEX(Licenciés!C:C,MATCH($B38,Licenciés!$A:$A,0)),\"\")","v":""},{"$f":"IFERROR(INDEX(Licenciés!D:D,MATCH($B38,Licenciés!$A:$A,0)),\"\")","v":""},{"$f":"IFERROR(INDEX(Licenciés!E:E,MATCH($B38,Licenciés!$A:$A,0)),\"\")","v":""},{"$f":"'MINIMES ESTIVAL'!$D$2&\" \"&'MINIMES ESTIVAL'!$X$2","v":" "},{"$f":"G38&\" \"&A38","v":"  MI 8"},1,"","",""]
[null,null,{"$f":"IFERROR(INDEX(Licenciés!B:B,MATCH($B39,Licenciés!$A:$A,0)),\"\")","v":""},{"$f":"IFERROR(INDEX(Licenciés!C:C,MATCH($B39,Licenciés!$A:$A,0)),\"\")","v":""},{"$f":"IFERROR(INDEX(Licenciés!D:D,MATCH($B39,Licenciés!$A:$A,0)),\"\")","v":""},{"$f":"IFERROR(INDEX(Licenciés!E:E,MATCH($B39,Licenciés!$A:$A,0)),\"\")","v":""},{"$f":"G38","v":" "},{"$f":"H38","v":"  MI 8"},2,"",null,""]
[null,null,{"$f":"IFERROR(INDEX(Licenciés!B:B,MATCH($B40,Licenciés!$A:$A,0)),\"\")","v":""},{"$f":"IFERROR(INDEX(Licenciés!C:C,MATCH($B40,Licenciés!$A:$A,0)),\"\")","v":""},{"$f":"IFERROR(INDEX(Licenciés!D:D,MATCH($B40,Licenciés!$A:$A,0)),\"\")","v":""},{"$f":"IFERROR(INDEX(Licenciés!E:E,MATCH($B40,Licenciés!$A:$A,0)),\"\")","v":""},{"$f":"G39","v":" "},{"$f":"H39","v":"  MI 8"},3,"",null,""]
[null,null,{"$f":"IFERROR(INDEX(Licenciés!B:B,MATCH($B41,Licenciés!$A:$A,0)),\"\")","v":""},{"$f":"IFERROR(INDEX(Licenciés!C:C,MATCH($B41,Licenciés!$A:$A,0)),\"\")","v":""},{"$f":"IFERROR(INDEX(Licenciés!D:D,MATCH($B41,Licenciés!$A:$A,0)),\"\")","v":""},{"$f":"IFERROR(INDEX(Licenciés!E:E,MATCH($B41,Licenciés!$A:$A,0)),\"\")","v":""},{"$f":"G40","v":" "},{"$f":"H40","v":"  MI 8"},4,"",null,""]
["MI 9",null,{"$f":"IFERROR(INDEX(Licenciés!B:B,MATCH($B42,Licenciés!$A:$A,0)),\"\")","v":""},{"$f":"IFERROR(INDEX(Licenciés!C:C,MATCH($B42,Licenciés!$A:$A,0)),\"\")","v":""},{"$f":"IFERROR(INDEX(Licenciés!D:D,MATCH($B42,Licenciés!$A:$A,0)),\"\")","v":""},{"$f":"IFERROR(INDEX(Licenciés!E:E,MATCH($B42,Licenciés!$A:$A,0)),\"\")","v":""},{"$f":"'MINIMES ESTIVAL'!$D$2&\" \"&'MINIMES ESTIVAL'!$X$2","v":" "},{"$f":"G42&\" \"&A42","v":"  MI 9"},1,"","",""]
[null,null,{"$f":"IFERROR(INDEX(Licenciés!B:B,MATCH($B43,Licenciés!$A:$A,0)),\"\")","v":""},{"$f":"IFERROR(INDEX(Licenciés!C:C,MATCH($B43,Licenciés!$A:$A,0)),\"\")","v":""},{"$f":"IFERROR(INDEX(Licenciés!D:D,MATCH($B43,Licenciés!$A:$A,0)),\"\")","v":""},{"$f":"IFERROR(INDEX(Licenciés!E:E,MATCH($B43,Licenciés!$A:$A,0)),\"\")","v":""},{"$f":"G42","v":" "},{"$f":"H42","v":"  MI 9"},2,"",null,""]
[null,null,{"$f":"IFERROR(INDEX(Licenciés!B:B,MATCH($B44,Licenciés!$A:$A,0)),\"\")","v":""},{"$f":"IFERROR(INDEX(Licenciés!C:C,MATCH($B44,Licenciés!$A:$A,0)),\"\")","v":""},{"$f":"IFERROR(INDEX(Licenciés!D:D,MATCH($B44,Licenciés!$A:$A,0)),\"\")","v":""},{"$f":"IFERROR(INDEX(Licenciés!E:E,MATCH($B44,Licenciés!$A:$A,0)),\"\")","v":""},{"$f":"G43","v":" "},{"$f":"H43","v":"  MI 9"},3,"",null,""]
[null,null,{"$f":"IFERROR(INDEX(Licenciés!B:B,MATCH($B45,Licenciés!$A:$A,0)),\"\")","v":""},{"$f":"IFERROR(INDEX(Licenciés!C:C,MATCH($B45,Licenciés!$A:$A,0)),\"\")","v":""},{"$f":"IFERROR(INDEX(Licenciés!D:D,MATCH($B45,Licenciés!$A:$A,0)),\"\")","v":""},{"$f":"IFERROR(INDEX(Licenciés!E:E,MATCH($B45,Licenciés!$A:$A,0)),\"\")","v":""},{"$f":"G44","v":" "},{"$f":"H44","v":"  MI 9"},4,"",null,""]
["MI 10",null,{"$f":"IFERROR(INDEX(Licenciés!B:B,MATCH($B46,Licenciés!$A:$A,0)),\"\")","v":""},{"$f":"IFERROR(INDEX(Licenciés!C:C,MATCH($B46,Licenciés!$A:$A,0)),\"\")","v":""},{"$f":"IFERROR(INDEX(Licenciés!D:D,MATCH($B46,Licenciés!$A:$A,0)),\"\")","v":""},{"$f":"IFERROR(INDEX(Licenciés!E:E,MATCH($B46,Licenciés!$A:$A,0)),\"\")","v":""},{"$f":"'MINIMES ESTIVAL'!$D$2&\" \"&'MINIMES ESTIVAL'!$X$2","v":" "},{"$f":"G46&\" \"&A46","v":"  MI 10"},1,"","",""]
[null,null,{"$f":"IFERROR(INDEX(Licenciés!B:B,MATCH($B47,Licenciés!$A:$A,0)),\"\")","v":""},{"$f":"IFERROR(INDEX(Licenciés!C:C,MATCH($B47,Licenciés!$A:$A,0)),\"\")","v":""},{"$f":"IFERROR(INDEX(Licenciés!D:D,MATCH($B47,Licenciés!$A:$A,0)),\"\")","v":""},{"$f":"IFERROR(INDEX(Licenciés!E:E,MATCH($B47,Licenciés!$A:$A,0)),\"\")","v":""},{"$f":"G46","v":" "},{"$f":"H46","v":"  MI 10"},2,"",null,""]
[null,null,{"$f":"IFERROR(INDEX(Licenciés!B:B,MATCH($B48,Licenciés!$A:$A,0)),\"\")","v":""},{"$f":"IFERROR(INDEX(Licenciés!C:C,MATCH($B48,Licenciés!$A:$A,0)),\"\")","v":""},{"$f":"IFERROR(INDEX(Licenciés!D:D,MATCH($B48,Licenciés!$A:$A,0)),\"\")","v":""},{"$f":"IFERROR(INDEX(Licenciés!E:E,MATCH($B48,Licenciés!$A:$A,0)),\"\")","v":""},{"$f":"G47","v":" "},{"$f":"H47","v":"  MI 10"},3,"",null,""]
[null,null,{"$f":"IFERROR(INDEX(Licenciés!B:B,MATCH($B49,Licenciés!$A:$A,0)),\"\")","v":""},{"$f":"IFERROR(INDEX(Licenciés!C:C,MATCH($B49,Licenciés!$A:$A,0)),\"\")","v":""},{"$f":"IFERROR(INDEX(Licenciés!D:D,MATCH($B49,Licenciés!$A:$A,0)),\"\")","v":""},{"$f":"IFERROR(INDEX(Licenciés!E:E,MATCH($B49,Licenciés!$A:$A,0)),\"\")","v":""},{"$f":"G48","v":" "},{"$f":"H48","v":"  MI 10"},4,"",null,""]

{"sheet":"verif_reglement","index":7,"n_rows":21,"n_cols":8,"rows_kept":21,"cut":false,"hidden":false,"merged":[[1,1,1,7],[3,2,3,3],[3,6,3,7]]}
[]
[null,"Rappel règlement : 5 athlètes maximum par épreuve et par sexe\nLes tableaux ci-dessous montrent le nombre d'athlètes inscrits sur une même épreuve par catégorie et par sexe. \nLes anomalies sont détectées en rouge"]
[]
[null,null,"nombre d'engagés par épreuve (max 5 par sexe)",null,null,null,"nombre d'engagés par épreuve (max 5 par sexe)"]
[null,null,"MI","MI",null,null,"BE","BE"]
[null,null,"F","M",null,null,"F","M"]
[null,"80m",{"$f":"COUNTIFS('MINIMES ESTIVAL'!G$6:G$130,\"X\",'MINIMES ESTIVAL'!$D$6:$D$130,verif_reglement!C$5,'MINIMES ESTIVAL'!$E$6:$E$130,verif_reglement!C$6)","v":0},{"$f":"COUNTIFS('MINIMES ESTIVAL'!G$6:G$130,\"X\",'MINIMES ESTIVAL'!$D$6:$D$130,verif_reglement!D$5,'MINIMES ESTIVAL'!$E$6:$E$130,verif_reglement!D$6)","v":0},null,"50m",{"$f":"COUNTIFS('BENJAMINS ESTIVAL'!G$6:G$130,\"X\",'BENJAMINS ESTIVAL'!$D$6:$D$130,verif_reglement!G$5,'BENJAMINS ESTIVAL'!$E$6:$E$130,verif_reglement!G$6)","v":0},{"$f":"COUNTIFS('BENJAMINS ESTIVAL'!G$6:G$130,\"X\",'BENJAMINS ESTIVAL'!$D$6:$D$130,verif_reglement!H$5,'BENJAMINS ESTIVAL'!$E$6:$E$130,verif_reglement!H$6)","v":0}]
[null,"120m",{"$f":"COUNTIFS('MINIMES ESTIVAL'!H$6:H$130,\"X\",'MINIMES ESTIVAL'!$D$6:$D$130,verif_reglement!C$5,'MINIMES ESTIVAL'!$E$6:$E$130,verif_reglement!C$6)","v":0},{"$f":"COUNTIFS('MINIMES ESTIVAL'!H$6:H$130,\"X\",'MINIMES ESTIVAL'!$D$6:$D$130,verif_reglement!D$5,'MINIMES ESTIVAL'!$E$6:$E$130,verif_reglement!D$6)","v":0},null,"50m haies",{"$f":"COUNTIFS('BENJAMINS ESTIVAL'!H$6:H$130,\"X\",'BENJAMINS ESTIVAL'!$D$6:$D$130,verif_reglement!G$5,'BENJAMINS ESTIVAL'!$E$6:$E$130,verif_reglement!G$6)","v":0},{"$f":"COUNTIFS('BENJAMINS ESTIVAL'!H$6:H$130,\"X\",'BENJAMINS ESTIVAL'!$D$6:$D$130,verif_reglement!H$5,'BENJAMINS ESTIVAL'!$E$6:$E$130,verif_reglement!H$6)","v":0}]
[null,"80 / 100m haies",{"$f":"COUNTIFS('MINIMES ESTIVAL'!I$6:I$130,\"X\",'MINIMES ESTIVAL'!$D$6:$D$130,verif_reglement!C$5,'MINIMES ESTIVAL'!$E$6:$E$130,verif_reglement!C$6)","v":0},{"$f":"COUNTIFS('MINIMES ESTIVAL'!I$6:I$130,\"X\",'MINIMES ESTIVAL'!$D$6:$D$130,verif_reglement!D$5,'MINIMES ESTIVAL'!$E$6:$E$130,verif_reglement!D$6)","v":0},null,"1000m",{"$f":"COUNTIFS('BENJAMINS ESTIVAL'!I$6:I$130,\"X\",'BENJAMINS ESTIVAL'!$D$6:$D$130,verif_reglement!G$5,'BENJAMINS ESTIVAL'!$E$6:$E$130,verif_reglement!G$6)","v":0},{"$f":"COUNTIFS('BENJAMINS ESTIVAL'!I$6:I$130,\"X\",'BENJAMINS ESTIVAL'!$D$6:$D$130,verif_reglement!H$5,'BENJAMINS ESTIVAL'!$E$6:$E$130,verif_reglement!H$6)","v":0}]
[null,"200m haies",{"$f":"COUNTIFS('MINIMES ESTIVAL'!J$6:J$130,\"X\",'MINIMES ESTIVAL'!$D$6:$D$130,verif_reglement!C$5,'MINIMES ESTIVAL'!$E$6:$E$130,verif_reglement!C$6)","v":0},{"$f":"COUNTIFS('MINIMES ESTIVAL'!J$6:J$130,\"X\",'MINIMES ESTIVAL'!$D$6:$D$130,verif_reglement!D$5,'MINIMES ESTIVAL'!$E$6:$E$130,verif_reglement!D$6)","v":0},null,"2 000m Marche",{"$f":"COUNTIFS('BENJAMINS ESTIVAL'!J$6:J$130,\"X\",'BENJAMINS ESTIVAL'!$D$6:$D$130,verif_reglement!G$5,'BENJAMINS ESTIVAL'!$E$6:$E$130,verif_reglement!G$6)","v":0},{"$f":"COUNTIFS('BENJAMINS ESTIVAL'!J$6:J$130,\"X\",'BENJAMINS ESTIVAL'!$D$6:$D$130,verif_reglement!H$5,'BENJAMINS ESTIVAL'!$E$6:$E$130,verif_reglement!H$6)","v":0}]
[null,"1 000m",{"$f":"COUNTIFS('MINIMES ESTIVAL'!K$6:K$130,\"X\",'MINIMES ESTIVAL'!$D$6:$D$130,verif_reglement!C$5,'MINIMES ESTIVAL'!$E$6:$E$130,verif_reglement!C$6)","v":0},{"$f":"COUNTIFS('MINIMES ESTIVAL'!K$6:K$130,\"X\",'MINIMES ESTIVAL'!$D$6:$D$130,verif_reglement!D$5,'MINIMES ESTIVAL'!$E$6:$E$130,verif_reglement!D$6)","v":0},null,"Hauteur",{"$f":"COUNTIFS('BENJAMINS ESTIVAL'!K$6:K$130,\"X\",'BENJAMINS ESTIVAL'!$D$6:$D$130,verif_reglement!G$5,'BENJAMINS ESTIVAL'!$E$6:$E$130,verif_reglement!G$6)","v":0},{"$f":"COUNTIFS('BENJAMINS ESTIVAL'!K$6:K$130,\"X\",'BENJAMINS ESTIVAL'!$D$6:$D$130,verif_reglement!H$5,'BENJAMINS ESTIVAL'!$E$6:$E$130,verif_reglement!H$6)","v":0}]
[null,"2 000m",{"$f":"COUNTIFS('MINIMES ESTIVAL'!L$6:L$130,\"X\",'MINIMES ESTIVAL'!$D$6:$D$130,verif_reglement!C$5,'MINIMES ESTIVAL'!$E$6:$E$130,verif_reglement!C$6)","v":0},{"$f":"COUNTIFS('MINIMES ESTIVAL'!L$6:L$130,\"X\",'MINIMES ESTIVAL'!$D$6:$D$130,verif_reglement!D$5,'MINIMES ESTIVAL'!$E$6:$E$130,verif_reglement!D$6)","v":0},null,"Perche",{"$f":"COUNTIFS('BENJAMINS ESTIVAL'!L$6:L$130,\"X\",'BENJAMINS ESTIVAL'!$D$6:$D$130,verif_reglement!G$5,'BENJAMINS ESTIVAL'!$E$6:$E$130,verif_reglement!G$6)","v":0},{"$f":"COUNTIFS('BENJAMINS ESTIVAL'!L$6:L$130,\"X\",'BENJAMINS ESTIVAL'!$D$6:$D$130,verif_reglement!H$5,'BENJAMINS ESTIVAL'!$E$6:$E$130,verif_reglement!H$6)","v":0}]
[null,"3 000m Marche",{"$f":"COUNTIFS('MINIMES ESTIVAL'!M$6:M$130,\"X\",'MINIMES ESTIVAL'!$D$6:$D$130,verif_reglement!C$5,'MINIMES ESTIVAL'!$E$6:$E$130,verif_reglement!C$6)","v":0},{"$f":"COUNTIFS('MINIMES ESTIVAL'!M$6:M$130,\"X\",'MINIMES ESTIVAL'!$D$6:$D$130,verif_reglement!D$5,'MINIMES ESTIVAL'!$E$6:$E$130,verif_reglement!D$6)","v":0},null,"Longueur",{"$f":"COUNTIFS('BENJAMINS ESTIVAL'!M$6:M$130,\"X\",'BENJAMINS ESTIVAL'!$D$6:$D$130,verif_reglement!G$5,'BENJAMINS ESTIVAL'!$E$6:$E$130,verif_reglement!G$6)","v":0},{"$f":"COUNTIFS('BENJAMINS ESTIVAL'!M$6:M$130,\"X\",'BENJAMINS ESTIVAL'!$D$6:$D$130,verif_reglement!H$5,'BENJAMINS ESTIVAL'!$E$6:$E$130,verif_reglement!H$6)","v":0}]
[null,"Hauteur",{"$f":"COUNTIFS('MINIMES ESTIVAL'!N$6:N$130,\"X\",'MINIMES ESTIVAL'!$D$6:$D$130,verif_reglement!C$5,'MINIMES ESTIVAL'!$E$6:$E$130,verif_reglement!C$6)","v":0},{"$f":"COUNTIFS('MINIMES ESTIVAL'!N$6:N$130,\"X\",'MINIMES ESTIVAL'!$D$6:$D$130,verif_reglement!D$5,'MINIMES ESTIVAL'!$E$6:$E$130,verif_reglement!D$6)","v":0},null,"Triple saut",{"$f":"COUNTIFS('BENJAMINS ESTIVAL'!N$6:N$130,\"X\",'BENJAMINS ESTIVAL'!$D$6:$D$130,verif_reglement!G$5,'BENJAMINS ESTIVAL'!$E$6:$E$130,verif_reglement!G$6)","v":0},{"$f":"COUNTIFS('BENJAMINS ESTIVAL'!N$6:N$130,\"X\",'BENJAMINS ESTIVAL'!$D$6:$D$130,verif_reglement!H$5,'BENJAMINS ESTIVAL'!$E$6:$E$130,verif_reglement!H$6)","v":0}]
[null,"Perche",{"$f":"COUNTIFS('MINIMES ESTIVAL'!O$6:O$130,\"X\",'MINIMES ESTIVAL'!$D$6:$D$130,verif_reglement!C$5,'MINIMES ESTIVAL'!$E$6:$E$130,verif_reglement!C$6)","v":0},{"$f":"COUNTIFS('MINIMES ESTIVAL'!O$6:O$130,\"X\",'MINIMES ESTIVAL'!$D$6:$D$130,verif_reglement!D$5,'MINIMES ESTIVAL'!$E$6:$E$130,verif_reglement!D$6)","v":0},null,"Poids",{"$f":"COUNTIFS('BENJAMINS ESTIVAL'!O$6:O$130,\"X\",'BENJAMINS ESTIVAL'!$D$6:$D$130,verif_reglement!G$5,'BENJAMINS ESTIVAL'!$E$6:$E$130,verif_reglement!G$6)","v":0},{"$f":"COUNTIFS('BENJAMINS ESTIVAL'!O$6:O$130,\"X\",'BENJAMINS ESTIVAL'!$D$6:$D$130,verif_reglement!H$5,'BENJAMINS ESTIVAL'!$E$6:$E$130,verif_reglement!H$6)","v":0}]
[null,"Longueur",{"$f":"COUNTIFS('MINIMES ESTIVAL'!P$6:P$130,\"X\",'MINIMES ESTIVAL'!$D$6:$D$130,verif_reglement!C$5,'MINIMES ESTIVAL'!$E$6:$E$130,verif_reglement!C$6)","v":0},{"$f":"COUNTIFS('MINIMES ESTIVAL'!P$6:P$130,\"X\",'MINIMES ESTIVAL'!$D$6:$D$130,verif_reglement!D$5,'MINIMES ESTIVAL'!$E$6:$E$130,verif_reglement!D$6)","v":0},null,"Disque",{"$f":"COUNTIFS('BENJAMINS ESTIVAL'!P$6:P$130,\"X\",'BENJAMINS ESTIVAL'!$D$6:$D$130,verif_reglement!G$5,'BENJAMINS ESTIVAL'!$E$6:$E$130,verif_reglement!G$6)","v":0},{"$f":"COUNTIFS('BENJAMINS ESTIVAL'!P$6:P$130,\"X\",'BENJAMINS ESTIVAL'!$D$6:$D$130,verif_reglement!H$5,'BENJAMINS ESTIVAL'!$E$6:$E$130,verif_reglement!H$6)","v":0}]
[null,"Triple saut",{"$f":"COUNTIFS('MINIMES ESTIVAL'!Q$6:Q$130,\"X\",'MINIMES ESTIVAL'!$D$6:$D$130,verif_reglement!C$5,'MINIMES ESTIVAL'!$E$6:$E$130,verif_reglement!C$6)","v":0},{"$f":"COUNTIFS('MINIMES ESTIVAL'!Q$6:Q$130,\"X\",'MINIMES ESTIVAL'!$D$6:$D$130,verif_reglement!D$5,'MINIMES ESTIVAL'!$E$6:$E$130,verif_reglement!D$6)","v":0},null,"Marteau",{"$f":"COUNTIFS('BENJAMINS ESTIVAL'!Q$6:Q$130,\"X\",'BENJAMINS ESTIVAL'!$D$6:$D$130,verif_reglement!G$5,'BENJAMINS ESTIVAL'!$E$6:$E$130,verif_reglement!G$6)","v":0},{"$f":"COUNTIFS('BENJAMINS ESTIVAL'!Q$6:Q$130,\"X\",'BENJAMINS ESTIVAL'!$D$6:$D$130,verif_reglement!H$5,'BENJAMINS ESTIVAL'!$E$6:$E$130,verif_reglement!H$6)","v":0}]
[null,"Poids",{"$f":"COUNTIFS('MINIMES ESTIVAL'!R$6:R$130,\"X\",'MINIMES ESTIVAL'!$D$6:$D$130,verif_reglement!C$5,'MINIMES ESTIVAL'!$E$6:$E$130,verif_reglement!C$6)","v":0},{"$f":"COUNTIFS('MINIMES ESTIVAL'!R$6:R$130,\"X\",'MINIMES ESTIVAL'!$D$6:$D$130,verif_reglement!D$5,'MINIMES ESTIVAL'!$E$6:$E$130,verif_reglement!D$6)","v":0},null,"Javelot",{"$f":"COUNTIFS('BENJAMINS ESTIVAL'!R$6:R$130,\"X\",'BENJAMINS ESTIVAL'!$D$6:$D$130,verif_reglement!G$5,'BENJAMINS ESTIVAL'!$E$6:$E$130,verif_reglement!G$6)","v":0},{"$f":"COUNTIFS('BENJAMINS ESTIVAL'!R$6:R$130,\"X\",'BENJAMINS ESTIVAL'!$D$6:$D$130,verif_reglement!H$5,'BENJAMINS ESTIVAL'!$E$6:$E$130,verif_reglement!H$6)","v":0}]
[null,"Disque",{"$f":"COUNTIFS('MINIMES ESTIVAL'!S$6:S$130,\"X\",'MINIMES ESTIVAL'!$D$6:$D$130,verif_reglement!C$5,'MINIMES ESTIVAL'!$E$6:$E$130,verif_reglement!C$6)","v":0},{"$f":"COUNTIFS('MINIMES ESTIVAL'!S$6:S$130,\"X\",'MINIMES ESTIVAL'!$D$6:$D$130,verif_reglement!D$5,'MINIMES ESTIVAL'!$E$6:$E$130,verif_reglement!D$6)","v":0}]
[null,"Marteau",{"$f":"COUNTIFS('MINIMES ESTIVAL'!T$6:T$130,\"X\",'MINIMES ESTIVAL'!$D$6:$D$130,verif_reglement!C$5,'MINIMES ESTIVAL'!$E$6:$E$130,verif_reglement!C$6)","v":0},{"$f":"COUNTIFS('MINIMES ESTIVAL'!T$6:T$130,\"X\",'MINIMES ESTIVAL'!$D$6:$D$130,verif_reglement!D$5,'MINIMES ESTIVAL'!$E$6:$E$130,verif_reglement!D$6)","v":0}]
[null,"Javelot",{"$f":"COUNTIFS('MINIMES ESTIVAL'!U$6:U$130,\"X\",'MINIMES ESTIVAL'!$D$6:$D$130,verif_reglement!C$5,'MINIMES ESTIVAL'!$E$6:$E$130,verif_reglement!C$6)","v":0},{"$f":"COUNTIFS('MINIMES ESTIVAL'!U$6:U$130,\"X\",'MINIMES ESTIVAL'!$D$6:$D$130,verif_reglement!D$5,'MINIMES ESTIVAL'!$E$6:$E$130,verif_reglement!D$6)","v":0}]

{"sheet":"Licenciés","index":8,"n_rows":3783,"n_cols":9,"rows_kept":3783,"cut":false,"hidden":false,"merged":[]}
["Licence","NOM","PRENOM","Cat.","S.","Club","Code club",null,"Listing au 04/05/2023"]
[1655786,"FROMENTEAU","GABRIEL","BE","M","081048","081041"]
[1687667,"DJELILI","ANAS","BE","M","065006","065006"]
[1693441,"RANGER","GATIEN","BE","M","081017","081017"]
[1708386,"CONJUNGO","MELISSA","BE","F","081048","081041"]
[1708588,"FLORES","ELAIA","BE","F","031039","031039"]
[1734083,"LEJEUNE","LINA","BE","F","034036","034036"]
[1755322,"MARTINEAU","ANTOINE","BE","M","031015","031015"]
[1756684,"LOPEZ","MANON","BE","F","066003","066032"]
[1766943,"MARICIC","LOUKA","BE","M","011001","011024"]
[1768917,"PAYRAT","ELENA","BE","F","031043","031030"]
[1770424,"HUGOT","LOIC","BE","M","066003","066032"]
[1778559,"BORDREUIL","ALIXE","BE","F","034038","034038"]
[1780679,"LABKER","AYA","BE","F","066006","066006"]
[1783934,"MONDOT","MARIE","BE","F","065019","065019"]
[1786298,"LAFARGE","LILOU","BE","F","034065","034066"]
[1792022,"DRIASSA","SIRINE","BE","F","011001","011024"]
[1792071,"MONDOT","JEANNE","BE","F","065019","065019"]
[1800589,"LAGUNA","ALIZEE","BE","F","034065","034066"]
[1802146,"GRAILLE","AMAIA","BE","F","030003","030003"]
[1803192,"CASASSUS-BUILHE","ALEXIS","BE","M","032002","032002"]
[1803202,"CASASSUS-BUILHE","BENJAMIN","BE","M","032002","032002"]
[1806742,"RANET","WAFA","BE","F","030008","030008"]
[1809243,"KERDJOU","ILYES","BE","M","030004","030004"]
[1811972,"MORRISSEY","LYNA","BE","F","030060","030076"]
[1813346,"ROCHER","GASPARD","BE","M","030003","030003"]
[1813968,"RABEAU","MALOE","BE","F","034038","034038"]
[1821584,"LIARET","TIMEO","BE","M","011022","011024"]
[1831168,"BELHOUL","ILYANA","BE","F","030060","030076"]
[1832030,"BERTRAND","GARANCE","BE","F","046014","046014"]
[1845322,"BERARDI","KEFREN","BE","M","081045","081041"]
[1848975,"LELEU","VICTOR","BE","M","011020","011024"]
[1850990,"BADIN","AXELLE","BE","F","031042","031042"]
[1858713,"TAPASU","LEILANI","BE","F","032010","032010"]
[1863463,"CAPEL","SHADEY","BE","F","065006","065006"]
[1864147,"BION","LANA","BE","F","011001","011024"]
[1865045,"CROZET-CHENIVESSE","ILONA","BE","F","034058","034058"]
[1866026,"CAURET","AMBRE","BE","F","031042","031042"]
[1868299,"MIALHE","FABIEN","BE","M","031042","031042"]
[1870199,"BEDEL","CANDICE","BE","F","030074","030076"]
[1876594,"ROUZIES","LUCILE","BE","F","012018","012003"]
[1876937,"MONTEGUT","KOYUKI","BE","F","065012","065012"]
[1878254,"CHASSAIN","CHARLIE","BE","M","031015","031015"]
[1880592,"DUPONT","MATHEO","BE","M","030074","030076"]
[1880598,"BAZER-BACHI","CHLOE","BE","F","030074","030076"]
[1881290,"PETREAU","RAPHAEL","BE","M","065003","065020"]
[1882193,"VALENTIN","LOAN","BE","M","030003","030003"]
[1882369,"FABRY","SACHA","BE","M","030059","030059"]
[1882478,"JOSEPH","CAMILLE","BE","F","082018","082018"]
[1882964,"SURRE","ANNA","BE","F","031008","031008"]
[1883479,"ALES","TYANNA","BE","F","046012","046012"]
[1883750,"YEMEY","SAMUEL","BE","M","031055","031055"]
[1884140,"HENNEGUEZ-REBEYROL","JOSEPHINE","BE","F","031003","031003"]
[1886248,"GARRET","PAUL","BE","M","012008","012008"]
[1886483,"BOUOPDAZOCK","JESSY","BE","M","030008","030008"]
[1888513,"PORTIER","MATHYS","BE","M","031046","031030"]
[1888625,"ANICET","NELSON","BE","M","031034","031030"]
[1888645,"JOHN","EMMA","BE","F","031034","031030"]
[1890499,"MUNIER","HECTOR","BE","M","034466","034066"]
[1892447,"DEBROSSE JAMON","SAONA","BE","F","030003","030003"]
[1892943,"MARLIC","LINDY","BE","F","081056","081017"]
[1893071,"ARAR","LOIS","BE","M","030059","030059"]
[1893682,"BOIRON-BORDELAIS","CAMILLE","BE","F","011016","011024"]
[1893704,"LESTENDIE","MAELINE","BE","F","011016","011024"]
[1893946,"DICANOT","MELINA","BE","F","081048","081041"]
[1895298,"BARBER","CORENTIN","BE","M","032014","032014"]
[1898542,"BOISARD","EMI","BE","F","081017","081017"]
[1898748,"VISSEQ","EMMY","BE","F","012018","012003"]
[1899283,"WALTER","CLARISSE","BE","F","081048","081041"]
[1900733,"ROUMI","AVA","BE","F","034072","034072"]
[1902948,"REY","NATHAN","BE","M","012003","012003"]
[1903620,"GRUDET","NOEMIE","BE","F","030003","030003"]
[1903648,"ALLARD","LOUIS","BE","M","030003","030003"]
[1903760,"TRABUCCO","CLOTILDE","BE","F","030040","030040"]
[1904728,"DOS SANTOS","JULES","BE","M","046004","046004"]
[1905233,"GRUPPI","LIZA","BE","F","066027","066032"]
[1905642,"AUCHE","MARTIAL","BE","M","034466","034066"]
[1906624,"MESSAOUDI","YANIS","BE","M","082014","082014"]
[1906634,"MESSAOUDI","ILYES","BE","M","082014","082014"]
[1907896,"ABIDA","NISSRINE","BE","F","030018","030018"]
[1909329,"ROCHER","MAELYS","BE","F","011001","011024"]
[1909641,"PIN","LYSEA","BE","F","030059","030059"]
[1913933,"FERRELI","ELIO","BE","M","030004","030004"]
[1914221,"BERQACH","RYM","BE","F","032010","032010"]
[1915751,"JOFFRE","AMANDINE","BE","F","012003","012003"]
[1918884,"FRAYSSI","COLINE","BE","F","046014","046014"]
[1920310,"TANGUY","SIMON","BE","M","031043","031030"]
[1920729,"PIVERT","MAYA","BE","F","034072","034072"]
[1923245,"SAHNOUN","CLEMENT","BE","M","012008","012008"]
[1923401,"SOULIER","MARIE","BE","F","082014","082014"]
[1925692,"MARTIN","SORAYA","BE","F","034038","034038"]
[1928490,"TOURNIER","JULIETTE","BE","F","012003","012003"]
[1931847,"OSINSKI","TALIA","BE","F","032010","032010"]
[1932695,"MESSALIER","RAPHAEL","BE","M","030018","030018"]
[1934092,"RAYNAUD","MARTIN","BE","M","034012","034012"]
[1944168,"BARD","LIBELLULE","BE","F","066021","066021"]
[1944478,"BOURG-ARTIGUES","CLEMENT","BE","M","031022","031051"]
[1944688,"GOMES","MELISSA","BE","F","034466","034066"]
[1947640,"BODIN","LILI-MADELINE","BE","F","082017","082017"]
[1951248,"ZION","ELISA","BE","F","081025","081017"]
[1952428,"DESBARATS","MATHILDE","BE","F","031025","031025"]
[1957492,"VADANT","NOA","BE","M","030074","030076"]
[1958190,"IDRAME","LOUNA-DIARA","BE","F","009011","009011"]
[1961187,"FUSS","NATHAN","BE","M","081052","081050"]
[1964746,"CARBONNEAU","TOM","BE","M","030059","030059"]
[1965555,"THERON","LOHANE","BE","F","081045","081041"]
[1968209,"MARTIN DAVIET","ILEANA","BE","F","031004","031004"]
[1969167,"MOULIN","AUGUSTIN","BE","M","082017","082017"]
[1970034,"BAUDOUI","JEANNE","BE","F","012008","012008"]
[1970199,"DONGAL","ELIJAH","BE","M","031004","031004"]
[1971107,"ENOS QUENOUILLE","RAPHAEL","BE","M","082017","082017"]
[1974480,"BRU","JANNE","BE","F","081051","081061"]
[1974492,"VIEILLEDENT","ELI","BE","M","081051","081061"]
[1974640,"METGE","GAEL","BE","M","031003","031003"]
[1974713,"HUC-LAUFFENBURGER","ANAIS","BE","F","081017","081017"]
[1975239,"FAITOUT","MELINA","BE","F","031003","031003"]
[1975457,"DA SILVA","SANDRO","BE","M","081048","081041"]
[1975700,"FOUQUET","THOMAS","BE","M","082017","082017"]
[1976508,"PAPON","CLOE","BE","F","065019","065019"]
[1976690,"EGEA","MATHIAS","BE","M","031015","031015"]
[1976804,"CRESPO MAINARD","IBAN","BE","M","065027","065027"]
[1977199,"DELBOS","KEVIN","BE","M","034012","034012"]
[1977832,"COUTOULY","EVA","BE","F","081051","081061"]
[1977894,"MERAT","ELYSE","BE","F","034058","034058"]
[1978034,"TRUC","RAPHAEL","BE","M","065003","065020"]
[1979266,"MBONGO","NAILA","BE","F","031004","031004"]
[1979375,"KHERRAR","INES","BE","F","031034","031030"]
[1979800,"DE NOBLET D ANGLURE","INES","BE","F","081055","081017"]
[1979949,"BOUMEDIENNE","INES","BE","F","081017","081017"]
[1980076,"ROGNON","HUGO","BE","M","081017","081017"]
[1980189,"AZOUGHLI","ZIYAD","BE","M","031012","031012"]
[1980208,"LESCOUZERES","NAYAH","BE","F","031034","031030"]
[1980856,"DUPRAT","CHLOE","BE","F","031034","031030"]
[1981029,"PROUST","PIERRE","BE","M","081021","081017"]
[1981790,"QUEROL","LALY","BE","F","034012","034012"]
[1981986,"RUFFAT","LANA","BE","F","011016","011024"]
[1982234,"BOUAZIZ","FARES","BE","M","081021","081017"]
[1983573,"DUMAS","JEANNE","BE","F","046012","046012"]
[1984874,"BARDOU","LUCAS","BE","M","081043","081041"]
[1985191,"AUBRY","CORENTIN","BE","M","034064","034064"]
[1985524,"JUAN","CELYAN","BE","M","034062","034062"]
[1985615,"CARGOL-BOASSO","CHARLES","BE","M","082018","082018"]
[1985695,"MACHOWSKI","LOUISON","BE","M","030003","030003"]
[1985864,"EL YOUSSFI","IMAD","BE","M","081048","081041"]
[1986192,"GUERANDEL-EMMANUELLI","LOUIS","BE","M","031001","031001"]
[1986294,"MIQUEL FLASSAYER","LOUISE","BE","F","031042","031042"]
[1986750,"JULIAN","ELISE","BE","F","034069","034069"]
[1987642,"BASSE","DIAGA","BE","M","012002","012002"]
[1988082,"FOUCOIN","MAXENCE","BE","M","031039","031039"]
[1988087,"FOUCOIN","NATHANAEL","BE","M","031039","031039"]
[1988161,"ROPERS","EMMA","BE","F","031039","031039"]
[1989093,"GUITON","TESS","BE","F","034073","034073"]
[1989610,"GUENIN","MANON","BE","F","066027","066032"]
[1990518,"GLEIZES","MARCEAU","BE","M","081047","081041"]
[1991017,"NGUYEN","LEA","BE","F","031063","031063"]
[1991037,"TEIXEIRA","LEO","BE","M","012003","012003"]
[1991052,"LABORDE","LOU","BE","F","066003","066032"]
[1993099,"BLIN","ALICIA","BE","F","030067","030067"]
[1993147,"JOUANIN","EVANN","BE","M","034064","034064"]
[1994315,"JACQUEMIN","LENA","BE","F","032014","032014"]
[1995956,"YILDIZ","MATHIEU","BE","M","034466","034066"]
[1995991,"ZARQANE","DALIL","BE","M","034466","034066"]
[1995993,"ZARQANE","NASSIM","BE","M","034466","034066"]
[1996614,"RAMONATXO","THEO","BE","M","034466","034066"]
[1996741,"BOSC","ALEXANDRE","BE","M","034466","034066"]
[1997266,"HENKINET","REMI","BE","M","081048","081041"]
[1997339,"FOURNES","FELIX","BE","M","081043","081041"]
[1998544,"BENOIT","SEBASTIEN","BE","M","030059","030059"]
[2000047,"EFFALA ABESSOLO","RAOUL-YANNE","BE","M","011001","011024"]
[2000282,"VIDAL","CLEMENT","BE","M","011001","011024"]
[2000985,"SERIN","GABIN","BE","M","011020","011024"]
[2003086,"ESCUDIE","JUSTIN","BE","M","011022","011024"]
[2003347,"EL MALOUKI","MANEL","BE","F","034065","034066"]
[2003649,"MINGORANCE","LEONIE","BE","F","066035","066032"]
[2003693,"DOYEN","KAYSHA","BE","F","011016","011024"]
[2003913,"IDRISSI","ANIS","BE","M","031062","031062"]
[2005841,"MARINONI","NOEMIE","BE","F","031004","031004"]
[2005869,"CREMAZY","LEANDRE","BE","M","031025","031025"]
[2005899,"BUTJOSA DE COOMAN","LORENA","BE","F","065027","065027"]
[2006359,"KAMMAS","HUGO","BE","M","034068","034068"]
[2007420,"HAICHOUR","LINA","BE","F","030074","030076"]
[2007913,"LANDAIS","HIPPOLYTE","BE","M","031025","031025"]
[2008490,"DERBOUZ","MELINA","BE","F","081056","081017"]
[2008594,"ORDON","PRIAM","BE","M","081056","081017"]
[2008619,"KETTOU","KHALIS","BE","M","081056","081017"]
[2009586,"VIZIER","LANA","BE","F","082014","082014"]
[2009768,"VELLA","GABIN","BE","M","034064","034064"]
[2010125,"DUCHEMIN BOROWIAK","GABRIEL","BE","M","030059","030059"]
[2010307,"BOUSQUET","BAPTISTE","BE","M","031012","031012"]
[2011654,"ALAUX","THOMAS","BE","M","081051","081061"]
[2012378,"TAKAM","SANAEL","BE","M","031009","031009"]
[2013028,"CHATELLIER","LIV","BE","F","030008","030008"]
[2014211,"SABATIER","CLARA","BE","F","081021","081017"]
[2015980,"DHEYGERE","EDGAR","BE","M","031050","031050"]
[2016205,"PAUC","KELYAN","BE","M","048004","048006"]
[2016634,"SOULIE","ELYSA","BE","F","081017","081017"]
[2016945,"BRUNEAU","LUCAS","BE","M","031050","031050"]
[2017194,"GASTAUD","NILS","BE","M","030074","030076"]
[2017305,"DE LARTIGUE","PAUL","BE","M","032006","032006"]
[2017904,"PEMPOULO","KILIAN","BE","M","034072","034072"]
[2018494,"COFFIN","EMMIE","BE","F","031015","031015"]
[2018737,"STEFANOU","NOAH","BE","M","012005","012005"]
[2019427,"MOURABIT","KENZA","BE","F","034466","034066"]
[2019434,"BOURLIER","ACHILLE","BE","M","011021","011024"]
[2019913,"LAPIERRE","CLEMENCE","BE","F","030074","030076"]
[2021753,"MORERE","AGATHE","BE","F","065003","065020"]
[2024570,"RIGAL","LOU","BE","F","034069","034069"]
[2024630,"PIERREDON","LOLA","BE","F","030004","030004"]
[2025076,"PROUST","FAUSTINE","BE","F","081044","081041"]
[2027204,"BOSANSKY DEJON","ROMAIN","BE","M","011020","011024"]
[2030042,"DECOEN","LYSIE","BE","F","034012","034012"]
[2030059,"WOEHRLE","HUGO","BE","M","034476","034476"]
[2031212,"AMAURY","THOMAS","BE","M","030067","030067"]
[2031258,"HAMIOUI","SALOUA","BE","F","081051","081061"]
[2031296,"DE MENGIN FONDRAGON","JEAN-BAPTISTE","BE","M","031050","031050"]
[2032581,"BELOUAHMIA","SARAH","BE","F","030074","030076"]
[2032660,"BASCHUNG","ALEXANDRE","BE","M","081046","081041"]
[2033260,"EYMARD SPIEGEL","CHARLIE","BE","F","030040","030040"]
[2035258,"BERTRAND","GEORGES","BE","M","081045","081041"]
[2035391,"ALOUI","ILYES","BE","M","032002","032002"]
[2035572,"RAMDHANI","ALIA","BE","F","081043","081041"]
[2036562,"BOULZE DEPOMMIER","AUBIN","BE","M","081035","081017"]
[2039510,"VERDIER","TIMEO","BE","M","030059","030059"]
[2040226,"NGO SIEU HONG","ACHILE","BE","M","081056","081017"]
[2040974,"AUBRION","ANTONIN","BE","M","065027","065027"]
[2043920,"RONDEPIERRE","TRISTAN","BE","M","034012","034012"]
[2044222,"SERRES","ELIOTT","BE","M","065017","065020"]
[2044429,"BRICLET","GAUTHIER","BE","M","082018","082018"]
[2044667,"VIDAL","GAEL","BE","M","048004","048006"]
[2047332,"DARRAS","MARLEY","BE","M","081048","081041"]
[2048573,"VICENTE","DORIAN","BE","M","034073","034073"]
[2049408,"FONTES","JULIA","BE","F","081025","081017"]
[2050533,"LEROY","ANAE","BE","F","031062","031062"]
[2050865,"GAUTHIER","ANTOINE","BE","M","065017","065020"]
[2053172,"LEPEZ","JULIE","BE","F","030018","030018"]
[2054112,"DUQUET","LILOU","BE","F","065027","065027"]
[2056425,"SERRATO","LOLA","BE","F","066003","066032"]
[2057970,"LATTES","MATHIS","BE","M","081044","081041"]
[2060020,"GEA","JAMIE","BE","M","066021","066021"]
[2060117,"TORQUEBIAU","SACHA","BE","M","034058","034058"]
[2062136,"AJAMI","LANA","BE","F","082017","082017"]
[2063288,"ASSELIN","JADEN","BE","M","031022","031051"]
[2068432,"TATOUE","RAPHAEL","BE","M","034018","034062"]
[2071313,"GLADIEUX-KERMOUM","SARAH","BE","F","012008","012008"]
[2073184,"SANCHEZ","LUCIE","BE","F","012003","012003"]
[2074590,"LADUGUIE-FILANDRE","MARTIN","BE","M","031001","031001"]
[2075650,"VANELLE","ANAELLE","BE","F","066006","066006"]
[2075868,"BRUN","MANON","BE","F","012003","012003"]
[2076202,"BRICHET","ADRIEN","BE","M","031043","031030"]
[2076992,"MENDES","TILIO","BE","M","031046","031030"]
[2076999,"RAMANANTSOAVINA","LEA","BE","F","031046","031030"]
[2077473,"HORVATH","ZOHRA","BE","F","034466","034066"]
[2077609,"HANNOIR","ELOI","BE","M","034466","034066"]
[2077640,"FESTOR","PAUL","BE","M","034466","034066"]
[2077807,"BASCOUL","MARTIN","BE","M","012008","012008"]
[2078112,"MONTAYE","MANON","BE","F","031004","031004"]
[2078138,"GRANIER GIRARD","CELIA","BE","F","081051","081061"]
[2078788,"RUAS","SACHA","BE","M","030040","030040"]
[2078827,"ESSLIMANI","RAYANE","BE","M","030008","030008"]
[2078833,"ESSLIMANI","SARAH","BE","F","030008","030008"]
[2078943,"FOREST","LOUIS","BE","M","031003","031003"]
[2079369,"BABOU","MAGGIE","BE","F","031046","031030"]
[2079780,"GIBOURDEL","NOAH","BE","M","031003","031003"]
[2080555,"GARCIA ROUSSEL","ELISA","BE","F","034058","034058"]
[2080719,"MOUCHERE","ROMANE","BE","F","031046","031030"]
[2081384,"CAZANAVE","TITOUAN","BE","M","065003","065020"]
[2082043,"RICOMINI","QUENTIN","BE","M","031034","031030"]
[2082862,"BLAISE","LISA","BE","F","011022","011024"]
[2083239,"DURON LAMAILLE","CELIA","BE","F","031035","031030"]
[2083448,"BERTHOD","MARGOT","BE","F","030040","030040"]
[2085485,"AZAM","KATE","BE","F","046012","046012"]
[2086019,"LAMKASS","DOUA","BE","F","034012","034012"]
[2086238,"RAYNAL","ELINE","BE","F","034064","034064"]
[2086425,"CAIELLI","LILOU","BE","F","082018","082018"]
[2086745,"MIHOUBI","LINA","BE","F","031003","031003"]
[2086961,"VIGUIER","REMI","BE","M","031009","031009"]
[2087717,"HEURTEVIN","LEONIE","BE","F","031004","031004"]
[2088428,"CRUVEILLER","EVAN","BE","M","034474","034474"]
[2089071,"MERLET","BAPTISTE","BE","M","031035","031030"]
[2089184,"BLANC","LYSEA","BE","F","031035","031030"]
[2089664,"DEHEVORA","LORIS","BE","M","081043","081041"]
[2089808,"PACULL","MARCEL","BE","M","034055","034055"]
[2089991,"BARGAS","AXELL","BE","M","081017","081017"]
[2090229,"BOUYSSY","AVRIL","BE","F","031039","031039"]
[2090312,"VANRULLEN","ULYSSE","BE","M","032014","032014"]
[2090323,"TRIDON","CELIA","BE","F","081055","081017"]
[2090377,"ZAPATER","ANAIS","BE","F","032014","032014"]
[2090647,"TALLARICO","MANON","BE","F","030003","030003"]
[2090787,"GROULT","QUENTIN","BE","M","034466","034066"]
[2090817,"BANES","NATHAN","BE","M","034012","034012"]
[2091056,"HAYOZ KEDDAH","SOHANE","BE","F","082017","082017"]
[2091575,"ABECASSIS","ETHAN","BE","M","081021","081017"]
[2091635,"PERIN","ANTONIN","BE","M","081021","081017"]
[2092637,"MOLAS","LAURIANE","BE","F","011001","011024"]
[2092773,"JOSSET","KILLIAN","BE","M","030059","030059"]
[2093606,"DUFFES","CLARA","BE","F","034466","034066"]
[2093764,"BUTTIN","MAE","BE","M","034466","034066"]
[2093885,"PHILIPPOT","BAPTISTE","BE","M","030074","030076"]
[2094002,"LACOMBE","CORENTHIN","BE","M","012003","012003"]
[2094022,"DELPAL","TRISTAN","BE","M","012003","012003"]
[2094214,"NICOLAU","TOM","BE","M","065005","065020"]
[2094443,"VILLENEUVE","EULALIE","BE","F","081048","081041"]
[2094489,"COUSSERANS","SARAH","BE","F","081048","081041"]
[2094529,"IMBERT","FERNAND","BE","M","046014","046014"]
[2094578,"ROCHE","LOUISE","BE","F","030067","030067"]
[2095184,"SEGURA","JULIE","BE","F","031039","031039"]
[2095360,"PAUTREL","JULIA","BE","F","032006","032006"]
[2096438,"PUJOS","ZOE","BE","F","031039","031039"]
[2098992,"LOURENCO","ILYES","BE","M","081051","081061"]
[2099114,"VEDEL","JULES","BE","M","081051","081061"]
[2100157,"BENTOUBAL","AMIRA","BE","F","081043","081041"]
[2101155,"DIJOLS","RAPHAEL","BE","M","034072","034072"]
[2101178,"PLANTIER","THOMAS","BE","M","030067","030067"]
[2101612,"ALBOUY","LOUANE","BE","F","012013","012003"]
[2101952,"ALRIC","CAMILLE","BE","F","034062","034062"]
[2102066,"PENARRUBIA","TOM","BE","M","030059","030059"]
[2102217,"CHABBERT","MATHIS","BE","M","081054","081061"]
[2102289,"BRACKMAN","VALENTIN","BE","M","031004","031004"]
[2103297,"JUNG","IBAN","BE","M","031004","031004"]
[2103597,"VIDAL","MANON","BE","F","081047","081041"]
[2103799,"EGEA","JEANNE","BE","F","030008","030008"]
[2103964,"CABRIT","LISON","BE","F","012005","012005"]
[2105584,"NORMAND","LILIAN","BE","M","065003","065020"]
[2106479,"COUTAL","THOMAS","BE","M","031055","031055"]
[2107287,"TREMILLON","LEO","BE","M","031050","031050"]
[2107303,"ISRAEL","SERAPHIN","BE","M","031050","031050"]
[2107523,"MAURAISIN-ROUQUETTE","HECTOR","BE","M","034072","034072"]
[2107755,"CASTAN","LISA","BE","F","081048","081041"]
[2108618,"ERPELDING","CLEMENT","BE","M","031046","031030"]
[2108620,"MILOUD","SAKINA","BE","F","034038","034038"]
[2108719,"ROSSEL","LAURA","BE","F","030059","030059"]
[2110388,"SABATHE","SIDONIE","BE","F","081056","081017"]
[2110480,"BABILONI","LUDOVIC","BE","M","066035","066032"]
[2110889,"MARCHIANI","MATHIS","BE","M","031025","031025"]
[2111115,"THIL-PULGAR","GAEL","BE","M","031062","031062"]
[2111147,"EBOUDOU","AARON","BE","M","031039","031039"]
[2111947,"MAGNIN","OLIVIA","BE","F","030018","030018"]
[2113269,"PETER","PAUL","BE","M","034457","034457"]
[2114000,"SERIN","AMBRE","BE","F","082017","082017"]
[2114120,"HENRY","MARIUS","BE","M","030074","030076"]
[2114127,"BERGOGNE","ROMAIN","BE","M","030074","030076"]
[2114976,"PAIDE","MAXIME","BE","M","032002","032002"]
[2115653,"PEYRET","MAELLINE","BE","F","034012","034012"]
[2115833,"MARTINS","LOLA","BE","F","065027","065027"]
[2116064,"COUSINIER","MARION","BE","F","081017","081017"]
[2116762,"BOULOIR","ELISA","BE","F","048004","048006"]
[2117629,"EL MASOUDI","HAMZA","BE","M","081045","081041"]
[2118022,"PAPINEAU BELLEGUEULLE","MARIE","BE","F","066003","066032"]
[2118031,"CUISSET BENOIT","ESTEBAN","BE","M","012005","012005"]
[2118712,"FAYE","ARMAND","BE","M","034072","034072"]
[2118724,"PAPOZ NEGRONI","ELOICK","BE","M","034072","034072"]
[2119256,"CAZETTES","EMMY","BE","F","081046","081041"]
[2119277,"ESCANDE","CELIA","BE","F","081046","081041"]
[2119604,"AUBIN","REMI","BE","M","031056","031051"]
[2119645,"BATUT","FANNY","BE","F","081046","081041"]
[2120058,"NAVATEL","NOE","BE","M","030008","030008"]
[2120172,"DEPLAGNE","MARGAUX","BE","F","030074","030076"]
[2120296,"BREAT","SOLENE","BE","F","030060","030076"]
[2120370,"PAUL","ARTHUR","BE","M","081021","081017"]
[2120525,"COQUIN-REYNES","MATHIAS","BE","M","012003","012003"]
[2120552,"BOULAND","MARILOU","BE","F","034068","034068"]
[2120678,"GRAS","NOA","BE","M","034068","034068"]
[2120740,"MONGIOLS","LOAN","BE","M","034068","034068"]
[2121224,"GARRIGUES","HELOISE","BE","F","081035","081017"]
[2121257,"BUDIN","NATHANAEL","BE","M","066028","066032"]
[2122469,"MARTY","HERMANCE","BE","F","048004","048006"]
[2123352,"SADOUKI","ASSIA","BE","F","030004","030004"]
[2123776,"TERRAL","HANNAH","BE","F","012002","012002"]
[2123949,"ROBBE","LEON","BE","M","065005","065020"]
[2124273,"MARTY","MILA","BE","F","066027","066032"]
[2124281,"DOUMBOUYA","AISSATA","BE","F","034062","034062"]
[2124330,"HELIP","JULIETTE","BE","F","066027","066032"]
[2124788,"CAMPAN","ACHILE","BE","M","046012","046012"]
[2124848,"CHAIBI","CHERINE","BE","F","066003","066032"]
[2124852,"VIGNE","LILOU","BE","F","030059","030059"]
[2125489,"MARTIN CECCALDI","PAULINE","BE","F","031004","031004"]
[2126547,"FRAYSSE","ACHILLE","BE","M","081017","081017"]
[2126625,"SAC","ROBIN","BE","M","081017","081017"]
[2126639,"SAC","HUGO","BE","M","081017","081017"]
[2127875,"HARMEL","LEON","BE","M","031004","031004"]
[2129518,"DOUCHIN","MAELYS","BE","F","081051","081061"]
[2129526,"PAGES AYMERIC","ESTELLE","BE","F","081051","081061"]
[2129787,"BIGOT","LUCAS","BE","M","081046","081041"]
[2129994,"RUIZ","RUBEN","BE","M","031025","031025"]
[2130233,"KNUPPEL","ELENA","BE","F","030003","030003"]
[2132099,"BOULAMJOUJ","WIAM","BE","F","009011","009011"]
[2132257,"HEURTEBISE","ENZO","BE","M","034474","034474"]
[2132500,"DEPREZ","ZOE","BE","F","034466","034066"]
[2134223,"LE-DUFF","ISSAM","BE","M","034454","034066"]
[2134695,"LOVATO","CLARA","BE","F","065017","065020"]
[2134717,"LAUREYS","PAULINE","BE","F","065017","065020"]
[2135476,"BITIRIM","TUBA","BE","F","011021","011024"]
[2135671,"PHILIPPE","LENY","BE","M","034068","034068"]
[2135937,"GASQUET","LOANN","BE","M","081056","081017"]
[2136468,"COUERON","MARIE","BE","F","065005","065020"]
[2136788,"BRAVI","ENZO","BE","M","046004","046004"]
[2136818,"DUTAULT-TEQUI","LUCAS","BE","M","065012","065012"]
[2137351,"AUTIER","LANA","BE","F","065027","065027"]
[2140559,"LUHERNE","QUENTIN","BE","M","081046","081041"]
[2140601,"RONSIN","MARCEAU","BE","M","046008","046008"]
[2143392,"DURET","MARTIN","BE","M","032002","032002"]
[2143529,"DEBAQUE","JEREMY","BE","M","031062","031062"]
[2145445,"LIEBMANN","MARIUS","BE","M","081052","081050"]
[2146410,"TEISSEYRE RUMBEAU","IBAN","BE","M","011016","011024"]
[2147046,"MARTINEZ-LABAJO","ELIAN","BE","M","082017","082017"]
[2147091,"SUBE XAVIER","MAIA","BE","F","030003","030003"]
[2149553,"ARANDA FRANCOIS","BERTILLE","BE","F","011022","011024"]
[2151053,"ELOUARYAGHLI","YOUNES","BE","M","011001","011024"]
[2152655,"MAZE","PIERRE","BE","M","011001","011024"]
[2152860,"SANTOS","TIMEO","BE","M","034012","034012"]
[2155695,"MBENGI","EDSON","BE","M","031050","031050"]
[2156497,"STIEN RODRIGUES","MYA","BE","F","066028","066032"]
[2158036,"TAURINES","ELIAS","BE","M","081025","081017"]
[2160623,"BENAVIDES","JACOB","BE","M","082014","082014"]
[2162625,"DELGAT","ELLORIA","BE","F","031062","031062"]
[2162859,"VANONCINI-BARRANS","EMMA","BE","F","011022","011024"]
[2164910,"MENSUELLE","LOUIS","BE","M","030003","030003"]
[2165175,"EL FARROUJE","MOHAMED","BE","M","066003","066032"]
[2166822,"COUSIN","NATHAN","BE","M","030074","030076"]
[2167348,"PUYDARRIEUX","ROMAIN","BE","M","065004","065020"]
[2171145,"CUJUS","TOM","BE","M","046012","046012"]
[2173018,"CASI","LOUANE","BE","F","012003","012003"]
[2174980,"BARBETTI","MANON","BE","F","082017","082017"]
[2175251,"FRUCHART","ARTHUR","BE","M","034466","034066"]
[2175428,"SANCHIS","GABRIEL","BE","M","031034","031030"]
[2175608,"GUILLAMOT","LILWEN","BE","F","034466","034066"]
[2175937,"DIAZ PEIFFER","YOAN","BE","M","031015","031015"]
[2175948,"ERLES MAGNUSSON","REBECCA MARIE","BE","F","031034","031030"]
[2175963,"ESTAGERIE","PAUL","BE","M","031034","031030"]
[2176652,"BREMAUD","VICTOIRE","BE","F","012002","012002"]
[2176768,"CAVALIE","CLEMENT","BE","M","011022","011024"]
[2177101,"TURQUET","RAPHAEL","BE","M","082014","082014"]
[2177327,"MANOUVRIER","THEO","BE","M","031046","031030"]
[2178025,"TASSY","MATTHIEU","BE","M","031046","031030"]
[2178154,"LAPEYRE","SIMEON","BE","M","031034","031030"]
[2179371,"LENEPVEU","THOMAS","BE","M","034466","034066"]
[2179373,"BECK","ALEXIS","BE","M","034466","034066"]
[2179380,"FOURNIER","NOE","BE","M","034466","034066"]
[2179687,"ALPHONSINE","RAFAEL","BE","M","034062","034062"]
[2179695,"GALINIER BOYER","ANGELA","BE","F","081051","081061"]
[2180334,"GAIGNEUR","HUGO","BE","M","031015","031015"]
[2180766,"SENTOST","THOMAS","BE","M","031039","031039"]
[2180857,"CLERC","ELOISE","BE","F","031025","031025"]
[2180866,"ROBIC","JEANNE","BE","F","031042","031042"]
[2180944,"PANIS","FLORA","BE","F","082018","082018"]
[2181370,"BARBELIVIEN","UNA","BE","F","031039","031039"]
[2181376,"ROBIN","ELISE","BE","F","031039","031039"]
[2183203,"CARTIER-ZIANI","SALIM","BE","M","065006","065006"]
[2183280,"MERCKEL","NAMUUN","BE","F","031034","031030"]
[2183591,"BENOIT","VICTORIA","BE","F","030004","030004"]
[2185011,"MARESTIN","CHLOE","BE","F","031010","031051"]
[2186488,"GHIGLIONE","LUISA","BE","F","034466","034066"]
[2186636,"BARROMES","RACHEL","BE","F","081017","081017"]
[2187056,"JAMIL","YOUNES","BE","M","081051","081061"]
[2187064,"DUTAUT","MARIE","BE","F","030074","030076"]
[2187482,"DARNAUD SICRE","EMMA","BE","F","031008","031008"]
[2187809,"PIQUEMOLES","CLEMENT","BE","M","081043","081041"]
[2187911,"CAMBON","MARION","BE","F","031039","031039"]
[2188167,"LACROIX","PAULINE","BE","F","082018","082018"]
[2188380,"DESPAS","JULIA","BE","F","082017","082017"]
[2188392,"DESPAS","JADE","BE","F","082017","082017"]
[2188907,"LAFFONT","MATHIS","BE","M","031046","031030"]
[2189720,"DAVERAN","JEANNE","BE","F","065012","065012"]
[2190902,"CHARON","ADRIEN","BE","M","012018","012003"]
[2191758,"MASSON","VICTOR","BE","M","034068","034068"]
[2192010,"POSER","LIVIA","BE","F","081035","081017"]
[2192052,"GAILLAC","ROSE","BE","F","012003","012003"]
[2192379,"CASTAING","YANIS","BE","M","065006","065006"]
[2193006,"REBOUL","ULYSSE","BE","M","034068","034068"]
[2193294,"RODIER","LUCIE","BE","F","011022","011024"]
[2193410,"CALMETTES","AELIS","BE","F","046008","046008"]
[2193422,"HAICHAR","MELLINA","BE","F","081017","081017"]
[2193449,"FERRIER","MATHIS","BE","M","081017","081017"]
[2193474,"MILHAVET","MATHIEU","BE","M","046008","046008"]
[2194477,"MANAGAOU","ADRIEN","BE","M","031050","031050"]
[2194494,"TISSOT","JULIEN","BE","M","031050","031050"]
[2194499,"BELHADJ ABDELHADI","WALID","BE","M","031004","031004"]
[2194502,"CARLI","TELMA","BE","F","031050","031050"]
[2194508,"CARLI","MILO","BE","M","031050","031050"]
[2195797,"GRENIER","ARTHUR","BE","M","031034","031030"]
[2195831,"ANTRAS","AMBRE","BE","F","031035","031030"]
[2195834,"ANTRAS","EOLIA","BE","F","031035","031030"]
[2196280,"MOUTIER","LIAM","BE","M","031046","031030"]
[2196437,"FERRE","FERDINAND","BE","M","031046","031030"]
[2197000,"GAULOIS","GABRIEL","BE","M","031046","031030"]
[2197204,"MOLINA","NOE","BE","M","082017","082017"]
[2197251,"DANREZ","EMMA","BE","F","065003","065020"]
[2198071,"DROUIN","TIMOTHEE","BE","M","012002","012002"]
[2198105,"BORG","LENA","BE","F","081053","081050"]
[2198575,"BIE","LOIS","BE","F","031003","031003"]
[2198829,"ROSIER","GABIN","BE","M","034466","034066"]
[2198992,"CAMMAS","INES","BE","F","031003","031003"]
[2199167,"HENNEBICK","JADE","BE","F","030074","030076"]
[2199208,"FRANCISCO","EVAN","BE","M","031004","031004"]
[2199872,"VASSAL","ESTEBAN","BE","M","081046","081041"]
[2199893,"BOURTEL","NICIA","BE","F","034038","034038"]
[2200595,"DAPIERRE","INNA","BE","F","065027","065027"]
[2200969,"PAILHE-BELAIR","TIMOTE","BE","M","065025","065025"]
[2201002,"POUNTCHEV","VICTORIA","BE","F","031004","031004"]
[2201077,"MOREL","ALBAN","BE","M","031003","031003"]
[2201154,"SIMON","FAUSTINE","BE","F","031004","031004"]
[2201240,"MOUMEN","IMANE","BE","F","034038","034038"]
[2202107,"COULANGE","JULES","BE","M","034038","034038"]
[2203139,"SARGSYAN","TIGRAN","BE","M","065003","065020"]
[2204106,"SAMEUR","RAYAN-BELKACEM","BE","M","081046","081041"]
[2204136,"AZEMAT","ALICIA","BE","F","081046","081041"]
[2204616,"BRINZAN","BIANCA-TEODORA","BE","F","011020","011024"]
[2204733,"DUMONCHAUX","CLEMENCE","BE","F","031004","031004"]
[2204760,"DUPRE","CELESTIN","BE","M","046012","046012"]
[2204772,"KOUADIO","EVAN-OLIVIER","BE","M","031004","031004"]
[2205495,"MATHEU","OCEANE","BE","F","066028","066032"]
[2207034,"EYMARD","THOMAS","BE","M","030008","030008"]
[2207144,"BIHI","SALAHEDINE","BE","M","030008","030008"]
[2208035,"COLIA","MATISSE","BE","M","065027","065027"]
[2208281,"COUILLEZ","MIA","BE","F","032002","032002"]
[2208320,"BAUDOUIN","JULES","BE","M","011001","011024"]
[2209118,"ZARGHOUNE","ILYASSE","BE","M","082014","082014"]
[2210225,"PODOR","GAULTIER","BE","M","030021","030076"]
[2210516,"GAULUET","NELIO","BE","M","030021","030076"]
[2210794,"CROCE","STANISLAS","BE","M","032002","032002"]
[2211106,"RIGAL","DORIAN","BE","M","030021","030076"]
[2211317,"CAYRAC","PAUL","BE","M","081043","081041"]
[2211568,"THOMAZO","LOUISE","BE","F","034476","034476"]
[2211875,"DE BERTIER","ISAURE","BE","F","034062","034062"]
[2211940,"DUZELLIER","MAXENCE","BE","M","034038","034038"]
[2211951,"BONNAUD","TIMEO","BE","M","030059","030059"]
[2212048,"BREMOND","BASTIEN","BE","M","034068","034068"]
[2212130,"BLANC","CANDICE","BE","F","030021","030076"]
[2212168,"RIEU","ALEXANDRE","BE","M","031004","031004"]
[2212191,"MOUTON","JEANNE","BE","F","031056","031051"]
[2212305,"GROUX","FLORENTIN","BE","M","031062","031062"]
[2212313,"LEGRIEL","ELSA","BE","F","031062","031062"]
[2212614,"FABRIES","PAULINE","BE","F","081047","081041"]
[2212719,"BAILLY LAHIGUERA","EVA","BE","F","066006","066006"]
[2213338,"TEULIERE","THIBAULT","BE","M","031056","031051"]
[2213566,"AROUCHE","JANNA","BE","F","031004","031004"]
[2214264,"HAHONOU CATTELIN","MATHIS","BE","M","030003","030003"]
[2214345,"CHIAPPETTA","LORIS","BE","M","030003","030003"]
[2214386,"LACROIX","LISA","BE","F","030003","030003"]
[2214418,"AREDAR","MOHAMED","BE","M","030004","030004"]
[2215122,"TOUCHET","MAXIME","BE","M","011001","011024"]
[2215226,"REBONATO","BENJAMIN","BE","M","031022","031051"]
[2215479,"DJOUAL","GABRIEL","BE","M","031015","031015"]
[2215484,"DECAYEUX","VICTOR","BE","M","009011","009011"]
[2215760,"DUCERT TIAGO","HUGO","BE","M","009001","009001"]
[2215981,"CLAVEL","MILA","BE","F","066028","066032"]
[2216619,"SEGUELA","MAEL","BE","M","081021","081017"]
[2216673,"ZBAWICKI","IRINA","BE","F","034072","034072"]
[2216762,"GOBERT","LEA","BE","F","066037","066037"]
[2217054,"LECUYER","ANOUK","BE","F","034466","034066"]
[2217204,"MICHON-MICHEL","CALISTA","BE","F","030004","030004"]
[2217697,"VALENTIN","ANAIS","BE","F","030003","030003"]
[2217881,"PERSEGOUT RHIMBERT","GIOVANA","BE","F","031003","031003"]
[2218087,"COURTY","CAMILLE","BE","F","031062","031062"]
[2218422,"GONZALEZ","ETHAN","BE","M","081055","081017"]
[2218428,"ARNAL","PIERICK","BE","M","081035","081017"]
[2218818,"GHENIM","NAWFEL","BE","M","012003","012003"]
[2219565,"GALTIER","VALENTINE","BE","F","030040","030040"]
[2219934,"GUERIN-GOUBEAU","VICTOR","BE","M","034072","034072"]
[2220891,"MICHEL","LUCA","BE","M","081051","081061"]
[2220911,"HUC","NATHAN","BE","M","065025","065025"]
[2220950,"NIVELLE ALONSA","ARIANA","BE","F","031025","031025"]
[2221004,"VANCRAEYENEST","RONAN","BE","M","030059","030059"]
[2221047,"TRUCHI-GRENOT","TINA","BE","F","046008","046008"]
[2221783,"BOUDJELLAL","DALY","BE","M","030021","030076"]
[2222004,"TEIXEIRA","NINO","BE","M","031042","031042"]
[2222065,"GACHON","SARAH","BE","F","048007","048006"]
[2222660,"CITTANOVA","EVA","BE","F","031043","031030"]
[2223005,"ROBIN","HUGO","BE","M","032006","032006"]
[2225118,"MIREY","MARGOT","BE","F","009011","009011"]
[2225648,"LESAUVAGE SAUMADE","LOAN","BE","M","081043","081041"]
[2225897,"MISTRI","LOLA","BE","F","081043","081041"]
[2225968,"POUSSIN-CAMIADE","GUILHEM","BE","M","065004","065020"]
[2226065,"FERNANDEZ","LOUAN","BE","M","081017","081017"]
[2226102,"BELADEL","AMINA","BE","F","030040","030040"]
[2226915,"AUDREN MOALI","TOMAS","BE","M","081054","081061"]
[2226917,"AUDREN MOALI","IVAN","BE","M","081054","081061"]
[2226921,"BECQUET","COSTIN","BE","M","081017","081017"]
[2226935,"LAFON","CORENTIN","BE","M","081054","081061"]
[2226952,"NESPOULOUS","CHLOE","BE","F","081054","081061"]
[2227545,"DECAUD","AELIS","BE","F","011022","011024"]
[2227649,"LESVEN","ANAE","BE","F","034036","034036"]
[2227685,"QUILES","MAEL","BE","M","048004","048006"]
[2227764,"DUBOURG","ADELE","BE","F","031062","031062"]
[2229308,"HAMED","HELENA","BE","F","031022","031051"]
[2229619,"EL MRABET","ASSIA","BE","F","034021","034021"]
[2229741,"DONAT","ROMEO","BE","M","082017","082017"]
[2230485,"JACQUESON","MANON","BE","F","012013","012003"]
[2231176,"CAZAURANG","PAUL","BE","M","034466","034066"]
[2231959,"BENDJEDID","SIHAME","BE","F","011001","011024"]
[2232044,"LAFFONT","AURELIEN","BE","M","011016","011024"]
[2233305,"RAMI","HAMED","BE","M","030018","030018"]
[2233312,"DATY-CUEVAS","YAHELIZ","BE","F","030018","030018"]
[2233368,"BERTINO","ADELE","BE","F","081017","081017"]
[2233761,"BOYER","ELOUAN","BE","M","031062","031062"]
[2233967,"SEIGNEUR","NOAM","BE","M","081025","081017"]
[2234252,"WALTER-TORQUEBIAU","JULIA","BE","F","034457","034457"]
[2235095,"THEPEGNIER BRANCHARD","RUBEN","BE","M","066006","066006"]
[2235677,"SAINT PIERRE","LENNY","BE","M","034058","034058"]
[2235697,"JOULIN","BENJAMIN","BE","M","034466","034066"]
[2235808,"EL HAMDI","MELINA","BE","F","030003","030003"]
[2236285,"PETE","RACHEL","BE","F","030003","030003"]
[2236777,"LESCURE","EMILE","BE","M","081054","081061"]
[2236781,"PECOULT","SACHA","BE","M","081054","081061"]
[2236784,"VILLEMUR","GABIN","BE","M","081054","081061"]
[2236911,"HENNON","OSCAR","BE","M","081035","081017"]
[2237834,"DELLACASAGRANDE","HELOISE","BE","F","031025","031025"]
[2238657,"SAIED","OUAFI","BE","M","081056","081017"]
[2238670,"SACI","SIRINE","BE","F","031015","031015"]
[2239321,"MARTORY","JUSTIN","BE","M","046008","046008"]
[2239322,"BOISSONNET","COLINE","BE","F","046008","046008"]
[2239640,"BIVES","MAXIME","BE","M","065027","065027"]
[2241700,"LAFITTE","MIA","BE","F","031034","031030"]
[2241818,"CHAPPERT","TIMOTHE","BE","M","081017","081017"]
[2242409,"MAGDALOU","MILA","BE","F","034069","034069"]
[2243666,"FERRER","CHLOE","BE","F","030021","030076"]
[2244557,"GALY","ARTHUR","BE","M","081053","081050"]
[2244608,"VUILLAUME","LISA","BE","F","046004","046004"]
[2246649,"DURAND","AMBRE","BE","F","030067","030067"]
[2246685,"SALIC","JULES","BE","M","034457","034457"]
[2246701,"URSULE RABBE","HADRIEN","BE","M","034058","034058"]
[2246723,"DELSUPEXHE","LOAN","BE","M","030040","030040"]
[2249416,"ROURE","ROMY","BE","F","034055","034055"]
[2249868,"CHERON","JEANNE","BE","F","030003","030003"]
[2250247,"BENABDALLAH","AMBRE","BE","F","031034","031030"]
[2250301,"DEREMARQUE","CHARLY","BE","M","066028","066032"]
[2251050,"JACQUES","CHARLOTTE","BE","F","030018","030018"]
[2251614,"RUIS GAUTHIER","EDWYN","BE","M","034021","034021"]
[2252060,"VIGUIER","LEO","BE","M","031062","031062"]
[2253723,"LAVAL","LEANE","BE","F","030008","030008"]
[2255256,"RIVIERE","CAMILLE","BE","F","031015","031015"]
[2256155,"CAZALS","RAYAN","BE","M","031034","031030"]
[2258039,"PUYGRENIER","ANTOINE","BE","M","034021","034021"]
[2259049,"CURTIS","ZELIE","BE","F","032006","032006"]
[2263355,"GAYAN","CHARLES","BE","M","065027","065027"]
[2263379,"ABIDI","SELYAN","BE","M","031009","031009"]
[2265147,"DRAPEAU","CLARA","BE","F","031012","031012"]
[2265215,"BERTANDEAU","GERMAIN","BE","M","031034","031030"]
[2265225,"DELPHIN SIMON","INES","BE","F","031034","031030"]
[2265232,"CRIBAILLET","EVAN","BE","M","034466","034066"]
[2265297,"DALLA COSTA","AMANCE","BE","F","082017","082017"]
[2265883,"CORRE CAMPIGOTTO","TITOUAN","BE","M","031043","031030"]
[2265892,"BEAUDOIRE","LOU-ANNE","BE","F","031043","031030"]
[2265905,"PAOLETTI","ALYSSA","BE","F","031034","031030"]
[2265930,"LESCURE","ADRIEN","BE","M","031043","031030"]
[2265939,"SALABERT","ELEA","BE","F","031043","031030"]
[2266251,"PLAINO-CASSAGNE","MANON","BE","F","065006","065006"]
[2266366,"CONDIS","MAXIME","BE","M","031046","031030"]
[2266367,"BOSCHINI","ALBAN","BE","M","031046","031030"]
[2266376,"POMES","FLORIAN","BE","M","031043","031030"]
[2267473,"BARBERO","MILA","BE","F","031034","031030"]
[2267477,"LOBE","ADRIANA","BE","F","082017","082017"]
[2267542,"LADU","CLARA","BE","F","082017","082017"]
[2267638,"HADDOU BOUAZZA","AYOUB","BE","M","030008","030008"]
[2267749,"BEGHIN","EVAN","BE","M","031035","031030"]
[2267794,"ARNAULD","SOLANN","BE","M","031035","031030"]
[2267812,"MEYNIEL","ANAIS","BE","F","031035","031030"]
[2267945,"FAURE","YUNA","BE","F","011022","011024"]
[2267949,"AZAIS","MAEL","BE","M","011022","011024"]
[2268597,"BOUEKE","RINNA","BE","F","031043","031030"]
[2268940,"BAGHA","HIDAYA","BE","F","034038","034038"]
[2269063,"FRANCOIS","SAMUEL","BE","M","031043","031030"]
[2269473,"MOREAU","LOLA","BE","F","034062","034062"]
[2269564,"BELLOT","ZAKARYA","BE","M","034062","034062"]
[2269980,"BOBINET","MARTIN","BE","M","031046","031030"]
[2270228,"TAYLOR","AMELIE","BE","F","031015","031015"]
[2270231,"VERWEYEN","CARL-ERIK","BE","M","031015","031015"]
[2270235,"LARROQUE","IBAN","BE","M","031015","031015"]
[2270410,"GROS","ALICE","BE","F","031035","031030"]
[2270637,"KUBRAK","LOUISE","BE","F","031009","031009"]
[2271903,"GILLET","MAE","BE","M","011022","011024"]
[2272328,"GUIRAUD GALANT","MORGANE","BE","F","030040","030040"]
[2272479,"CASTANDET","CLOE","BE","F","034012","034012"]
[2272592,"LASSERES","MARGOT","BE","F","032002","032002"]
[2272748,"GUILLET","MILO","BE","M","031022","031051"]
[2273086,"PREYS","EMILIA","BE","F","034072","034072"]
[2273331,"PONTIE","ILONA","BE","F","031042","031042"]
[2273689,"REYNAUD","GABY","BE","F","034457","034457"]
[2273777,"BONNET ALLIER","CANDICE","BE","F","012003","012003"]
[2273797,"PUJOL","QUENTIN","BE","M","031039","031039"]
[2274099,"KHICHANE","JADE","BE","F","011001","011024"]
[2274533,"MARTIN","LILY","BE","F","034062","034062"]
[2274579,"DUPIN","FAUSTINE","BE","F","034062","034062"]
[2275179,"RIGAUD","LOUIS","BE","M","011001","011024"]
[2275803,"GEISLER","NOAN","BE","M","012018","012003"]
[2275923,"TROLEZ","MAXIME","BE","M","034065","034066"]
[2276073,"ALONSO","CLEMENCE","BE","F","034021","034021"]
[2276272,"BRUS","MATHILDA","BE","F","031025","031025"]
[2276442,"BOURGEOIS","ELENI","BE","F","011016","011024"]
[2276561,"KERVIEL","TILIO","BE","M","034036","034036"]
[2277332,"RICHARD","NOAM","BE","M","046008","046008"]
[2277423,"PAILLOUX","MARGOT","BE","F","031004","031004"]
[2277478,"VIGIER","AEDAN","BE","M","031004","031004"]
[2277528,"DUBOURDIEU","GABRIEL","BE","M","031004","031004"]
[2277583,"GIOIA","MATHIAS","BE","M","031004","031004"]
[2277595,"RUIZ","NOLAN","BE","M","031004","031004"]
[2277606,"DONDA","GABRIEL","BE","M","031004","031004"]
[2277607,"HERVY","EUGENIE","BE","F","031004","031004"]
[2277666,"MARCHANT","JEREMY","BE","M","031012","031012"]
[2277966,"ROUSSET","OWANE","BE","F","031039","031039"]
[2278202,"MUR PEFONTAN","FAUSTINE","BE","F","065025","065025"]
[2278212,"RENAULT","IRIS","BE","F","034036","034036"]
[2278215,"SANS","LANA","BE","F","065025","065025"]
[2278557,"DEMARLIERE","DAVID","BE","M","011016","011024"]
[2278582,"ADIVESES","CLEMENT","BE","M","011016","011024"]
[2278629,"BELDJERD","NAEL","BE","M","046012","046012"]
[2279866,"CARRAUX","NAIA","BE","F","082018","082018"]
[2279896,"RAFFEL","MANON","BE","F","031003","031003"]
[2280152,"LAUGIER","EVA","BE","F","030040","030040"]
[2280371,"VENTURA","RAPHAEL","BE","M","034064","034064"]
[2280865,"MORISSONNEAU","ARTHUR","BE","M","031008","031008"]
[2281119,"FONTAN","JEANNE","BE","F","065012","065012"]
[2281428,"ESCRIVA","LAURINE","BE","F","030008","030008"]
[2281468,"CHABANNES","NIELS","BE","M","034072","034072"]
[2281509,"BAZALGE","NINON","BE","F","034466","034066"]
[2281778,"ISEPPI","GIULIANA","BE","F","031015","031015"]
[2281818,"BOSOM","CLEMENT","BE","M","066027","066032"]
[2282295,"BONIFACE","NAEL","BE","M","065027","065027"]
[2282797,"SERIN","LOUIS","BE","M","012011","012003"]
[2283385,"BARTHE","MILA","BE","F","032002","032002"]
[2283660,"BUTTERBACH","PHILEAS","BE","M","082014","082014"]
[2283668,"DIRAT","VALENTIN","BE","M","082014","082014"]
[2283716,"ROCHE","MAIXENT","BE","M","034072","034072"]
[2284001,"GAVALDA","NATHANAEL","BE","M","012008","012008"]
[2284198,"GAUDEFROY","LOUAN","BE","M","081021","081017"]
[2284201,"PARDO","LUCA","BE","M","030021","030076"]
[2284210,"BENEZET","LEANE","BE","F","030021","030076"]
[2284413,"CUCULIERE","LESIA","BE","F","031062","031062"]
[2284426,"BOULBET-MATEU","HUGO","BE","M","031062","031062"]
[2284431,"BACH","MATHIS","BE","M","031062","031062"]
[2284443,"LIMES","JULIETTE","BE","F","031062","031062"]
[2284446,"CENAC","ETHAN","BE","M","031062","031062"]
[2284895,"VIZUETE","BAPTISTE","BE","M","030059","030059"]
[2284944,"PHARABOZ","TIMOTHEE","BE","M","030059","030059"]
[2284979,"BOTEREL","LEO","BE","M","031009","031009"]
[2285037,"BETTINELLI","INES","BE","F","030003","030003"]
[2285040,"XAVIER","FLORENTIN","BE","M","012005","012005"]
[2286444,"DU MAS DES BOURBOUX","MYA","BE","F","034058","034058"]
[2286552,"EL HADRI","ILIAS","BE","M","066028","066032"]
[2286572,"HELAINE","MAIWENN","BE","F","066028","066032"]
[2286600,"FACENDA","JULIETTE","BE","F","030060","030076"]
[2286605,"FAUQUE","NOEMIE","BE","F","030060","030076"]
[2286611,"JEAN","ANTOINE","BE","M","030060","030076"]
[2286734,"ZAMUNER","VIOLETTE","BE","F","066028","066032"]
[2286978,"REGNAULT","NOAM","BE","M","031015","031015"]
[2287593,"GRENIER","VIKTOR","BE","M","034038","034038"]
[2287648,"MAURIN","CASSY","BE","F","030059","030059"]
[2288040,"FESIAK","SHEMSSY","BE","F","065006","065006"]
[2288301,"SPAGNOLI","MANON","BE","F","011020","011024"]
[2288962,"MOLINIE PAGES","MADELEINE","BE","F","031015","031015"]
[2289698,"PASSEDAT","OLYMPE","BE","F","082018","082018"]
[2289880,"COURREGE","STELLA","BE","F","009011","009011"]
[2289943,"SOULAGES","ANTOINE","BE","M","031003","031003"]
[2290116,"PERFETTINI","NOAH","BE","M","046012","046012"]
[2290213,"CRESPY","NINA","BE","F","031015","031015"]
[2290478,"GIPOULOUX","RUBEN","BE","M","031004","031004"]
[2290641,"CHATAIL","LEONIE","BE","F","034466","034066"]
[2290865,"MOUSQUES DIT CABANOT","AIME","BE","M","065012","065012"]
[2290940,"LOURADOUR","JEREMY","BE","M","031025","031025"]
[2291030,"SAJID","ADAM","BE","M","066003","066032"]
[2291398,"CHABBAL","CANDICE","BE","F","081044","081041"]
[2291442,"BECAMEL","LOUIS","BE","M","030040","030040"]
[2291725,"CACHARD","CHARLOTTE","BE","F","030003","030003"]
[2291777,"RIBEYROL","MAELIA","BE","F","030003","030003"]
[2291793,"JOUGLA","LOLA","BE","F","030003","030003"]
[2291911,"GOMES","NOE","BE","M","031063","031063"]
[2291916,"HABLOT","MATHIS","BE","M","030067","030067"]
[2292377,"CAUBERE","SASHA","BE","M","031004","031004"]
[2292400,"KASSAR","ADRIEN","BE","M","031004","031004"]
[2292907,"WEISSGERBER","NATHAN","BE","M","009001","009001"]
[2292921,"GUERIN","MATHIS","BE","M","009011","009011"]
[2293765,"DUJARDIN","OCTAVE","BE","M","012018","012003"]
[2293951,"NICOT","LUCAS","BE","M","081055","081017"]
[2294240,"FOUILLADE","ROMANE","BE","F","081051","081061"]
[2294357,"CHEVRE","ERIN","BE","F","081051","081061"]
[2294380,"JAMES RAJESWARAN","LANA","BE","F","081051","081061"]
[2294464,"VALETTE","ELOISE","BE","F","034062","034062"]
[2294499,"CABOCEL","LEONIE","BE","F","011001","011024"]
[2294776,"MICHELON","BASTIEN","BE","M","031062","031062"]
[2294944,"SUAREZ RIESCO","SIMONETA","BE","F","009011","009011"]
[2295478,"CALDAS ARAUJO","ANDY","BE","M","030018","030018"]
[2295482,"LAMAISON","THEO","BE","M","031034","031030"]
[2296098,"DJAI","ORIANNE","BE","F","030074","030076"]
[2296253,"MELET-ROSSETTO","MANON","BE","F","034012","034012"]
[2296939,"FERRAND","MATHIS","BE","M","034012","034012"]
[2297102,"AZZOUG","AMAYAS","BE","M","011022","011024"]
[2297245,"KWIETNIAK","APOLLINE","BE","F","048004","048006"]
[2297495,"FILLIERE","MANON","BE","F","048004","048006"]
[2297530,"ASSANT","THEOBALD","BE","M","048004","048006"]
[2297564,"SCHORZ","ELISA","BE","F","031012","031012"]
[2297733,"ZANDERIGO","CARLA","BE","F","031003","031003"]
[2297742,"MEZIANI","LANA","BE","F","031003","031003"]
[2297814,"DAVID","ANGELINE","BE","F","034068","034068"]
[2297820,"DELONCA","JEANNE","BE","F","034068","034068"]
[2297828,"FRANCES","ANA","BE","F","034068","034068"]
[2297833,"FRAYSSE","ROMARIC","BE","M","034068","034068"]
[2297956,"ROUGE","MARGOT","BE","F","031042","031042"]
[2298009,"FELTESSE SADRE","ARMAN","BE","M","034021","034021"]
[2299408,"ZENNOU","NAOUFAL","BE","M","034012","034012"]
[2299479,"POUTREL","PIERROT","BE","M","030008","030008"]
[2299502,"MAURY","IRIS","BE","F","034012","034012"]
[2299778,"GUILLOUT","ALICE","BE","F","034058","034058"]
[2299977,"MAZARS","CHLOE","BE","F","031056","031051"]
[2300118,"PENE","CAMILLE","BE","F","031056","031051"]
[2300227,"OLIVARES","CANDICE","BE","F","031003","031003"]
[2300716,"FAZION","LENY","BE","M","011001","011024"]
[2301347,"BOCHEN","LEONIE","BE","F","031022","031051"]
[2301614,"MAS","MARINE","BE","F","030018","030018"]
[2301865,"ROUSSEAU","VALENTIN","BE","M","031050","031050"]
[2302404,"SOUIRI","WIDAD","BE","F","034055","034055"]
[2302413,"LLARI","MATHILDE","BE","F","034055","034055"]
[2302698,"LYEGRE","JULIETTE","BE","F","034474","034474"]
[2303108,"BONED","CYPRIEN","BE","M","031025","031025"]
[2303110,"MOSELE","ROSALIE","BE","F","031025","031025"]
[2303226,"DIEZ","THEO","BE","M","046008","046008"]
[2303235,"FOURCADE","JULES","BE","M","031025","031025"]
[2303531,"LE DILHUIT","MATHIAS","BE","M","065012","065012"]
[2303636,"ENSENAT BONARIC","LOAN","BE","M","034062","034062"]
[2303805,"NOEL FORGUES","MARIUS","BE","M","066028","066032"]
[2303808,"ARBERET","ROMANE","BE","F","065006","065006"]
[2303860,"REZOUGUE","AMEL","BE","F","065006","065006"]
[2304175,"FAURE","BASTIEN","BE","M","009011","009011"]
[2304210,"NOURI","SAMY","BE","M","009001","009001"]
[2304333,"BOUISSET","JADE","BE","F","081043","081041"]
[2304429,"CONIL","MARCUS","BE","M","034065","034066"]
[2304887,"CARRIERES","PAUL","BE","M","081017","081017"]
[2304889,"PONS","EVA","BE","F","012005","012005"]
[2304955,"BENARD","MAELYS","BE","F","030003","030003"]
[2304976,"BENCHIMOL","RAPHAELLE","BE","F","031050","031050"]
[2305003,"BACARIA LOPEZ","JULIE","BE","F","031025","031025"]
[2305006,"GUERIN","OWEN","BE","M","031050","031050"]
[2305135,"ZINE","YNES","BE","F","011016","011024"]
[2305494,"ZAGHAR-BOYER","SOFIA","BE","F","034072","034072"]
[2306948,"PERES","OSCAR","BE","M","081044","081041"]
[2307005,"MARTIN","MEGGANE","BE","F","030059","030059"]
[2307079,"MARIE","OSCAR","BE","M","031056","031051"]
[2307379,"BADEL","MATHYS","BE","M","034069","034069"]
[2307418,"VERGE","LENA","BE","F","065025","065025"]
[2307445,"ESCOUBAS","ANTON","BE","M","065025","065025"]
[2307658,"BOMPAS","ANAELLE","BE","F","032006","032006"]
[2308247,"DUTEIL","LOUISE","BE","F","081047","081041"]
[2308391,"MISHELETTI","GABRIEL","BE","M","011001","011024"]
[2308394,"SCHOCH","ARNAUD","BE","M","066028","066032"]
[2308648,"EL HAMDI","SYRINE","BE","F","030003","030003"]
[2308750,"LE","WILLY","BE","M","030060","030076"]
[2308826,"BRICARD","MARIUS","BE","M","030008","030008"]
[2309921,"MAILLE","ENZO","BE","M","066006","066006"]
[2309999,"RABIER","LUNA","BE","F","012002","012002"]
[2310034,"NGUYEN-VANDEPUTTE","TAO","BE","M","012002","012002"]
[2310208,"OUEDGHIRI","SAFAE","BE","F","011022","011024"]
[2310216,"GRAU-ORTIZ","SARAH","BE","F","034068","034068"]
[2310501,"SALA","MARIE-LOU","BE","F","081017","081017"]
[2311106,"RAYNAUD","ZOE","BE","F","031025","031025"]
[2312288,"MICHAU","BAPTISTE","BE","M","009001","009001"]
[2312400,"SERMET","CLAIRE","BE","F","031043","031030"]
[2313524,"FERRERES","PATRICK","BE","M","011022","011024"]
[2313890,"BARDES","SARAH","BE","F","066037","066037"]
[2313894,"BARDES","ELEN","BE","F","066037","066037"]
[2313974,"COURDESSES","ALEX","BE","M","046012","046012"]
[2313979,"GOY","ROXANE","BE","F","030003","030003"]
[2314325,"MERCIER","MERYL","BE","F","031015","031015"]
[2315076,"CHEVAUCHE","LOUIS","BE","M","081046","081041"]
[2315929,"LECORNU","LOUIS","BE","M","031025","031025"]
[2316219,"DELMAS","ROMANE","BE","F","048007","048006"]
[2316230,"CHEDANNA","HUGO","BE","M","048007","048006"]
[2316580,"TEISSERENC","AUGUSTIN","BE","M","034012","034012"]
[2316598,"HUBERT-COSTESSEQUE","GABRIEL","BE","M","009011","009011"]
[2316878,"ALONSO","GABRIEL","BE","M","030040","030040"]
[2317035,"JULAN","RAYAN","BE","M","034466","034066"]
[2317191,"VILLARD RIPERT","LAURA","BE","F","030059","030059"]
[2317254,"GONCALVES PEREIRA","AYANO","BE","M","034058","034058"]
[2317854,"BODY","MATHIS","BE","M","081017","081017"]
[2318293,"MARTIN LECLERC","PAUL","BE","M","030003","030003"]
[2318620,"JABBARI","AYOUB","BE","M","030059","030059"]
[2318893,"ACHOURI","ASSIA","BE","F","012002","012002"]
[2318896,"PAILHAS","LISON","BE","F","012002","012002"]
[2319306,"LANNE","MARTIN","BE","M","065027","065027"]
[2320790,"SAINT LEGER","MARWAN","BE","M","012003","012003"]
[2321215,"FIEVET","LILIE-ROSE","BE","F","030021","030076"]
[2321524,"REVEILLON","KAIS","BE","M","081045","081041"]
[2321991,"PRIVAT BOURDARIAS","ELISA","BE","F","034466","034066"]
[2322549,"BOUCHI-LAMONTAGNE","MARCEAU","BE","M","030004","030004"]
[2322807,"BRU BERTOUT","VIRGILE","BE","M","034072","034072"]
[2323416,"CHASSERIAU","COME","BE","M","066028","066032"]
[2323570,"AFNIGHAR","SAWSANE","BE","F","034466","034066"]
[2324485,"TARDIEU","NATHAEL","BE","M","081051","081061"]
[2325300,"ABDALLAH","EVELYNA","BE","F","030040","030040"]
[2325817,"MEVEL","ROZENN","BE","F","032006","032006"]
[2326301,"RIMAUD","ZOE","BE","F","065012","065012"]
[2328127,"SALAME","MARIE","BE","F","066028","066032"]
[2328133,"ZINSSNER NAVARRO","ALEXANDRE","BE","M","034021","034021"]
[2328384,"GARCIA","LISSANDRO","BE","M","081017","081017"]
[2328521,"VIGUIER","CLOE","BE","F","081054","081061"]
[2329614,"JANAU","CAMILLE","BE","F","031042","031042"]
[2329931,"LACOUR","ELSA","BE","F","034068","034068"]
[2330015,"GNECH","CLEMENT","BE","M","081025","081017"]
[2331378,"MALESIC","AXEL","BE","M","030018","030018"]
[2331709,"ZAHRA","NOA","BE","M","048004","048006"]
[2331938,"FRACHON","CLARA","BE","F","030003","030003"]
[2333357,"FIZES","JONAH","BE","M","012008","012008"]
[2333956,"BOUYGE","LUCIE","BE","F","031056","031051"]
[2334199,"JACQUES","AARON","BE","M","030059","030059"]
[2334804,"BOULER","SUZIE","BE","F","031056","031051"]
[2335677,"FARAUT","PAULINE","BE","F","031025","031025"]
[2335817,"EL BERBRI","ADAM","BE","M","030004","030004"]
[2336556,"AMIET","MAELO","BE","M","034454","034066"]
[2336660,"ROQUIGNY","CASSIE","BE","F","031025","031025"]
[2336839,"ABBIATI","ALWENA","BE","F","065006","065006"]
[2337323,"IZARD","DYLAN","BE","M","081054","081061"]
[2337598,"KORVER","LUCILE","BE","F","031012","031012"]
[2337599,"LEBAS","CHARLINE","BE","F","031012","031012"]
[2337615,"BOINOT","MARTIN","BE","M","031004","031004"]
[2337621,"LAVAUX-HAURET","LOU","BE","F","031004","031004"]
[2337627,"ARTEIL","ALICE","BE","F","031004","031004"]
[2337969,"ROLLAND","ALICE","BE","F","031043","031030"]
[2337972,"SAVY","ROBIN","BE","M","031034","031030"]
[2338017,"FERNANDEZ","ELISE","BE","F","031034","031030"]
[2338020,"KLEIN","GARANCE","BE","F","031034","031030"]
[2338117,"GUERRERO","MATHYS","BE","M","031063","031063"]
[2338835,"MARTIN-BLONDEL","LUCIE","BE","F","031034","031030"]
[2338868,"GINISTY","AUDREY","BE","F","082017","082017"]
[2339242,"BERTHOU","ANTOINE","BE","M","031034","031030"]
[2339249,"PECH","MATHILDE","BE","F","031034","031030"]
[2339252,"STRASBACH","MARIUS","BE","M","031034","031030"]
[2339593,"BERTORELLE","JAINA","BE","F","031015","031015"]
[2339815,"RUEPP","ELIE","BE","M","082017","082017"]
[2340186,"SOUQUE","ELEANA","BE","F","031062","031062"]
[2340462,"TEXIER","LOIS","BE","M","034466","034066"]
[2340775,"CAZALAS","ESTEBAN","BE","M","065019","065019"]
[2340815,"TREGINE-REGENT","ARTHUR","BE","M","031015","031015"]
[2340870,"SADOUL","ALEXIS","BE","M","031015","031015"]
[2341396,"JUILLET","ROSINE","BE","F","031039","031039"]
[2341485,"BAYLE","LUCILE","BE","F","031062","031062"]
[2341490,"CAMBOULIVE","FLORE","BE","F","031042","031042"]
[2341762,"CARRERE","ETHAN","BE","M","065006","065006"]
[2341965,"LINGOIS","MAXIME","BE","M","031042","031042"]
[2342061,"PIAZZA","NAHIA","BE","F","031015","031015"]
[2342146,"DENUS","NOA","BE","M","034466","034066"]
[2342232,"AUGUSTE","ALAIS","BE","F","034038","034038"]
[2342265,"LAMBERT","HECTOR","BE","M","034466","034066"]
[2342348,"GARCIA","LEO","BE","M","081048","081041"]
[2342385,"GIOVANNINI","ELIE","BE","M","034466","034066"]
[2342487,"TAVENEAU","TITOUAN","BE","M","031043","031030"]
[2342641,"AYOUNI","SOUHAYL","BE","M","031034","031030"]
[2342642,"MEILLIER","MAELYS","BE","F","031034","031030"]
[2343112,"BAUDIER LELUC","OWEN","BE","M","011001","011024"]
[2343116,"CROUZET","INES","BE","F","011001","011024"]
[2343464,"SENAC","MAXIME","BE","M","065012","065012"]
[2343599,"CHABALIER","GIANI","BE","M","031015","031015"]
[2343692,"HARO","ERINE","BE","F","031035","031030"]
[2343702,"CALESTROUPAT","DAMIEN","BE","M","031034","031030"]
[2343849,"ADOUE ZINDY","LOUISE","BE","F","031015","031015"]
[2344310,"CHEZE","TIMOTHE","BE","M","031056","031051"]
[2344442,"BELLANTONI-GEIL","GIULIA","BE","F","034021","034021"]
[2344880,"RIVIERE","LOUISE","BE","F","031004","031004"]
[2345067,"ETIENNE LOPEZ","ESTELLE","BE","F","034072","034072"]
[2345314,"GAUDIN","SARAH","BE","F","012005","012005"]
[2345457,"BIENFAIT HARNICHARD","RAPHAEL","BE","M","030008","030008"]
[2345812,"TOUSSAINT","JULIANE","BE","F","065005","065020"]
[2346368,"LOPES","EVA","BE","F","065012","065012"]
[2346696,"GENDRE FOURNIER","LOUISE","BE","F","034038","034038"]
[2347138,"MONTANINO","MAELLY","BE","F","082017","082017"]
[2347563,"CHABANIS GUEVARRA","MELYNA","BE","F","034466","034066"]
[2347578,"FARRE FROPIER","AUBIN","BE","M","031035","031030"]
[2347777,"LURON","NATHAN","BE","M","065006","065006"]
[2347800,"BOCCADIFUOCO","PAULINE","BE","F","034036","034036"]
[2347821,"HUYNH","ELIJAH","BE","M","065006","065006"]
[2347868,"BATUT VERCHEL","NOE","BE","M","081035","081017"]
[2348091,"JALABERT","NATHAN","BE","M","011016","011024"]
[2348359,"BARIZZA","GENNARO","BE","M","031063","031063"]
[2348716,"RODIER","CHLOE","BE","F","011022","011024"]
[2348766,"CHAMUSSY","ROMANE","BE","F","031035","031030"]
[2348808,"JIMENEZ","CALI","BE","F","011022","011024"]
[2348820,"SAUMANDE","ANNAELLE","BE","F","031035","031030"]
[2348891,"ANDRIEUX","MANDELA","BE","F","031035","031030"]
[2348914,"BARLIER","APOLLINE","BE","F","082017","082017"]
[2349074,"RUIZ","ALICIA","BE","F","011001","011024"]
[2349256,"CLERGERIE","LISE","BE","F","031046","031030"]
[2349311,"MOLINIE","MAUD","BE","F","081051","081061"]
[2349485,"CHARRAD","YASMINE","BE","F","031012","031012"]
[2349577,"GRESEQUE","MANON","BE","F","066003","066032"]
[2349810,"COSSU","JAMES","BE","M","066006","066006"]
[2349832,"SARAZIN","NINO","BE","M","065004","065020"]
[2350073,"EYCHENNE","MATT","BE","M","031015","031015"]
[2350094,"ETHUIN","ALYNA","BE","F","082014","082014"]
[2350271,"TONINATO","CLOE","BE","F","032002","032002"]
[2350283,"LE MONNIER","NOLAN","BE","M","082018","082018"]
[2350326,"DURAN","ANNE","BE","F","032002","032002"]
[2350337,"MAHEY","ADELAIDE","BE","F","032002","032002"]
[2350399,"PERRIER","MANON","BE","F","031015","031015"]
[2350495,"FAGALDE","ELORRI","BE","F","031015","031015"]
[2350545,"FRANTZ","VIVIANE","BE","F","081048","081041"]
[2351022,"MARGONTIER BLONDEL","CHARLINE","BE","F","032014","032014"]
[2351444,"RUFIE-BRUTINEL","MALO","BE","M","031025","031025"]
[2351505,"ISSA","CARTAI-LOUIS","BE","M","031004","031004"]
[2351574,"TEISSEIRE-GOURD","MATHILDE","BE","F","031004","031004"]
[2351608,"EL ZIANI","REDA","BE","M","031004","031004"]
[2352139,"DINNAT CREUSIER","LUDMILA","BE","F","065017","065020"]
[2352155,"LHOMME-SAVE","ROMANE","BE","F","065017","065020"]
[2352647,"BENELMOUYI","LOUISE","BE","F","034058","034058"]
[2353065,"KAID","SELWA","BE","F","082018","082018"]
[2353412,"CATHALA","LOUIS","BE","M","081043","081041"]
[2353582,"CAMUS","NOAH","BE","M","034038","034038"]
[2353613,"GLEMAREC","FLORIAN","BE","M","009001","009001"]
[2353634,"CLAVIER","LYAH","BE","F","009001","009001"]
[2353822,"MONTEIL","MATHIS","BE","M","031009","031009"]
[2353974,"MERCIER","EMMA","BE","F","081021","081017"]
[2354123,"DELMAS","MANON","BE","F","031003","031003"]
[2354134,"PANIS REGY","PAULINE","BE","F","081017","081017"]
[2354167,"MORET-GRANDJACQUES","ZELINE","BE","F","009011","009011"]
[2354234,"BEAULIEU","FAUSTINE","BE","F","031003","031003"]
[2354296,"GIRMA VIDAL","JULIE","BE","F","031003","031003"]
[2354326,"BLAZY","SALOME","BE","F","031042","031042"]
[2354469,"VIDAL","GWENOLE","BE","M","031042","031042"]
[2354552,"CLAVREUL","SALONINE","BE","F","031003","031003"]
[2354840,"MOGENOT-PETITFRERE","JEROME","BE","M","034012","034012"]
[2354843,"MOGENOT-PETITFRERE","CLEMENT","BE","M","034012","034012"]
[2355228,"DAVID","CARLA","BE","F","031003","031003"]
[2355606,"BEAUVIRONNOIS","OLIVER","BE","M","081055","081017"]
[2355624,"SUAREZ","LOUISE","BE","F","081055","081017"]
[2355651,"DAHN GARDIN","LORENZO","BE","M","031001","031001"]
[2355754,"GENTILLELA","ZOE","BE","F","034012","034012"]
[2355928,"PATRAO","CECILIA","BE","F","034012","034012"]
[2356203,"HUISSOUX","ARONN","BE","M","030067","030067"]
[2356572,"VEIT TILLEMONT","SORYA","BE","F","031025","031025"]
[2356811,"CALESTANI ALVES","CHIARA","BE","F","031015","031015"]
[2357479,"APTEL","LILLY","BE","F","031062","031062"]
[2357767,"DELELEE","MANON","BE","F","034021","034021"]
[2357790,"PARRENT","VALENTIN","BE","M","034021","034021"]
[2357852,"MATHIEU","DORIAN","BE","M","011022","011024"]
[2358231,"LE GALL DURAND","YANIS","BE","M","081035","081017"]
[2358264,"LAURENCE","LUCIE","BE","F","011001","011024"]
[2358274,"DURAND","MARILOU","BE","F","011001","011024"]
[2358303,"LATREMOLIERE","LOLA","BE","F","046008","046008"]
[2358883,"ZACHELIN","ELIE","BE","M","034466","034066"]
[2358965,"BIANCHIN","NINO","BE","M","034466","034066"]
[2359171,"DUFOUR","ESTELLE","BE","F","081048","081041"]
[2359239,"DESCHEEMAEKER","RAPHAEL","BE","M","031015","031015"]
[2359276,"BRAHIMI","ANISSA","BE","F","081048","081041"]
[2359386,"BELLAHSSAN","LUNA","BE","F","082017","082017"]
[2359674,"FOURNIER","LUNA","BE","F","030067","030067"]
[2359699,"BAQUE","MAELLE","BE","F","066027","066032"]
[2359822,"MAURY","ROXANE","BE","F","046012","046012"]
[2360126,"TISSIER","HANAE","BE","F","081051","081061"]
[2360190,"TEULIER","LISON","BE","F","082018","082018"]
[2360215,"GARRIGUES","LALY","BE","F","082018","082018"]
[2360379,"ARNOULD KREMP","TIMEO","BE","M","065027","065027"]
[2360635,"LAGRANGE MONTAGUD","ANAE","BE","F","031003","031003"]
[2361410,"ZINE","MAHYSSA","BE","F","011016","011024"]
[2363312,"PASQUIER","ALICE","BE","F","066027","066032"]
[2363332,"COSTE","LEO","BE","M","011022","011024"]
[2363339,"LIKA","LIVIA","BE","F","031004","031004"]
[2363599,"MONER","EMILE","BE","M","011022","011024"]
[2363893,"MOLINA","OCEANE","BE","F","031035","031030"]
[2364260,"CADIOU","ANAE","BE","F","034058","034058"]
[2364325,"CRUC","ADRIEN","BE","M","034064","034064"]
[2364394,"MORO","SOLENE","BE","F","081035","081017"]
[2364396,"FOUREST","MANON","BE","F","031025","031025"]
[2364414,"KHOUMA","AMINATA","BE","F","031025","031025"]
[2364456,"ROMIEU","NEILA","BE","F","081035","081017"]
[2364644,"MARTINO","EUGENIE","BE","F","034466","034066"]
[2364999,"SALBANS","LOU","BE","F","034058","034058"]
[2365065,"GUTIERREZ","VINCENT","BE","M","034072","034072"]
[2365445,"FERHAT SATURNIN","HANAI","BE","F","048004","048006"]
[2365493,"BONNAFOUS","CHLOE","BE","F","081051","081061"]
[2365555,"COULOMB","PAULIN","BE","M","048004","048006"]
[2365649,"PAPROCKI","NATHAN","BE","M","034454","034066"]
[2365684,"PERTAYS","NATHAN","BE","M","030008","030008"]
[2365698,"MAKRAN","MANEL","BE","F","030040","030040"]
[2365900,"MIRA CAVALIE","LEONIE","BE","F","031025","031025"]
[2366045,"GIRAUD","ALICIA","BE","F","081056","081017"]
[2366558,"ABBAL BOURREZ","LENA","BE","F","034062","034062"]
[2366621,"SABATIER VANARDOIS","AMBRE","BE","F","030059","030059"]
[2367241,"VAYSSIER","LENA","BE","F","012002","012002"]
[2367256,"COLRAT","AMAURY","BE","M","012002","012002"]
[2367281,"PLASSARD","LEONIE","BE","F","034058","034058"]
[2367669,"BARTHE","TRISTAN","BE","M","032002","032002"]
[2367776,"MULLER","STEPHEN","BE","M","032002","032002"]
[2368282,"DI REZZE","MATTHIAS","BE","M","009011","009011"]
[2368414,"EL BOUAZZATI","WISSAL","BE","F","065004","065020"]
[2369171,"CAPDEPON","HUGO","BE","M","030018","030018"]
[2369362,"BELASCO","ROMANE","BE","F","031003","031003"]
[2369388,"CRESPY","MARION","BE","F","031003","031003"]
[2369563,"DECHILLY","JUSTIN","BE","M","030060","030076"]
[2369774,"BOSSEAUX","MARIE-RAPHAELLE","BE","F","031042","031042"]
[2370272,"MANIAVAL","LOUISE","BE","F","081017","081017"]
[2370753,"DESBONNES","TIM","BE","M","081035","081017"]
[2370772,"ENJALBERT","EMMA","BE","F","081035","081017"]
[2371756,"SABLE","NALA","BE","F","034466","034066"]
[2371985,"POURSEL","MARINE","BE","F","011016","011024"]
[2371993,"POURSEL","SARAH","BE","F","011016","011024"]
[2372027,"LACOMBE","LEA","BE","F","011016","011024"]
[2372256,"LEONARD","ELEA","BE","F","034466","034066"]
[2372398,"HEIN","EULALIE","BE","F","034466","034066"]
[2372461,"ANDRE","SIXTINE","BE","F","034466","034066"]
[2372714,"BESSAD","MAXIME","BE","M","031035","031030"]
[2373068,"BARBEDIENNE","LILY","BE","F","081051","081061"]
[2373265,"ANGEL","MANON","BE","F","034055","034055"]
[2373330,"SANGUINITI","SOPHIA","BE","F","031056","031051"]
[2374001,"MAZIERES-ESCRIOUT","ANTHONY","BE","M","031015","031015"]
[2374198,"MAURETTE","ANTOINE","BE","M","011001","011024"]
[2374526,"SERVAT","INAYA","BE","F","081046","081041"]
[2374559,"DUBOIS","GUILHEM","BE","M","081046","081041"]
[2375408,"KANEL","ETIENNE","BE","M","030067","030067"]
[2375492,"SAJAI","ASSA","BE","F","011022","011024"]
[2375770,"GREGOIRE","ROBIN","BE","M","012002","012002"]
[2375884,"DA COSTA","CHLOE","BE","F","031043","031030"]
[2375979,"DE L ESTOILE","PAOLA","BE","F","031025","031025"]
[2376469,"OUHRI","YANIS","BE","M","030059","030059"]
[2376546,"VEDRINES","STAN","BE","M","030008","030008"]
[2376622,"CAPOZZI MOUSSERON","ENZO","BE","M","030021","030076"]
[2376788,"DURR","NOELIE","BE","F","030059","030059"]
[2377034,"MENARD","ROMANE","BE","F","031056","031051"]
[2377046,"LUVISUTTO","ALICE","BE","F","031056","031051"]
[2377134,"ESTEVE","LOUISE","BE","F","030067","030067"]
[2377167,"LABBAYE","SAGAR","BE","M","030067","030067"]
[2377178,"BOITEL","LOUANE","BE","F","030067","030067"]
[2377438,"IONESCU CHENOT","THALIA","BE","F","011022","011024"]
[2377558,"LEGOIX-MANSO","ARTHUR","BE","M","034012","034012"]
[2378254,"EDDAHBI","KARIM","BE","M","081035","081017"]
[2378383,"BOUCHER","CLEMENT","BE","M","031056","031051"]
[2379670,"SAUREL","CANDICE","BE","F","011001","011024"]
[2379784,"CHAPTAL","MAEL","BE","M","030004","030004"]
[2379797,"HUGON BENLEFKI","SWAYEL","BE","M","030004","030004"]
[2380067,"BOTELLA","LOU-MARINE","BE","F","030004","030004"]
[2380277,"JARLOT","MATT","BE","M","032006","032006"]
[2380337,"PRIETO","BASILE","BE","M","034062","034062"]
[2380369,"TOMBU","MATHILDE","BE","F","034062","034062"]
[2380417,"ROTHE","MARTIN","BE","M","034064","034064"]
[2380488,"RIOM","MARGAUX","BE","F","081053","081050"]
[2380528,"ADER","CLEMANCE","BE","F","009001","009001"]
[2380566,"ROMAN GABORIAU","MAYA","BE","F","081056","081017"]
[2380647,"TURO","SOHAN","BE","M","009001","009001"]
[2380762,"GROUARD","MIA","BE","F","030018","030018"]
[2380821,"GNONKO","CHRISTIAN","BE","M","030018","030018"]
[2380848,"BLANC","CLEMENCE","BE","F","012002","012002"]
[2381090,"LALAOUI","LOUIS","BE","M","034062","034062"]
[2381135,"COSTES","LOUIS","BE","M","031004","031004"]
[2381160,"MOULIS","PAOLA","BE","F","034062","034062"]
[2381704,"RAFFENAUD","CLEMENTINE","BE","F","031056","031051"]
[2381733,"GHABI","OMAR","BE","M","034058","034058"]
[2381834,"BESSIERE-ROUGIER","ELOIS","BE","M","034058","034058"]
[2382009,"MYLY","SALOME","BE","F","048003","048006"]
[2382408,"BAUDRU","LEA","BE","F","081055","081017"]
[2382746,"URIOS","AXEL","BE","M","066027","066032"]
[2383812,"PAPADIA","LUCA","BE","M","031050","031050"]
[2383816,"WITRANT","INES","BE","F","031056","031051"]
[2383874,"GRAVOUL","CLEMENCE","BE","F","031050","031050"]
[2383907,"VINCENT","LILOU","BE","F","031050","031050"]
[2384024,"ANDRE","CLEMENCE","BE","F","012002","012002"]
[2384107,"HORTES CAUMETTE","LOUISE","BE","F","031025","031025"]
[2384518,"LELEU","VALENTINE","BE","F","031004","031004"]
[2384650,"SOILIHI","MAINA","BE","F","009011","009011"]
[2384714,"MOULIE","CEDRIC","BE","M","065025","065025"]
[2384919,"SEBASTIA","NOEMI","BE","F","030074","030076"]
[2385028,"MARQUIS","SACHA","BE","M","034068","034068"]
[2385032,"ROUDIL","TIMEO","BE","M","012003","012003"]
[2385078,"NABHOLZ","BAPTISTE","BE","M","034068","034068"]
[2385239,"RANALDI","KILLIAN","BE","M","034068","034068"]
[2385413,"CHAUVEAU","JEANNE","BE","F","034068","034068"]
[2385518,"GARIBALDI","MARGOT","BE","F","034068","034068"]
[2385539,"RAYNAUD","LOIS","BE","F","066006","066006"]
[2386202,"CHAVANNE","LUCAS","BE","M","031012","031012"]
[2386203,"ROUVIERE","GABRIELLE","BE","F","031003","031003"]
[2386205,"CHAPELLE","NATHAN","BE","M","030074","030076"]
[2386393,"POUGET","LEO","BE","M","012018","012003"]
[2386434,"CORALIN","TINA","BE","F","031012","031012"]
[2386490,"FRONT","MAXIME","BE","M","030040","030040"]
[2386688,"COMBES","ROBIN","BE","M","034018","034062"]
[2386990,"PANDELE MARTY","MATHIS","BE","M","031004","031004"]
[2387969,"RIQUELME","ANTONIN","BE","M","011016","011024"]
[2388330,"SGHIR","SABRI","BE","M","034466","034066"]
[2388381,"DAVYDOVA","YEVA","BE","F","034466","034066"]
[2388445,"SANZ","EVA","BE","F","032014","032014"]
[2388532,"CAMINADE","MILA","BE","F","030008","030008"]
[2388583,"GARBOUGE","BASILE","BE","M","030008","030008"]
[2388989,"JOUBERT","LEA","BE","F","046008","046008"]
[2389742,"OLIVE","EVAN","BE","M","011001","011024"]
[2389782,"EL GHOURRAF","SONDOS","BE","F","011001","011024"]
[2390205,"BENHAMLA","NAEL","BE","M","030004","030004"]
[2390287,"DIAZ","AUGUSTINE","BE","F","012018","012003"]
[2390383,"REMIL","INES","BE","F","081056","081017"]
[2390404,"MARTY","LUCAS","BE","M","081056","081017"]
[2390444,"BRUN KADLUBSKI","MARGOT","BE","F","031022","031051"]
[2390447,"LALET","SACHA","BE","M","066006","066006"]
[2390448,"GANNAC","ELEANORE","BE","F","032010","032010"]
[2390538,"LE BOTNEL","MARA","BE","F","032002","032002"]
[2390577,"HERAIL","ALBIN","BE","M","031042","031042"]
[2390867,"LOUVET","KELYAN","BE","M","031022","031051"]
[2391035,"VIAUD","ALEXIS","BE","M","031050","031050"]
[2391349,"BOUTONNET","ERWAN","BE","M","009001","009001"]
[2391376,"PAUTHE","LUCIE","BE","F","081035","081017"]
[2391587,"AZARKAN","WISSEL","BE","F","009011","009011"]
[2391592,"TOMBORAVO","KRYSS-LOANNA","BE","F","009011","009011"]
[2391987,"BELMEKI","BRAHIM","BE","M","031035","031030"]
[2391992,"OSTROWSKI GODELLE","JUSTINE","BE","F","030059","030059"]
[2392175,"TAILLARD","ELIOT","BE","M","030018","030018"]
[2392795,"CAZALS","NOLHAN","BE","M","012013","012003"]
[2392965,"MARTIN-CHAMPETIER","NOA","BE","M","034068","034068"]
[2393167,"MERCURIO MARQUET","LUCIE","BE","F","030040","030040"]
[2393276,"JALADE","GAIA","BE","F","012002","012002"]
[2393519,"HAMIDA","ASSIA","BE","F","081056","081017"]
[2393901,"OLIVES","VICTOR","BE","M","066031","066032"]
[2394514,"CONSTANT","CORENTIN","BE","M","081044","081041"]
[2394520,"ERBIN","LEO","BE","M","032014","032014"]
[2395749,"CAYROL FLAMENT","ESTEBAN","BE","M","066037","066037"]
[2395909,"ABBEY","ALICIA","BE","F","031022","031051"]
[2395974,"TCHOUBIKOV-ASTRUC","MAKSIM","BE","M","030067","030067"]
[2396358,"NOUVIALE","MARIUS","BE","M","031025","031025"]
[2396371,"PETIT","DRIANA","BE","F","011020","011024"]
[2396375,"M BOUA","OLIVIA","BE","F","031025","031025"]
[2396463,"JAMJAMA","ZIAD","BE","M","030060","030076"]
[2396801,"PERIER","SACHA","BE","M","030008","030008"]
[2396964,"BOSC","THEO","BE","M","031008","031008"]
[2397303,"JOUSSET-GELABERT","SAVANNAH","BE","F","034068","034068"]
[2397805,"BORGES-SOLER","MATHIS","BE","M","066028","066032"]
[2398063,"THUILAND","WILLIAM","BE","M","081052","081050"]
[2398298,"LE GAUBICHON","CAROLINE","BE","F","034021","034021"]
[2398788,"AMIEL","ANOUK","BE","F","034068","034068"]
[2398790,"BOUSADRA","NORDINE","BE","M","034058","034058"]
[2399153,"RAISON","MEDHI","BE","M","031022","031051"]
[2399178,"DI VICENZO","NICOLAS","BE","M","066037","066037"]
[2399381,"JOAQUIM","ROSE","BE","F","012018","012003"]
[2399520,"PEREZ","ESTEBAN","BE","M","048003","048006"]
[2399980,"MATHLOUTHI-VERNE","EVA","BE","F","081017","081017"]
[2400934,"VALMORIN","VICTORIA","BE","F","031004","031004"]
[2401903,"ARNAULT CALLEN","INES","BE","F","031010","031051"]
[2402270,"ORLAY","ELYA","BE","F","031004","031004"]
[2402677,"KADIRI ALOUIZ","CHAIMAA","BE","F","030018","030018"]
[2404026,"GALERA","BEZOMBES","BE","M","034064","034064"]
[2404056,"CROS","ELINA","BE","F","081043","081041"]
[2404275,"GANNAR","ASSIA","BE","F","046012","046012"]
[2404713,"HISIGER BRIANTO","SOLINE","BE","F","031042","031042"]
[2405222,"MICHON","TOM","BE","M","031022","031051"]
[2405533,"THOMANN","LIVIA","BE","F","031025","031025"]
[2406172,"AZE","MATIS","BE","M","034058","034058"]
[2406423,"ZANOTTI","VIOLETTE","BE","F","031025","031025"]
[2407185,"ALIX","MANON","BE","F","048008","048008"]
[2407308,"ENGELVIN","BAPTISTE","BE","M","048008","048008"]
[2407840,"SANCHEZ ARATE","CHARLOTTE","BE","F","066035","066032"]
[2408093,"SEGAFREDO","GABRIEL","BE","M","081021","081017"]
[2408176,"PRADEL","MAUD","BE","F","034038","034038"]
[2408598,"HERVAS","ENZO","BE","M","030074","030076"]
[2408599,"BOUGOURZY","MELINA","BE","F","030074","030076"]
[2408667,"PUAUD","MARTIN","BE","M","065005","065020"]
[2408769,"BOUILLIN","CAMILLE","BE","F","011020","011024"]
[2408786,"ATTARD","CELIA","BE","F","011020","011024"]
[2410255,"CASTAN","SIMEON","BE","M","048008","048008"]
[2410260,"GRIMAL","MANON","BE","F","048008","048008"]
[2410290,"MAS","NOA","BE","M","048008","048008"]
[2410298,"NASSIVERA","RONAN","BE","M","048008","048008"]
[2410315,"PAGES","ELIJAH","BE","M","048008","048008"]
[2410404,"RIVIERE","LOISE","BE","F","048008","048008"]
[2410417,"TURLAN","LUCAS","BE","M","048008","048008"]
[2410420,"TURLAN","HUGO","BE","M","048008","048008"]
[2410774,"BONNEFOY","SACHA","BE","M","012002","012002"]
[2410911,"MARTINEZ","EVAN","BE","M","030003","030003"]
[2411333,"BRENGUES-SABATHIER","ALIX","BE","M","012008","012008"]
[2411339,"DEDIEU","LAURA","BE","F","012008","012008"]
[2413021,"TAVARES","EMY","BE","F","081054","081061"]
[2413022,"THEMINES","ARTHUR","BE","M","081054","081061"]
[2413025,"TRAGNE","LOUIS","BE","M","081054","081061"]
[2413227,"VILELA","LOLA","BE","F","081054","081061"]
[2413259,"MASO","NINA","BE","F","066035","066032"]
[2413269,"BERHAULT","ALICE","BE","F","066035","066032"]
[2413771,"MOUSSA","MAISSA","BE","F","030018","030018"]
[2414021,"MOREAUD BESSON","SALOME","BE","F","034466","034066"]
[2415346,"FLORES","SARAH","BE","F","066006","066006"]
[2415611,"RABOTIN","ZOE","BE","F","030040","030040"]
[2416177,"PLANCADE","ELIOT","BE","M","031025","031025"]
[2417322,"DAIZE","SAMUEL","BE","M","030074","030076"]
[2417325,"TURQUES AKROUF","SEAN","BE","M","030074","030076"]
[2417358,"RICHARD","AXELLE","BE","F","032014","032014"]
[2418146,"LLARROQUE","LENA","BE","F","081044","081041"]
[2418622,"MEDUS MARECHAL","LENNY","BE","M","034062","034062"]
[2419091,"KADI AZAOUI","ISRAA","BE","F","031010","031051"]
[2419281,"POUILLET","MATHILDE","BE","F","031012","031012"]
[2419303,"POLI","LOUIS","BE","M","066027","066032"]
[2419521,"HADDAD","VIRGILE","BE","M","034062","034062"]
[2419656,"SI LARBI","DIANE","BE","F","031009","031009"]
[2419661,"FALIPOU","ROSE","BE","F","012005","012005"]
[2419774,"MARRAGOU","ZELIE","BE","F","031056","031051"]
[2420272,"TAVERNE","ELEA","BE","F","065012","065012"]
[2420785,"MARINI","TOM","BE","M","066027","066032"]
[2421636,"LANNES","EMMA","BE","F","031025","031025"]
[2421941,"CLERGE LEFEBVRE","NAEL","BE","M","030074","030076"]
[2422180,"FONTAINE","LEANNE","BE","F","031008","031008"]
[2422256,"EL MAKHROUT","HAMZA","BE","M","030018","030018"]
[2422432,"BEROUD","ILENA","BE","F","012003","012003"]
[2422762,"FRANCOIS CEDENO","OSCAR","BE","M","034466","034066"]
[2422952,"ESCALLIER","GABRIEL","BE","M","031056","031051"]
[2423407,"OUATIZERGA","SOHANE","BE","F","030018","030018"]
[2424971,"UNAL","JEANNE","BE","F","034072","034072"]
[2425196,"GIENDAJ-DUVAL","ILANA","BE","F","081054","081061"]
[2426839,"LAURIN LHERM","INES","BE","F","011022","011024"]
[2427166,"BALENT","LORIK","BE","M","066027","066032"]
[2427169,"TOUBERT","JULES","BE","M","066027","066032"]
[2427463,"DOUGNAC","ANAELLE","BE","F","009002","009002"]
[2428101,"JUBERO","FLAVIE","BE","F","065003","065020"]
[2428247,"LECOFFRE","LEXANE","BE","F","034021","034021"]
[2428815,"GRUMEL-PECH-SEBTI","KEIRA","BE","F","034069","034069"]
[2429164,"CUSENIER","MARTIN","BE","M","030067","030067"]
[2431116,"DEQUAIRE","KYARA","BE","F","081051","081061"]
[2431183,"POUZANCRE-HOYER","TESSA","BE","F","034038","034038"]
[2431960,"NGBANDUA","JENNIFER","BE","F","081053","081050"]
[2432310,"THABET","MARWA","BE","F","081017","081017"]
[2433308,"LE DAGAUT","SONNY","BE","M","012002","012002"]
[2433312,"MAGNAUDEIX","ANNA","BE","F","031050","031050"]
[2433765,"DENOT","ANAE","BE","F","031042","031042"]
[2435338,"SUEUR","ENORA","BE","F","012008","012008"]
[2435359,"CARAYON","KEVIN","BE","M","081048","081041"]
[2435433,"MANYA","LILY","BE","F","066027","066032"]
[2435539,"DIEDHIOU-TOUTTAIN","AMY","BE","F","030074","030076"]
[2435763,"RECAJ","KRISTINA","BE","F","065003","065020"]
[2436502,"LEROUX","ERIN","BE","F","031050","031050"]
[2437652,"GUILBERT","ELIOTT","BE","M","066037","066037"]
[2437653,"GUILBERT","LIAM","BE","M","066037","066037"]
[2437793,"CHABOY","LOAN","BE","M","031004","031004"]
[2437815,"GONZALEZ","ELEANA","BE","F","031004","031004"]
[2438082,"ROLET","LOUIS","BE","M","031034","031030"]
[2438105,"GAILLOT","TITOUAN","BE","M","031034","031030"]
[2438130,"PETIT","MARGAUX","BE","F","031034","031030"]
[2438131,"GUETTACHE","SELSABIL","BE","F","031034","031030"]
[2438159,"BUR","YANIS","BE","M","031043","031030"]
[2438160,"DEMERSSEMAN","BASILE","BE","M","031043","031030"]
[2438161,"DRAME BREXEL","ADAME","BE","M","031043","031030"]
[2438162,"MICHAUD","MANON","BE","F","031043","031030"]
[2438439,"CAMBIER-ROHART","SOHAN","BE","M","066003","066032"]
[2438604,"ALLAM","WA-IL","BE","M","031004","031004"]
[2438908,"BRASSE-LETOCART","MARC-ANTOINE","BE","M","012003","012003"]
[2438917,"THUILLIER","SASHA","BE","M","031043","031030"]
[2438950,"ANDRIEU","PAULIN","BE","M","082017","082017"]
[2439175,"CHOUVIER","EMY","BE","F","082017","082017"]
[2440445,"BAUBIL","STELLA","BE","F","031012","031012"]
[2440468,"CADEAC","LUCIE","BE","F","048004","048006"]
[2440577,"LEMAHIEU","MATHILDE","BE","F","031034","031030"]
[2440936,"FALOUAN","MAYLINE","BE","F","031034","031030"]
[2441089,"MOIZAN","EVAN","BE","M","031039","031039"]
[2441245,"TRABUT","LILIAN","BE","M","031004","031004"]
[2441259,"LACOMBE","AXEL","BE","M","031004","031004"]
[2441438,"BLANC","NATHANAEL","BE","M","031015","031015"]
[2441834,"COINTREL","ETHAN","BE","M","031043","031030"]
[2442329,"GENTIL","LENY","BE","M","031046","031030"]
[2442331,"OUATAH","MEYS","BE","M","031046","031030"]
[2442401,"DEHOUK","LOUIS","BE","M","034012","034012"]
[2442701,"RALECHE","DEVYD","BE","M","081048","081041"]
[2442790,"JOLY","FAUSTINE","BE","F","031043","031030"]
[2442845,"SOUVERAIN","LOUIS","BE","M","011001","011024"]
[2443159,"LENCLUD","MAELYS","BE","F","065012","065012"]
[2443218,"MASSON","ADRIEN","BE","M","034466","034066"]
[2443241,"KANE","TIDIANE","BE","M","034466","034066"]
[2443266,"GUELLEC","MANON","BE","F","012003","012003"]
[2443306,"SOUM","EDOUARD","BE","M","031039","031039"]
[2443327,"LABEDAN","CLOE","BE","F","065006","065006"]
[2443376,"CLAUZON LEYAT","LOUIS","BE","M","031039","031039"]
[2443398,"RAUZI","MATHIS","BE","M","031039","031039"]
[2443460,"LAFON","EMMA","BE","F","031012","031012"]
[2443463,"LABZOUZI","KAYLAH","BE","F","031012","031012"]
[2443586,"COMPAGNET","THOMAS","BE","M","065005","065020"]
[2443765,"MUCHEMBLED","MATTHYS","BE","M","034012","034012"]
[2443778,"BOUSQUET-CASTILLO","PABLO","BE","M","034012","034012"]
[2444401,"JOUBERT","EMILIE","BE","F","034036","034036"]
[2444414,"DELPONT","BENJAMIN","BE","M","082018","082018"]
[2444439,"GEORGEOT CUEILLE","LEA","BE","F","031062","031062"]
[2444621,"AMET","LOONA","BE","F","030067","030067"]
[2445627,"BONNEFOI","ALAIS","BE","F","081055","081017"]
[2445665,"JUFFIN","CLEMENT","BE","M","066006","066006"]
[2446221,"ROUZOUL","LILOU","BE","F","031039","031039"]
[2446377,"MARIE","GABIN","BE","M","031046","031030"]
[2446521,"MASSYN","YASMINA","BE","F","065012","065012"]
[2446582,"AMBLARD","JEREMY","BE","M","031015","031015"]
[2446588,"LOUCQ","AXEL","BE","M","031015","031015"]
[2446948,"MADER","CYPRIEN","BE","M","031009","031009"]
[2447228,"DELPECH","TOM","BE","M","031039","031039"]
[2447495,"GIRON","TRISTAN","BE","M","031001","031001"]
[2447763,"GONZALEZ","LILOU","BE","F","031035","031030"]
[2447772,"GHRISSI","SHAYMA","BE","F","031035","031030"]
[2447850,"BANCAUD","JOHAN","BE","M","031009","031009"]
[2447974,"VINCENT","JADE","BE","F","081035","081017"]
[2448047,"PORTAS","CLEMENCE","BE","F","066006","066006"]
[2448264,"RICHARD","THEO","BE","M","034038","034038"]
[2448364,"LLOP CARANANA","CLEMENT","BE","M","011022","011024"]
[2448383,"VALLY","MAYSSA","BE","F","011022","011024"]
[2448489,"CANO ANDRES SANTANA","RAFAEL","BE","M","081048","081041"]
[2448510,"PUIG PICAMAL","JULIE","BE","F","066035","066032"]
[2448517,"VIDAL","JULIE","BE","F","066035","066032"]
[2448648,"VAYSSETTES","SALOME","BE","F","012005","012005"]
[2448696,"ANCEY","MAUD","BE","F","048004","048006"]
[2448845,"DEMARCO","CAMILLE","BE","F","081053","081050"]
[2448961,"COMBES","ANTONIN","BE","M","031056","031051"]
[2449021,"GARCON","HELENA","BE","F","030074","030076"]
[2449184,"BIRAL","CELIAN","BE","M","031004","031004"]
[2449208,"NAULEAU","EWEN","BE","M","031004","031004"]
[2449284,"ESSOMBA ADA BEFFEYTE","ARTHUR","BE","M","031004","031004"]
[2449398,"GIGOUX ARIBAUD","NAELE","BE","F","031056","031051"]
[2449689,"VALERY","FANNY","BE","F","031063","031063"]
[2449700,"BIANCHI","ARINA","BE","F","082017","082017"]
[2449869,"SITRUK","MAHEE","BE","F","082017","082017"]
[2449890,"MIGNOT GABRION","TIMEO","BE","M","082017","082017"]
[2449941,"COULONGES","AGATHE","BE","F","031063","031063"]
[2449975,"FONLEBECK","RAYHANA","BE","F","031063","031063"]
[2450122,"ESPIE","MAELYS","BE","F","031043","031030"]
[2450139,"CUBEDO","JADE","BE","F","034038","034038"]
[2450152,"JESBAC LEMAITRE","CESAR","BE","M","031012","031012"]
[2450282,"JOUGLA","LILIE","BE","F","081048","081041"]
[2451044,"BURY","PALOMA","BE","F","034012","034012"]
[2451496,"ANTON","MAELYS","BE","F","034012","034012"]
[2451539,"MONTAGNE","ENZO","BE","M","031043","031030"]
[2451846,"PEROLLE","ANNA","BE","F","031022","031051"]
[2452041,"SERNY","AGATHE","BE","F","011016","011024"]
[2452096,"PEJON","HUGO","BE","M","011016","011024"]
[2452203,"ROUSSEAU","SAMUEL","BE","M","065012","065012"]
[2452332,"DUCASTAING","AARON","BE","M","065012","065012"]
[2452444,"VILLIERS","CORENTIN","BE","M","031042","031042"]
[2452587,"BLANC","LUCAS","BE","M","012002","012002"]
[2452593,"BECQUEY","ANTOINE","BE","M","012002","012002"]
[2453009,"MEKID","MALONE","BE","M","012008","012008"]
[2453021,"BOISSET","BRETT","BE","M","012008","012008"]
[2453224,"GABRIEL","LABEILLE","BE","M","031010","031051"]
[2453292,"ANNAB","NATHAN","BE","M","030004","030004"]
[2453506,"TERRIER","JULIA","BE","F","034065","034066"]
[2453543,"PANIS","HELOISE","BE","F","011020","011024"]
[2453893,"NOEL","JEREMY","BE","M","066006","066006"]
[2454366,"FORREZ","CELIA","BE","F","011001","011024"]
[2454376,"LAPEYRE","QUENTIN","BE","M","032002","032002"]
[2454444,"CABROL","MANON","BE","F","081043","081041"]
[2454506,"LEFORT BANIS","CLEMENTINE","BE","F","011001","011024"]
[2454543,"CAYRE","CHARLINE","BE","F","031056","031051"]
[2454545,"BAZAGA","ROMANE","BE","F","031056","031051"]
[2454662,"FAURE","ARTHUR","BE","M","030060","030076"]
[2455045,"RECORD","LOLA","BE","F","031046","031030"]
[2455115,"KONZET","CLELIA","BE","F","011022","011024"]
[2455150,"MULEDDA","MELISSA","BE","F","030008","030008"]
[2455206,"DUFAUX","SACHA","BE","M","081048","081041"]
[2455312,"BOUAFIA","NINA","BE","F","031015","031015"]
[2455406,"GOTZ","ESTEBAN","BE","M","031015","031015"]
[2455437,"PAULY","TATIANA","BE","F","031015","031015"]
[2455509,"ESCUDIER","LOHAN","BE","M","081048","081041"]
[2455632,"MARICIC","MEO","BE","M","081053","081050"]
[2455773,"BENMAAMAR","AMINA","BE","F","034466","034066"]
[2455858,"DUCOS","LAURIE","BE","F","032002","032002"]
[2455881,"NOUGAREDE","LEI-NA","BE","F","082014","082014"]
[2455971,"ERRIMI","KAWTAR","BE","F","012003","012003"]
[2456005,"CASTONAS","JULIA","BE","F","031012","031012"]
[2456229,"BOUYER","PIERRE","BE","M","031025","031025"]
[2456247,"TRELY","ALESSIA","BE","F","031025","031025"]
[2456270,"MONTET","JEAN","BE","M","034457","034457"]
[2456583,"NICOLAS","CAMILLE","BE","F","031025","031025"]
[2456598,"LABASTRIES-PAVIOT","ROMANE","BE","F","031025","031025"]
[2456789,"FERRERES","RAPHAEL","BE","M","031004","031004"]
[2456962,"SAIN","MADHU","BE","F","031042","031042"]
[2457165,"EWENS","AUSTIN","BE","M","031015","031015"]
[2457228,"DISETTI","CHARLINE","BE","F","031056","031051"]
[2457282,"DELQUE","ARMELLE","BE","F","031056","031051"]
[2457347,"CODANI","ANAIS","BE","F","034073","034073"]
[2457638,"BREIL","MARIOT","BE","M","011022","011024"]
[2457651,"FRESNAIS","MATHIS","BE","M","011022","011024"]
[2458152,"VEGA","MATHILDE","BE","F","034073","034073"]
[2458341,"BOUDINOT","THOMAS","BE","M","034062","034062"]
[2458517,"BEN YACHOU","NAWAL","BE","F","030059","030059"]
[2458518,"BANDERA","ETHAN","BE","M","030059","030059"]
[2458651,"MICHAUD","ENORA","BE","F","011001","011024"]
[2458662,"FELMANN","ISSAC","BE","M","011001","011024"]
[2458818,"POLITTE","BROOKLYN","BE","F","031025","031025"]
[2458855,"QUEIROZ ALAZET","LILI","BE","F","031025","031025"]
[2458875,"SOURGNES","ROBERT","BE","M","031025","031025"]
[2459683,"SCHARFF","MELISSA","BE","F","034466","034066"]
[2459692,"RATTENI","ROMANE","BE","F","034466","034066"]
[2459882,"BERNIER","LUKA","BE","M","082017","082017"]
[2460087,"GARCIA","MELILLA","BE","F","081043","081041"]
[2460111,"COUZY","CORALIE","BE","F","082014","082014"]
[2460431,"SIRE","JULES","BE","M","066027","066032"]
[2460458,"BOYER","LUCIE","BE","F","012003","012003"]
[2460698,"RAFFAULT","JULES","BE","M","031063","031063"]
[2460718,"ROUMEAU GAILLARD","MAYA","BE","F","031063","031063"]
[2460859,"LAPLANTE","NATHAN","BE","M","030004","030004"]
[2460918,"HARDIVILLER","FLORE","BE","F","012013","012003"]
[2461025,"MAILLARD","AINHOA","BE","F","065012","065012"]
[2461206,"BENARD","LIAM","BE","M","081021","081017"]
[2461760,"BARATAS OUZZAHI","NOHA","BE","M","034466","034066"]
[2461829,"GUILHAMET","MAEL","BE","M","031035","031030"]
[2462345,"REMY","FLORENT","BE","M","034474","034474"]
[2462375,"DAUDE","NICOLAS","BE","M","081035","081017"]
[2462434,"VALLOIS","EDGAR","BE","M","009001","009001"]
[2462507,"DE LIHOVSKOI","SACHA","BE","M","034038","034038"]
[2462528,"EN NAJJAR","RAYANE","BE","M","034038","034038"]
[2462644,"PECCATUS","CLEMENCE","BE","F","065003","065020"]
[2462703,"SALHI","KAYSSAN","BE","M","030021","030076"]
[2462725,"POS","LUC","BE","M","030021","030076"]
[2462800,"CERATO","JULIA","BE","F","030004","030004"]
[2463448,"GABAUDE CARLIER","MAEL","BE","M","081048","081041"]
[2463501,"MOTHEAU","BENJAMIN","BE","M","081046","081041"]
[2464013,"ROUSSEL","EMMA","BE","F","030008","030008"]
[2464083,"BOUZALIM","MELLINA","BE","F","030008","030008"]
[2464131,"MAIDI","LIANA","BE","F","009001","009001"]
[2464161,"GISBERT","MARGOT","BE","F","081056","081017"]
[2464204,"LARA MARTIL","IZIA","BE","F","034073","034073"]
[2464908,"PATOLE","KAYAH","BE","F","034038","034038"]
[2465200,"YENGO SEBEDIO","NOHA","BE","M","031004","031004"]
[2465239,"DELACOUR","INES","BE","F","065025","065025"]
[2465301,"FARNEDA GUILHEMAT","GABIN","BE","M","031004","031004"]
[2465456,"LISLE","LOUANE","BE","F","009011","009011"]
[2465470,"AZUARA","VALENTIN","BE","M","009011","009011"]
[2465502,"GREZES","LINO","BE","M","031042","031042"]
[2465989,"THEMINES","HUGO","BE","M","081054","081061"]
[2466096,"DRIEUX","CLEMENT","BE","M","031025","031025"]
[2466098,"SANDBERG","ROMY","BE","F","031042","031042"]
[2466115,"BROTSCHI","MAXIME","BE","M","031042","031042"]
[2466887,"SAOUDI","ISMAIL","BE","M","031046","031030"]
[2466928,"SALOMONE","HANNAH","BE","F","065012","065012"]
[2467327,"TARRIUS","LUCIE","BE","F","011022","011024"]
[2467336,"DELBOURG","LEONIE","BE","F","011022","011024"]
[2467666,"ABADIA","ALI","BE","M","066027","066032"]
[2467922,"BOURGEOIS","JULES","BE","M","065006","065006"]
[2468203,"ROBERT","ELOUANE","BE","F","030003","030003"]
[2468230,"MOREL","TRISTAN","BE","M","030003","030003"]
[2468337,"MULLER","INES","BE","F","081035","081017"]
[2468343,"DANDINE","MAXIME","BE","M","081035","081017"]
[2468445,"DERDOUR-MATHIEU","NOLAN","BE","M","031056","031051"]
[2468693,"BENACHOUR BARENTS","ETHAN","BE","M","034038","034038"]
[2469152,"TAKASI","KESSY","BE","M","009001","009001"]
[2469523,"ROQUES","JUSTINE","BE","F","012008","012008"]
[2469564,"GUY","MATTEO","BE","M","081052","081050"]
[2469935,"VORON PIROLA","MARION","BE","F","030003","030003"]
[2470147,"COUSIN","FABIO","BE","M","012003","012003"]
[2470149,"DE VULLIOD","CYPRIEN","BE","M","034055","034055"]
[2470164,"BEL","VICTOR","BE","M","034055","034055"]
[2470654,"RICARD","THOMAS","BE","M","031056","031051"]
[2470930,"PEREZ","OLIVIA","BE","F","030059","030059"]
[2471530,"FURLAN","LEA","BE","F","082014","082014"]
[2471545,"CENDRE","JOFREY","BE","M","082014","082014"]
[2471557,"LUCAT","BAPTISTE","BE","M","082014","082014"]
[2471940,"GARY-CLAMENS","LEO","BE","M","009011","009011"]
[2471972,"BICHEYRE","PALOMA","BE","F","009011","009011"]
[2472176,"ESCALUP","THEO","BE","M","031050","031050"]
[2472312,"LAFFITTE","MAEL","BE","M","032002","032002"]
[2472602,"TELINHOS-CORDEBOEUF","LOU","BE","F","066027","066032"]
[2472725,"STOREZ","ELISE","BE","F","012013","012003"]
[2472803,"ANDRIANOMBANA","MAUD","BE","F","011020","011024"]
[2473123,"IRDOR-FAULA","MAEVA","BE","F","031003","031003"]
[2473135,"AMANZOUGARENE","ANGELO","BE","M","031003","031003"]
[2473352,"MEISSONIER","LAURA","BE","F","034058","034058"]
[2473640,"BAYART","AGATHE","BE","F","034072","034072"]
[2473660,"CHOMAUD","CLAIRE","BE","F","034072","034072"]
[2473750,"DJALOUT","INES","BE","F","066027","066032"]
[2473762,"KHEDIMI","SARAH","BE","F","066027","066032"]
[2473771,"DOUCOURE","NINA","BE","F","066027","066032"]
[2473775,"COQUET","CLEMENT","BE","M","034058","034058"]
[2473783,"CONSTANT","TIMEE","BE","M","066027","066032"]
[2473914,"BRANDAMIR EDWARDS","MATISSE","BE","M","031042","031042"]
[2473955,"FERHI","LEYLA","BE","F","031042","031042"]
[2474061,"TOUZANI","CHEMSDINE","BE","M","031003","031003"]
[2474154,"PAU AZNAR","TIDJAH","BE","M","031022","031051"]
[2474190,"FAUCHEUX","PAUL","BE","M","034072","034072"]
[2474435,"MERLE","PHILOMENE","BE","F","048003","048006"]
[2474440,"SERRUYS","EYTAN","BE","M","048003","048006"]
[2474452,"GIORDANENGO","LENA","BE","F","048003","048006"]
[2474457,"MALET","THEO","BE","M","048003","048006"]
[2474462,"SEGUR","THIBAULT","BE","M","048003","048006"]
[2474475,"PUGET","VALENTIN","BE","M","048003","048006"]
[2474479,"GREZES","SEAN","BE","M","048003","048006"]
[2474486,"CERTES","DYLAN","BE","M","048003","048006"]
[2474575,"HOUDAYER","LENA","BE","F","031025","031025"]
[2474670,"GOMEZ","LEYLA","BE","F","012008","012008"]
[2474865,"PAILLET CALONGE","LEONIE","BE","F","046014","046014"]
[2474997,"DEVILE","ELSA","BE","F","065012","065012"]
[2475338,"TRANIER","LOIS","BE","M","081054","081061"]
[2475477,"ORLIAC","LOUISE","BE","F","034072","034072"]
[2475503,"RONDOL","DASTAN","BE","M","031022","031051"]
[2475722,"DIARIAN","ALEXIS","BE","M","030004","030004"]
[2475815,"LAJUGIE","LYCIA","BE","F","031025","031025"]
[2475823,"ALLIROL","DIVINA","BE","F","034062","034062"]
[2475932,"HARO","NOE","BE","M","065025","065025"]
[2476016,"DELIGNY","MAILYS","BE","F","081043","081041"]
[2476021,"GINESTE","JANELLE","BE","F","031022","031051"]
[2476027,"PERRON","CAMILLE","BE","F","031022","031051"]
[2476052,"ROLAND GOSSELIN","ELIOTT","BE","M","031022","031051"]
[2476074,"TRECHOT","CHLOE","BE","F","031022","031051"]
[2476137,"BENAOUF","NAFISSAH","BE","F","011022","011024"]
[2476262,"LECOEUR","CASSIOPEE","BE","F","034021","034021"]
[2476616,"AUTHENAC","OCEANE","BE","F","009001","009001"]
[2476645,"BUFFIER-CARLET","NATHAN","BE","M","048007","048006"]
[2476656,"MERIEUX","NOLA","BE","F","048007","048006"]
[2476663,"PIGEON-LE BERRIER","MINO","BE","M","048007","048006"]
[2476673,"DURAND","AMBRE","BE","F","048007","048006"]
[2476704,"VIDAL","EVAN","BE","M","048007","048006"]
[2476716,"MEYER","JULIA","BE","F","030003","030003"]
[2476719,"VERHAEGHE","MORGAN","BE","M","030003","030003"]
[2476726,"THIEN LOCK SEN","ELLIOT","BE","M","030003","030003"]
[2476877,"AGRAR","KIYANE","BE","F","046008","046008"]
[2476917,"OMILANOWSKI","THEODORE","BE","M","030021","030076"]
[2476988,"DESOEUVRE","CALIE","BE","F","031004","031004"]
[2476998,"CAUDRON","CLARA","BE","F","031004","031004"]
[2477008,"TRANCHANT","NOAH","BE","M","031004","031004"]
[2477140,"VASSE","LOUISON","BE","M","030008","030008"]
[2477859,"TEYSSEDRE","ROMANE","BE","F","046012","046012"]
[2477914,"RICHARD","LOUISE","BE","F","046012","046012"]
[2477918,"RICHARD","CHLOE","BE","F","046012","046012"]
[2477946,"CHINGAN","YALHISAI","BE","F","048003","048006"]
[2478412,"EDMOND","ENZO","BE","M","031003","031003"]
[2478416,"CASALS","LOUISE","BE","F","031003","031003"]
[2478678,"BRIEU","ELLA","BE","F","034474","034474"]
[2478713,"DAUMAS","ANAELLE","BE","F","030067","030067"]
[2478726,"DAYDE","LILY","BE","F","066028","066032"]
[2478915,"CRESPY MALONEY","AUGUSTIN","BE","M","030008","030008"]
[2479324,"POLITI","JADE","BE","F","048003","048006"]
[2479333,"VIGIER","ALISEE","BE","F","048003","048006"]
[2479335,"LORDIER","MATHY","BE","M","048003","048006"]
[2479340,"TONDUT","CLEMENT","BE","M","048003","048006"]
[2479349,"CRUVEILLER-GRELICHE","LOUISE","BE","F","048003","048006"]
[2479771,"DAUZATS","LUNA","BE","F","081017","081017"]
[2479777,"BECHARD","MELODY","BE","F","081017","081017"]
[2479913,"FOLKERS","JACQUES","BE","M","031056","031051"]
[2479928,"JANVIER","ETHAN","BE","M","066028","066032"]
[2479931,"FAURENT","THOMAS","BE","M","034064","034064"]
[2480244,"HENTRY","JOSSUA","BE","M","065017","065020"]
[2480302,"SABOUREAU","LILA","BE","F","030021","030076"]
[2480328,"BESLIU","MARINA","BE","F","066027","066032"]
[2480413,"BONNET","LOUIS","BE","M","081054","081061"]
[2480691,"OUATIZERGA","KEILA","BE","F","030018","030018"]
[2480792,"GAVET","TITOUAN","BE","M","034466","034066"]
[2480859,"MOUSSAOUI","MANEL","BE","F","030018","030018"]
[2480866,"MOLINA","MAELE","BE","F","030018","030018"]
[2480874,"LEFEBVRE","NOEMIE","BE","F","034466","034066"]
[2480878,"SAYANE","BASSMA","BE","F","030018","030018"]
[2480893,"MESSAAD","ADAM","BE","M","034466","034066"]
[2480955,"CAMILLERAPP","CAPUCINE","BE","F","034466","034066"]
[2480971,"TOUREN ORSSAUD","GASPARD","BE","M","034466","034066"]
[2481112,"EMULO-GILLET","CHRIS","BE","M","030067","030067"]
[2481217,"OSANNO","LOUKA","BE","M","082018","082018"]
[2481278,"DEVICTOR","LEON","BE","M","034021","034021"]
[2481318,"MOREL","LINE","BE","F","009001","009001"]
[2481348,"TORNEL","MAELYS","BE","F","081051","081061"]
[2481363,"FRANCE OLLIANG MENYE","THOMA","BE","M","081051","081061"]
[2481415,"JALIA","YONI","BE","M","081051","081061"]
[2481444,"FIRMIN","LENA","BE","F","081051","081061"]
[2481487,"PASSEMAN-COLUSSI","TOM","BE","M","011016","011024"]
[2481512,"MARCOS","EMMA","BE","F","011016","011024"]
[2481668,"GOMEZ","CAMILLE","BE","F","066027","066032"]
[2481749,"ORFILA","AMANDINE","BE","F","030060","030076"]
[2481767,"FERRACUTI","RAFFAELE","BE","M","034064","034064"]
[2481781,"WETTER","MATHIS","BE","M","031007","031007"]
[2481972,"LACOMBE","ELISE","BE","F","081056","081017"]
[2481982,"ROCHER","PAUL","BE","M","081056","081017"]
[2482473,"HERRERO","CHARLIE","BE","M","034065","034066"]
[2482490,"ZITHOUNI","FERYEL","BE","F","034062","034062"]
[2482500,"POIRIER","ANAIS","BE","F","048003","048006"]
[2482953,"MARTIN","MAYLIE","BE","F","030004","030004"]
[2483105,"QUESNOY","CLEMENT","BE","M","031003","031003"]
[2483281,"GAUDRY","MAELYS","BE","F","048008","048008"]
[2483293,"LACROUX","REDA","BE","M","031025","031025"]
[2483789,"EZMIRO","ZACK","BE","M","034058","034058"]
[2483935,"POLLET","FLEUR","BE","F","032002","032002"]
[2483959,"MIGNARDI","LOU","BE","F","032002","032002"]
[2483965,"BOUTAN","ARTHUR","BE","M","032002","032002"]
[2483975,"CAILLEAU","NOA","BE","M","032002","032002"]
[2484372,"COLIN","ELOANE","BE","F","081017","081017"]
[2484439,"BOYER","TESS","BE","F","034038","034038"]
[2484484,"BARRE","AYMERIC","BE","M","046012","046012"]
[2484491,"LE HOUEROU","SASHA","BE","F","046012","046012"]
[2484808,"LEITERER","LOIS","BE","F","034062","034062"]
[2484813,"CHEVTCHENKO","SASKIA","BE","F","034062","034062"]
[2484977,"MOLINES","NATHAN","BE","M","031022","031051"]
[2484987,"TASSIN","ETHAN","BE","M","011016","011024"]
[2485012,"RITA-TRAINCHOT","KIMBERLEY","BE","F","031022","031051"]
[2485038,"PREMIER","INES","BE","F","034038","034038"]
[2485156,"BATUT","AURORE","BE","F","081046","081041"]
[2485164,"PAS","LILOU","BE","F","081046","081041"]
[2485241,"DEBBAGHI","DANYA","BE","F","030003","030003"]
[2485277,"RIPOLL","MELINA","BE","F","066027","066032"]
[2485279,"CARDINAL-CARBOU","LEONIE","BE","F","066037","066037"]
[2485684,"MACADRE","LIAM","BE","M","065027","065027"]
[2485735,"JEREMITA","LIVIO","BE","M","066037","066037"]
[2485758,"SERVAT-BOULET","LILY","BE","F","066037","066037"]
[2485892,"BENISSAN","OLIVIA","BE","F","012003","012003"]
[2485894,"MIR","CLEMENCE","BE","F","012013","012003"]
[2485987,"WILLAME","TESSA","BE","F","081045","081041"]
[2486121,"GAUTIER","MARTIN","BE","M","034064","034064"]
[2486123,"SARGAT-BRANGER","LOAN","BE","M","034064","034064"]
[2486401,"VOCHRE","LEA","BE","F","034012","034012"]
[2486418,"AKOUH","HANA","BE","F","082017","082017"]
[2486570,"ANTY","NINA","BE","F","066035","066032"]
[2486576,"DIALLO","MELINA","BE","F","031050","031050"]
[2486621,"LAMARE","ACHILLE","BE","M","031050","031050"]
[2486631,"PONT","VALENTINE","BE","F","031050","031050"]
[2486634,"MCINTOSH","SHERILYN","BE","F","031050","031050"]
[2486655,"CAZAJOUS","TESSA","BE","F","031050","031050"]
[2486657,"TEKO MALONDA","NICE","BE","M","031050","031050"]
[2486670,"WAHID","MOHAMED AMINE","BE","M","031050","031050"]
[2486682,"PONS BAILLY","MAXIME","BE","M","031050","031050"]
[2486814,"JACQUET","JOY","BE","F","030021","030076"]
[2486896,"BESANCON","CLEMENTINE","BE","F","082017","082017"]
[2486909,"ORI","AGATHE","BE","F","030008","030008"]
[2486920,"BLONDEL","JEAN","BE","M","031004","031004"]
[2487016,"MYTSAK","NIKITA","BE","M","031004","031004"]
[2487800,"ALONSO","DJESSIM","BE","M","011016","011024"]
[2488109,"AISSAOUI","LEO","BE","M","031046","031030"]
[2488136,"CUBEL","JUSTIN","BE","M","046008","046008"]
[2488138,"EL OUARDI","YASMINE","BE","F","011022","011024"]
[2488142,"PAGENOT","INES","BE","F","011022","011024"]
[2488164,"AUBER DEBELLE","ALEXANDRE","BE","M","046008","046008"]
[2488215,"CASSAGNES","GASPARD","BE","M","046008","046008"]
[2488220,"ALIBERT","ENZO","BE","M","046008","046008"]
[2488676,"OGWANG","SIDONIE","BE","F","034466","034066"]
[2488932,"FRICKER","LEE-LOO","BE","F","034069","034069"]
[2488952,"DAVID","ANAIS","BE","F","034069","034069"]
[2488979,"BATARD","INES","BE","F","034068","034068"]
[2489013,"LENTGEN","LISON","BE","F","034068","034068"]
[2489019,"OUCHEN","LOUNA","BE","F","034068","034068"]
[2489027,"ROUVIERE","JUSTINE","BE","F","034068","034068"]
[2489033,"USUZAWA","NOA","BE","M","034068","034068"]
[2489038,"VERNEY","ANTONIN","BE","M","034068","034068"]
[2489154,"GASPA","CHARLINE","BE","F","032002","032002"]
[2489161,"AUBINEAU","LOUANE","BE","F","081047","081041"]
[2489179,"RENAMY","OGOUERA","BE","M","081047","081041"]
[2489587,"GARCIA","ANNA","BE","F","034072","034072"]
[2490211,"KOUYO GROGNAN","ELIE","BE","M","009002","009002"]
[2490245,"AUDRAW","LEAWWE","BE","F","034466","034066"]
[2490461,"JAHAN","AMEL","BE","F","034068","034068"]
[2490608,"JEAN","MAXIME","BE","M","030060","030076"]
[2490636,"JULLIEN","LENNY","BE","M","030060","030076"]
[2490951,"IRIART","NINON","BE","F","031003","031003"]
[2490983,"PELTIER","LUNA","BE","F","031003","031003"]
[2491061,"TEYSSIE","AMBRE","BE","F","081047","081041"]
[2491280,"PHILIPON CAZALIS","AGATHE","BE","F","030059","030059"]
[2491506,"AMBIT","MAIANA","BE","F","065012","065012"]
[2491797,"GARIBAL","MAELLE","BE","F","065005","065020"]
[2491888,"BRIOL","TOM","BE","M","081048","081041"]
[2492500,"BONICARD","NORAH","BE","F","009001","009001"]
[2492504,"MASSON","ROMAIN","BE","M","034065","034066"]
[2492600,"GUIRAUD","LOLA","BE","F","031012","031012"]
[2492740,"SERRATO","SEBASTIAN","BE","M","031012","031012"]
[2492804,"NEKOUL-CHERUBINI","LOUIS","BE","M","034064","034064"]
[2492861,"BENMOUMENE","NELA","BE","F","030003","030003"]
[2492887,"BARA","WAYAN","BE","M","034069","034069"]
[2492896,"DELON","ISAAC","BE","M","030067","030067"]
[2492909,"SIGILLO","LEANDRO","BE","M","066006","066006"]
[2493336,"CUQ FERREIRA","EMILIEN","BE","M","081056","081017"]
[2493347,"FILOCHE","ARTHUR","BE","M","081056","081017"]
[2493351,"HUIART","NANS","BE","M","030004","030004"]
[2493441,"DOMINGUEZ","MELISANDE","BE","F","048007","048006"]
[2493957,"PORTAFAX","ELSA","BE","F","031012","031012"]
[2493959,"KELLER","MELLIE","BE","F","031012","031012"]
[2493962,"THOMAS","JUSTINE","BE","F","031012","031012"]
[2493963,"LEFRANCQ","SARAH","BE","F","031012","031012"]
[2494057,"DUMILLIER","LEONIE","BE","F","034454","034066"]
[2494088,"CHEVREL","MAELLE","BE","F","011020","011024"]
[2494107,"BUTTON VANDENELSKEN","KYLIAN","BE","M","066006","066006"]
[2494356,"TURBIDE","ERWAN","BE","M","030067","030067"]
[2494444,"DUJARDIN","LUCY","BE","F","030004","030004"]
[2494559,"BONNET","CLEMENT","BE","M","081043","081041"]
[2494703,"SANSANO","ROBIN","BE","M","048004","048006"]
[2494718,"GAUGAIN","LIONEL","BE","M","048004","048006"]
[2494835,"CLAUS","MIA","BE","F","082018","082018"]
[2494898,"DUCUP DE ST PAUL","MARGOT","BE","F","066035","066032"]
[2495307,"RENON","LILA","BE","F","048004","048006"]
[2495479,"LAZZERINI","NOE","BE","M","031063","031063"]
[2495481,"NGANGA MBATA","KIMIA","BE","F","031063","031063"]
[2495496,"HOUGUENE","ALICIA","BE","F","034018","034062"]
[2495899,"CHALMETON","ANDJALY","BE","F","034466","034066"]
[2495907,"COUSSY","PHILEMON","BE","M","034466","034066"]
[2495934,"BISSIERE","MAILYS","BE","F","031050","031050"]
[2496003,"TILLIET","ZOE","BE","F","030074","030076"]
[2496021,"CASADO","ELSA","BE","F","030074","030076"]
[2496066,"MATHARAN","AGATHE","BE","F","065005","065020"]
[2496255,"BRETON","OLIVIA","BE","F","031055","031055"]
[2496411,"JOUAN","AMARU","BE","F","031004","031004"]
[2496433,"COUDRAY","LOUANN","BE","F","031004","031004"]
[2496465,"BOUBEKEUR","MAISSAN","BE","F","031004","031004"]
[2496618,"SANGUINET","NORAH","BE","F","034466","034066"]
[2496901,"GILLIS","LOMANE","BE","F","065003","065020"]
[2497092,"KUZBIK","YANIS","BE","M","034073","034073"]
[2497382,"DOLCE","LILIO","BE","M","031008","031008"]
[2497526,"RAYNAL","AGATHE","BE","F","034466","034066"]
[2497550,"DUROURE","LUCIE","BE","F","031003","031003"]
[2497699,"GARCIA","ELENA","BE","F","034466","034066"]
[2497783,"AVILA BOUCAUD","VALENTINA","BE","F","034466","034066"]
[2497791,"D AUZAC DE LAMARTINIE","ALICE","BE","F","034466","034066"]
[2498947,"GUILBERT","JOSHUA","BE","M","030018","030018"]
[2499028,"LECLERC","MAILYS","BE","F","030018","030018"]
[2499379,"BOUDASSOU","LEONIE","BE","F","065027","065027"]
[2499435,"LAFON","TEO","BE","M","012013","012003"]
[2499786,"GRIEU","MATHILDE","BE","F","034068","034068"]
[2499795,"DAVIN-DURAND","MARGOT","BE","F","034068","034068"]
[2499865,"CAUSSE","THOMAS","BE","M","048007","048006"]
[2500000,"EHRHARD","ANAIS","BE","F","034064","034064"]
[2500153,"BOURGADE","CORENTIN","BE","M","048004","048006"]
[2500224,"BOUSQUET","OCEANE","BE","F","012018","012003"]
[2500249,"BALLA","TYRON","BE","M","081051","081061"]
[2500348,"BERNADET","NOE","BE","M","082014","082014"]
[2500353,"DAVID","NATHAN","BE","M","082014","082014"]
[2500385,"BRINGER","LOLA","BE","F","082014","082014"]
[2500407,"NABIL","HOUDA","BE","F","030004","030004"]
[2500428,"FERREIRA","LIVIO","BE","M","082014","082014"]
[2500535,"AUGIER","PRUDENCE","BE","F","034055","034055"]
[2501056,"ACOSTA DEMARCO","FLORENCIA","BE","F","066031","066032"]
[2501062,"MARATIER","LISA","BE","F","066031","066032"]
[2501063,"MARATIER","CLOE","BE","F","066031","066032"]
[2501065,"TURRADO","LILLY","BE","F","066031","066032"]
[2501312,"DESMOULAINS","ALIYA","BE","F","034038","034038"]
[2501317,"JONQUERES","YVES","BE","M","066028","066032"]
[2501669,"AUJOULAT","MADELINE","BE","F","082014","082014"]
[2501671,"TRINQUIER BAUER","MALIK","BE","M","082014","082014"]
[2501810,"RAYNAL","LEANA","BE","F","011021","011024"]
[2502002,"ODORICO","LEA","BE","F","066006","066006"]
[2502083,"COUTAUDIER","SOLENE","BE","F","081056","081017"]
[2502164,"NEGRE","TIMEO","BE","M","081045","081041"]
[2502497,"DAMBRIN","MATHILDE","BE","F","030004","030004"]
[2503125,"CASANO","CASSY","BE","F","030004","030004"]
[2503481,"LATYAOUI","QASIM","BE","M","030018","030018"]
[2503682,"DOUBLET","LIAM","BE","M","066006","066006"]
[2503904,"PINEAU","LEINA","BE","F","030004","030004"]
[2504079,"WOLFF","JUDY","BE","F","046012","046012"]
[2504100,"ABEL","AMBRE","BE","F","046012","046012"]
[2504124,"VALLA","EUGENIE","BE","F","046012","046012"]
[2504128,"BRUNEAU","FERDINAND","BE","M","046012","046012"]
[2504746,"GILLAIZEAU","GUSTAVE","BE","M","012013","012003"]
[2504875,"LHERMITTE","SIMEON","BE","M","031003","031003"]
[2505163,"TANDONNET","DIANE","BE","F","081047","081041"]
[2506706,"ISSELIN","LUCAS","BE","M","066006","066006"]
[2506998,"CLAVEL","MAELYS","BE","F","081059","081059"]
[2507261,"RICHARD","ELIOTT","BE","M","031008","031008"]
[2507561,"BUBIEN","JULIETTE","BE","F","034466","034066"]
[2507594,"BAUDUIN","ALIX","BE","F","034068","034068"]
[2507701,"PEREZ LEON","GAIA","BE","F","066006","066006"]
[2507751,"BARAKAT HETO","FAHED","BE","M","081051","081061"]
[2507758,"RICARDO","TCHAVOLI","BE","M","082014","082014"]
[2507766,"STEINBACH","YLENZO","BE","M","082014","082014"]
[2507874,"NHARI","YOUNES","BE","M","011016","011024"]
[2507927,"PAUSE","STELLA","BE","F","034012","034012"]
[2508027,"CANNESSON-AUBEL","MILAN","BE","M","081043","081041"]
[2508112,"BORDENS","MAEL","BE","M","048008","048008"]
[2508181,"COGOLUEGNES","ALYCIA","BE","F","048008","048008"]
[2508182,"FAGES","ALIZE","BE","F","048008","048008"]
[2508183,"FAGES","CALI","BE","F","048008","048008"]
[2508236,"PARRA","JADE","BE","F","066006","066006"]
[2508359,"SAULAIS","VICTOIRE","BE","F","046008","046008"]
[2508384,"ALLEBONE CLOUET","LEON","BE","M","034466","034066"]
[2508436,"VERSOLATO","NOEMIE","BE","F","065012","065012"]
[2508549,"ROSICH","KYLLIAN","BE","M","032002","032002"]
[2508575,"DENIS","HUGO","BE","M","034062","034062"]
[2508700,"GALTIER","LANA","BE","F","048008","048008"]
[2508711,"LEGENDRE","LUCIE","BE","F","048008","048008"]
[2508717,"ALLART","ANTOINE","BE","M","081048","081041"]
[2508907,"MARTIN PEYRE","LOUBA","BE","F","034058","034058"]
[2509027,"CEPIERE","LILOU","BE","F","012005","012005"]
[2509038,"BLANCH","INES","BE","F","030004","030004"]
[2509039,"BENABDELMOUMENE","WISSENE","BE","F","030004","030004"]
[2509041,"HOURFANE","IHSSAN","BE","M","034466","034066"]
[2509063,"DUMAS","ANAIS","BE","F","031050","031050"]
[2509067,"AMEN","MAXINE","BE","F","034466","034066"]
[2509138,"JOURNET-FERNANDEZ","ALOIS","BE","M","011001","011024"]
[2509190,"BOUIS","OCEANE","BE","F","034064","034064"]
[2509194,"BIENVENU","JOHANNA","BE","F","031042","031042"]
[2509232,"PICARDAT","NOEMIE","BE","F","082017","082017"]
[2509335,"GAUDILLERE KLASCHEN","YON","BE","M","031010","031051"]
[2509357,"BENAKHLA","IMANE","BE","F","034072","034072"]
[2509402,"HERRMAN","EMMA","BE","F","032014","032014"]
[2509453,"DEKIOUS","MEDINE","BE","M","034012","034012"]
[2509486,"CHAUVET","LUCIEN","BE","M","030059","030059"]
[2509500,"LABORDE LACROUTS","LOUIS","BE","M","081056","081017"]
[2509504,"FERRAND","MALONY","BE","F","081056","081017"]
[2509743,"STESSELS","ADRIEN","BE","M","034476","034476"]
[2509791,"MOURGUES","LUNA","BE","F","048008","048008"]
[2509793,"PAGES","REMY","BE","M","048008","048008"]
[2509796,"VAYSSIERE","ESTEBAN","BE","M","048008","048008"]
[2510750,"BAUDIN","CHLOE","BE","F","034466","034066"]
[2510801,"GHEZIEL","SABRINE","BE","F","034466","034066"]
[2510940,"LOPEZ","LIAM","BE","M","030004","030004"]
[2510946,"MARTI","CHLOE","BE","F","030004","030004"]
[2511459,"CHARRUAT-LARDENOIS","LOUNA","BE","F","012003","012003"]
[2511477,"VALAGEAS","EVENA","BE","F","065012","065012"]
[2511618,"VILETTE","JUSTINE","BE","F","081052","081050"]
[2511623,"BLENDEEL","AARON","BE","M","081052","081050"]
[2512177,"DOYAT","LEONA","BE","F","030067","030067"]
[2512190,"MARTIN DULOUT","TITOAN","BE","M","065004","065020"]
[2512364,"BOUCHTAT","BILAL","BE","M","034062","034062"]
[2512368,"AUGIER","MARIE","BE","F","034062","034062"]
[2512942,"CAYLA","EVAN","BE","M","012003","012003"]
[2513507,"LARGILLIERE","DAPHNE","BE","F","066006","066006"]
[2513516,"ASTRUC","OCEANE","BE","F","048121","048121"]
[2513524,"BONNAL","CHLOE","BE","F","048121","048121"]
[2513529,"CHARRADE","CAMILLE","BE","F","048121","048121"]
[2513830,"JEGOUZO COURCIER","ELLIOT","BE","M","065017","065020"]
[2514386,"LAVIGNE","CYPRIEN","BE","M","081053","081050"]
[2514406,"VALENTIN","EMMA","BE","F","034058","034058"]
[2514444,"PRATX","GREGOIRE","BE","M","066027","066032"]
[2514901,"CHIKER","CAMELIA","BE","F","030018","030018"]
[2515986,"ABARKAN","MELINA","BE","F","030018","030018"]
[2516411,"LAVAL","IRINA","BE","F","034062","034062"]
[2516455,"SAYOUS-BOURDIEU","NINA","BE","F","065012","065012"]
[2516522,"CHAHBOUNE","DAOUD","BE","M","034476","034476"]
[2516650,"ACCO","LILI","BE","F","031025","031025"]
[2516697,"BENDAI","AMINE","BE","M","030059","030059"]
[2516748,"EL YAAGOUBI","MATYN","BE","M","030003","030003"]
[2517053,"GUEZOU","FAUSTIN","BE","M","066028","066032"]
[2517410,"COUSIN","PAUL","BE","M","031055","031055"]
[2517560,"OUARDI","SALSSALIL","BE","F","034466","034066"]
[2517562,"MAJZOUB","MAYA","BE","F","034466","034066"]
[2517716,"ACHAOUI","WALY-EDDINE","BE","M","009001","009001"]
[2517717,"COLLONGUES","TESSA","BE","F","032010","032010"]
[2517718,"LHERM","MANILLE","BE","F","032010","032010"]
[2517721,"PRADEILLES","ANAIS","BE","F","048008","048008"]
[2517842,"BUREN","TOM","BE","M","066027","066032"]
[2518313,"MANSOURI","ILYESSE","BE","M","030004","030004"]
[2518457,"KAZMIERCZAK","EVA","BE","F","030074","030076"]
[2518581,"LEGROS","LYZ","BE","F","065012","065012"]
[2518877,"GOUBIER","MILAN","BE","M","034466","034066"]
[2519061,"BORDE","LAURA","BE","F","065027","065027"]
[2519228,"MILLO","GABRIEL","BE","M","034062","034062"]
[2519303,"JOVANYK","DIANE","BE","F","030021","030076"]
[2519384,"MURE","OLIVIA","BE","F","031008","031008"]
[2519539,"BOUNOURE HIDALGO","VICTORIA","BE","F","011004","011024"]
[2519543,"ENJALBERT","LUCAS","BE","M","011004","011024"]
[2519551,"THEVENET","EMMA","BE","F","011004","011024"]
[2519554,"DELLAC","ROXANE","BE","F","011004","011024"]
[2519666,"EL MAHDAOUI","HIND","BE","F","066003","066032"]
[2519785,"EL KIHAL","MOHAMED-SABER","BE","M","030004","030004"]
[2519907,"CABROLIE GUILLOUX","YANNIS","BE","M","012003","012003"]
[2519992,"PORTE","MARIE-LOU","BE","F","082017","082017"]
[2520207,"SAOUDI","SARAH","BE","F","081017","081017"]
[2520552,"TRABESI","HADIL","BE","F","048003","048006"]
[2520693,"EDKHIRI","YASSINE","BE","M","031042","031042"]
[2520715,"RAYSSIGUIER","MATHEO","BE","M","081048","081041"]
[2520853,"CHOUZENOUX","ELIO","BE","M","030067","030067"]
[2521281,"OUEDRAOGO-GUERRINI","JULES","BE","M","034068","034068"]
[2521333,"SERY DE MEZIERES","THAIS","BE","F","034072","034072"]
[2521402,"SARZIER","ZITA","BE","F","031003","031003"]
[2521491,"CHABBERT","OCEANE","BE","F","034018","034062"]
[2521823,"GEANT","QUENTIN","BE","M","066027","066032"]
[2521879,"BODEREAU","KAYLIAH","BE","F","034055","034055"]
[2522002,"FERRIER-LAFARGUE","LEO","BE","M","034055","034055"]
[2522130,"BENZERDJEB","SELSABIL","BE","F","034038","034038"]
[2522440,"DU FAYET","OMBELINE","BE","F","031025","031025"]
[2523648,"BROUSSE BIZOT","JULES","BE","M","034055","034055"]
[2524085,"BELGACEM","LYNA","BE","F","034466","034066"]
[2524122,"GALTIER","MARTIN","BE","M","048008","048008"]
[2524203,"PARAYRE","MAEL","BE","M","048008","048008"]
[2524556,"ALAUZE","LEOPOLDINE","BE","F","012003","012003"]
[2524615,"NARCY","ESTEBAN","BE","M","031042","031042"]
[2524758,"JULIOT-LEFEBVRE","LOLA","BE","F","030067","030067"]
[2524886,"CHOMARAS","SIALYNN","BE","F","030004","030004"]
[2524925,"FROWEIN","TRISTAN","BE","M","066027","066032"]
[2525159,"MERCHAN","ESTEBAN","BE","M","066035","066032"]
[2525368,"GRANIER FONTANE","JULIETTE","BE","F","034062","034062"]
[2526632,"SCHIESTE","LANA","BE","F","066003","066032"]
[2526842,"SARRALDE PUYSSEGUR","LUCAS","BE","M","031004","031004"]
[2527188,"MONGIL","CLAIRE","BE","F","065003","065020"]
[2527444,"IDRISSI","MIRYEME","BE","F","034038","034038"]
[2527502,"DHAINAUT","AMBRE","BE","F","034476","034476"]
[2527777,"NOWACKI","RAYAN","BE","M","030004","030004"]
[2527943,"SERRA","CHLOE","BE","F","034476","034476"]
[2528112,"ATIQ JABRI","ABDELAALI","BE","M","081048","081041"]
[2528274,"KONTOU GILLY","MAILIS","BE","F","030059","030059"]
[2528386,"TRICOIRE","ROSE","BE","F","031003","031003"]
[2528442,"JEANNETEAU","MAIWEN","BE","F","082018","082018"]
[2528466,"CHMICHEM","ADAM","BE","M","082017","082017"]
[2528474,"CORTES","JERAY","BE","M","034021","034021"]
[2529117,"SELEUCUS","CAMILLE","BE","F","030003","030003"]
[2529285,"ORSINGHER LO","MANON","BE","F","034072","034072"]
[2529504,"LUPI","ALESSANDRO","BE","M","034062","034062"]
[1399581,"BELKHIRI","MAELYS","MI","F","066003","066032"]
[1410180,"REFFAY","EMELINE","MI","F","031046","031030"]
[1428079,"NIETO- CANAZZI","NOLAN","MI","M","034065","034066"]
[1432444,"NONES","CHARLOTTE","MI","F","082014","082014"]
[1466535,"PRATS-ALAMI","ALICE","MI","F","066003","066032"]
[1488243,"BONNAFOUS","ANTOINE","MI","M","030060","030076"]
[1488945,"DIAZ","LOUNA","MI","F","082014","082014"]
[1497137,"FOLCHET","LAIA","MI","F","011001","011024"]
[1515134,"LETINAUD","JUSTIN","MI","M","011020","011024"]
[1558739,"MELLOUL","BILAL","MI","M","082014","082014"]
[1560906,"BELAIZI","JENNA","MI","F","065012","065012"]
[1560999,"MOURIE","REMI","MI","M","081048","081041"]
[1565562,"RICHARD","NOE","MI","M","046008","046008"]
[1569334,"SOULIER","ROMAIN","MI","M","082014","082014"]
[1577454,"GOMEZ","MATYS","MI","M","065012","065012"]
[1578523,"SIREYJOL","TITOUAN","MI","M","048007","048006"]
[1579037,"DUBOUIS","HUGO","MI","M","030008","030008"]
[1585773,"MORRISSEY","ASSYA","MI","F","030060","030076"]
[1586623,"NORCA","MATHILDE","MI","F","032002","032002"]
[1592432,"BERNE","BENJAMIN","MI","M","030059","030059"]
[1594811,"PONSA","MALO","MI","M","011022","011024"]
[1594890,"TISSIER","BASILE","MI","M","034072","034072"]
[1599131,"BOUOPDA ZOCK","LUCIE","MI","F","030008","030008"]
[1601371,"BEN-BAHOU","ASSAD","MI","M","031004","031004"]
[1606412,"COZZOLI","CHIARA","MI","F","030074","030076"]
[1610678,"SENGOGA","DOMIANE","MI","M","030018","030018"]
[1611717,"MICHAEL","WILLIAM","MI","M","030004","030004"]
[1614424,"ABRAHAM","ALOIS","MI","M","031003","031003"]
[1615727,"FAKKOUDI","SARAH","MI","F","032002","032002"]
[1630639,"JOUANY","CARLA","MI","F","082014","082014"]
[1635351,"ALLEGRE","ISABELLA","MI","F","034064","034064"]
[1651027,"LAZZAROTTO","ALICIA","MI","F","034038","034038"]
[1651512,"BEN-BAHOU","NORAINE","MI","M","031004","031004"]
[1651974,"GRAUGNARD","ISAURE","MI","F","031056","031051"]
[1652464,"CHABBERT","CLEMENT","MI","M","012003","012003"]
[1652632,"MONTAURIER","NINA-LOU","MI","F","082017","082017"]
[1654191,"GERVAIS","PAUL","MI","M","030008","030008"]
[1658462,"GOMEZ","LISA","MI","F","066003","066032"]
[1660846,"LEDRU","TESS","MI","F","034038","034038"]
[1661540,"LAZZARA","FABIO","MI","M","034038","034038"]
[1663149,"TOURNIER","EMA","MI","F","011001","011024"]
[1664670,"MORISSONNEAU","ZOE","MI","F","031008","031008"]
[1665324,"MISTRAL","JUSTINE","MI","F","030060","030076"]
[1671252,"LOPEZ","BAPTISTE","MI","M","066003","066032"]
[1671899,"GONZALEZ","STELLA","MI","F","032006","032006"]
[1672021,"MUTEAUD","LEA","MI","F","030040","030040"]
[1672353,"CALMELS","ELYNE","MI","F","030004","030004"]
[1676102,"DIABY","FATOU-BINTA","MI","F","082017","082017"]
[1677278,"FADAT","STELLA","MI","F","034457","034457"]
[1677648,"CORRAO","JULES","MI","M","030008","030008"]
[1677759,"THOMAS","MAELYS","MI","F","011022","011024"]
[1678944,"ARNAGOL MOSTREY","JORIS","MI","M","046012","046012"]
[1679412,"BOUGEL","LONI","MI","M","030003","030003"]
[1679428,"GARCON","MATHIEU","MI","M","030074","030076"]
[1679432,"FRACHON","CHLOE","MI","F","030003","030003"]
[1682677,"RESSENCOURT","MIA","MI","F","065027","065027"]
[1683352,"DUTHIL-BAUDEAN","ACHILLE","MI","M","032006","032006"]
[1683849,"CAVALIE","AUDREY","MI","F","012018","012003"]
[1683861,"CAVALIE","TRISTAN","MI","M","012018","012003"]
[1684052,"BOSCREDON","MARIE","MI","F","066006","066006"]
[1685497,"KOFFI","LIAM-EVAN","MI","M","011016","011024"]
[1685624,"DRIASSA","SARA","MI","F","011001","011024"]
[1686709,"JERONIMO","ALANA","MI","F","046008","046008"]
[1686866,"OUKA","ILIASSE","MI","M","030040","030040"]
[1688390,"TEISSEIRE","MARCEAU","MI","M","011016","011024"]
[1688593,"LACORT","FLORIAN","MI","M","011022","011024"]
[1692862,"BILOT","ADELE","MI","F","030004","030004"]
[1693244,"MARQUIE","AURANE","MI","F","031056","031051"]
[1693442,"RANGER","RUBEN","MI","M","081017","081017"]
[1695346,"SOUBIROU","MAUDE","MI","F","082018","082018"]
[1696775,"GHRISS LARONDE","NOLAN","MI","M","082014","082014"]
[1697632,"PERRIN","LOUISE","MI","F","030060","030076"]
[1698635,"GUIN","RUKIA","MI","F","030060","030076"]
[1704731,"POUX","CAMILLE","MI","F","034062","034062"]
[1705556,"GERVAIS","LUCIE","MI","F","031022","031051"]
[1706731,"BOIRON-BORDELAIS","RAPHAEL","MI","M","011016","011024"]
[1710448,"LAVEN","JULIEN","MI","M","081017","081017"]
[1710495,"EL FAKHAR","LISA","MI","F","031004","031004"]
[1713163,"BOUCHIGHA","SALOME","MI","F","034064","034064"]
[1716905,"AFAA AMOUGOU-DELHOMMEAU","ANNAELLE","MI","F","031004","031004"]
[1718714,"KLOUVI","LOUIS","MI","M","034466","034066"]
[1725321,"NOUGAREDE","MAY-LEE","MI","F","082014","082014"]
[1725340,"DELCASSE","LOUISE","MI","F","082017","082017"]
[1725552,"DUPRE","EMMA","MI","F","032002","032002"]
[1729210,"SOLIGNAC-LUCAS","MATHILDE","MI","F","048004","048006"]
[1730666,"MIGNOT","NAMAO","MI","M","081017","081017"]
[1734065,"LEJEUNE","MATHIS","MI","M","034036","034036"]
[1736293,"LAPORTE","KYLIAN","MI","M","030074","030076"]
[1738782,"DAVID","MARIE","MI","F","066035","066032"]
[1739242,"SCIGALA","CELESTE","MI","M","012013","012003"]
[1752904,"LABESSE","LOU","MI","F","066003","066032"]
[1755066,"TISSERAND","EMMY","MI","F","082017","082017"]
[1755696,"PUYDARRIEUX","CHLOE","MI","F","065004","065020"]
[1756247,"MUNOZ","LEO","MI","M","031015","031015"]
[1756705,"HARVOIRE","SEAN","MI","M","034038","034038"]
[1756929,"AUSSARESSES","CELIA","MI","F","034038","034038"]
[1757953,"ROUANET","LOUELIE","MI","F","081048","081041"]
[1759353,"BARDOU","DORIAN","MI","M","034038","034038"]
[1759625,"SENTOST","HUGO","MI","M","031039","031039"]
[1759960,"BESNIER","LOUIS","MI","M","031034","031030"]
[1760857,"CARLIER","MAUGAN","MI","M","034466","034066"]
[1762575,"LOPEZ DE THOISY","ANTOINE","MI","M","012003","012003"]
[1767111,"MARFAING","MAEVA","MI","F","031025","031025"]
[1767284,"SIX","CLARA","MI","F","034055","034055"]
[1767329,"OLTRA","PAOLO","MI","M","034055","034055"]
[1767703,"ANQUINE","ALAIS","MI","F","031034","031030"]
[1767726,"DELHOMME","MAXIME","MI","M","031035","031030"]
[1771195,"PY-DURAND","EMMA","MI","F","034058","034058"]
[1772011,"VIGNES","JULES","MI","M","082018","082018"]
[1773307,"CONTE","KENAELLE","MI","F","030008","030008"]
[1773670,"CINTAS","ANAIS","MI","F","011016","011024"]
[1773804,"NOTE","ALEXANDRE","MI","M","065006","065006"]
[1775497,"HARDOUIN","RAPHAEL","MI","M","031025","031025"]
[1778376,"DUCROCQ","PAUL","MI","M","011001","011024"]
[1780160,"BASSETTO","ROMANE","MI","F","031034","031030"]
[1780162,"BOURRIQUEL","NATHAEL","MI","M","034055","034055"]
[1780352,"GOSSELIN","ZOE","MI","F","034466","034066"]
[1780414,"BOUAITA","MELLINA","MI","F","066003","066032"]
[1781555,"CADE","MADISON","MI","F","065027","065027"]
[1782229,"CHAVIER","NATHAN","MI","M","030074","030076"]
[1782439,"AZEMA","ARTUS","MI","M","048008","048008"]
[1783330,"ZIANE","LINA","MI","F","082017","082017"]
[1784703,"ALBOUY","LEONIE","MI","F","012018","012003"]
[1784802,"VISIER","CAMILLE","MI","F","034072","034072"]
[1785890,"MANIGLIER-VILLON","MARCEAU","MI","M","030060","030076"]
[1786314,"CHABERT","NAHIA","MI","F","012003","012003"]
[1786346,"CASAMAYOU","BAPTISTE","MI","M","031004","031004"]
[1786570,"AVRIL","ROBIN","MI","M","030018","030018"]
[1786589,"ROUDIL","LILIE","MI","F","030018","030018"]
[1786626,"GARDES","MANON","MI","F","046012","046012"]
[1787364,"GALEA","NOEMIE","MI","F","030003","030003"]
[1787370,"GALEA","NAIS","MI","F","030003","030003"]
[1787537,"MEXE","EMMA","MI","F","081017","081017"]
[1788215,"BAUX","CLOE","MI","F","011016","011024"]
[1789261,"PEULET","LISE","MI","F","046004","046004"]
[1792637,"MANSE","TOM","MI","M","065005","065020"]
[1792652,"PINHO","AURELIEN","MI","M","065005","065020"]
[1793226,"COUTAL","MATTHIEU","MI","M","081017","081017"]
[1793781,"BIZOIRRE","SWANN","MI","M","082014","082014"]
[1794136,"LEGAY","VICTOIRE","MI","F","031004","031004"]
[1794171,"BIFFI","LOUKA","MI","M","032014","032014"]
[1794400,"DUBROCA","COLIN","MI","M","048008","048008"]
[1795871,"RIEDEL","TOM","MI","M","031015","031015"]
[1798492,"GAUDIN","MAELYS","MI","F","031004","031004"]
[1798636,"REYNAUD","INES","MI","F","012003","012003"]
[1799195,"SCHEIDECKER","OMBELINE","MI","F","048004","048006"]
[1800196,"CHEKROUN-EVRARD","ALMA","MI","F","030060","030076"]
[1801305,"COLDEFY","MAELLE","MI","F","046014","046014"]
[1801397,"GAIOTTI","MAEL","MI","M","031056","031051"]
[1805944,"BAGHDADI","ADAM","MI","M","034068","034068"]
[1806650,"BOUGARD","SANKA","MI","M","011001","011024"]
[1806724,"PEREZ","MARGAUX","MI","F","030060","030076"]
[1806736,"RANET","AYA","MI","F","030008","030008"]
[1806888,"RACHET-SOHIER","LAURENNE","MI","F","065012","065012"]
[1808538,"LEPLANT","LYLOU","MI","F","046008","046008"]
[1811765,"COISNE","NAELLE","MI","F","030040","030040"]
[1813118,"FARENC","LUCA","MI","M","034069","034069"]
[1813181,"DUBREUILLE","MATHIEU","MI","M","031055","031055"]
[1813309,"DORLA-LAIR","LENNY","MI","M","012003","012003"]
[1813838,"CAVAGNAC","MILO","MI","M","031022","031051"]
[1815161,"VASSEUR TERRISSE","ILIANA","MI","F","012002","012002"]
[1815767,"LAPORTE","ANJALI","MI","F","081048","081041"]
[1816446,"MARTY","ARTHUR","MI","M","046014","046014"]
[1816594,"CARLET","MELINA","MI","F","081017","081017"]
[1819006,"AMRANI-AMBROISE","MAELYS","MI","F","034064","034064"]
[1820055,"POUTRIQUET","ELIOTT","MI","M","081021","081017"]
[1821657,"AYDIN-DANESE","ISMAEL","MI","M","065012","065012"]
[1822665,"TOURNIER","MYRTILLE","MI","F","034466","034066"]
[1822694,"KOSTEK","ANTOINE","MI","M","081056","081017"]
[1823478,"ROUMAGNAC","MATHYS","MI","M","081051","081061"]
[1828613,"AUBRION","AURELIEN","MI","M","065027","065027"]
[1832029,"BERTRAND","MARIUS","MI","M","046014","046014"]
[1835221,"LE CALVE","QUENTIN","MI","M","034454","034066"]
[1835384,"RIVALS","JADE","MI","F","081044","081041"]
[1836064,"SELLES","ROMANE","MI","F","011004","011024"]
[1836512,"NAVARRO-ANZANELLO","YLIAN","MI","M","081052","081050"]
[1837611,"BOERO","NOA","MI","M","031062","031062"]
[1841267,"CRESCENCE","LORIS","MI","M","034466","034066"]
[1842279,"ANDRAULT","PIERRE","MI","M","034012","034012"]
[1842938,"WHITE","ARTHUR","MI","M","034012","034012"]
[1842946,"ELMAAZOUZI","NEYLA","MI","F","034012","034012"]
[1843287,"SALEILLES","PAUL","MI","M","030018","030018"]
[1843902,"SIMON","RAPHAEL","MI","M","034012","034012"]
[1843907,"VEZINHET","ELEA","MI","F","034012","034012"]
[1844175,"ZIO","REMY","MI","M","034072","034072"]
[1853743,"BOURGEOIS","BAPTISTE","MI","M","065006","065006"]
[1858357,"CONTE","ALEXIANE","MI","F","011022","011024"]
[1859830,"FILHES","ROMAIN","MI","M","012005","012005"]
[1861858,"LAJARA","ELSA","MI","F","034068","034068"]
[1862206,"GADANHO","TOM","MI","M","082017","082017"]
[1862253,"GAL","TITOUAN","MI","M","065017","065020"]
[1863439,"MARTIN","GABRIEL","MI","M","031004","031004"]
[1863448,"FORT","NOELYA","MI","F","031056","031051"]
[1863871,"SELI","JEREMY","MI","M","031015","031015"]
[1863948,"BERGAMIN","CLEMENT","MI","M","031004","031004"]
[1864238,"DUTERTRE","HUGO","MI","M","031015","031015"]
[1865206,"MARCHAND","MALO","MI","M","031056","031051"]
[1866237,"MONLONG","JOANA","MI","F","031003","031003"]
[1866258,"METGE","MATHIEU","MI","M","031003","031003"]
[1866965,"PACELLINI-JONES","WILLIAM","MI","M","081043","081041"]
[1867067,"THENEGAL","ELOUAN","MI","M","081051","081061"]
[1867082,"ALBENGE","EMMA","MI","F","081051","081061"]
[1868638,"CHENEVIER","JEANNE","MI","F","030040","030040"]
[1870010,"IMHOFF","MAXIME","MI","M","031003","031003"]
[1870354,"BAGHDADI","ISMAEL","MI","M","034068","034068"]
[1870431,"MARTIN-CHAMPETIER","CELIA","MI","F","034068","034068"]
[1870657,"VIEIRA","TIMEO","MI","M","031046","031030"]
[1871751,"TEGON","ERWAN","MI","M","081051","081061"]
[1872160,"MAYET","HANAE","MI","F","030059","030059"]
[1872404,"FERTON","GABRIEL","MI","M","066027","066032"]
[1873016,"DAUMIE","CLEA","MI","F","031056","031051"]
[1873752,"GUILLET","JULES","MI","M","031034","031030"]
[1874260,"ESCALIERE","CHARLY","MI","M","065012","065012"]
[1874380,"DEILHES","HUGO","MI","M","082018","082018"]
[1875510,"ROSSETTO","NOELIE","MI","F","034072","034072"]
[1875527,"BENAZET-IANNONE","FELIX","MI","M","034038","034038"]
[1875528,"ROSSETTO","CAPUCINE","MI","F","034072","034072"]
[1875637,"BOURDEAU","BAPTISTE","MI","M","034038","034038"]
[1875689,"MARTIN","RADIA","MI","F","034038","034038"]
[1875762,"RAYNAUD","CLEMENT","MI","M","034038","034038"]
[1875810,"RADUREAU","JEREMY","MI","M","034038","034038"]
[1876620,"GILABERT","AURELIEN","MI","M","034062","034062"]
[1876920,"ALIPS","CALIXTE","MI","M","030067","030067"]
[1876941,"GRONDIN","KERYAN","MI","M","030067","030067"]
[1878604,"PIQUEMAL","ALICE","MI","F","031034","031030"]
[1878630,"SANSOULET","PAULINE","MI","F","031034","031030"]
[1879300,"INDJIRDJIAN","ANAELLE","MI","F","034064","034064"]
[1880322,"COUSINIER","EMMA","MI","F","081017","081017"]
[1880830,"BONFANTI","FRANCESCO","MI","M","031009","031009"]
[1881754,"METIVIER","GALLY","MI","F","030008","030008"]
[1882506,"BREMBS","BEN","MI","M","034466","034066"]
[1883502,"SANZA-BALLOBAR","FLORIAN","MI","M","031009","031009"]
[1884178,"BOURGET","MAEL","MI","M","065012","065012"]
[1884434,"DELLA SCHIAVA","JADE","MI","F","082017","082017"]
[1884661,"AIROLDI","LILOU","MI","F","032002","032002"]
[1885721,"ESVA","LAETITIA","MI","F","031004","031004"]
[1886083,"DEVREESE","LOLA","MI","F","009001","009001"]
[1886106,"BABY","JEAN-BAPTISTE","MI","M","009001","009001"]
[1886128,"BERTHELOT","EMILIE","MI","F","031007","031007"]
[1886230,"MONOT","FELIX","MI","M","032014","032014"]
[1887449,"SOUBEYRE","CLARA","MI","F","012018","012003"]
[1888801,"VERGNEAUD","AURIANE","MI","F","031003","031003"]
[1889228,"TAUPENOT-JEANJEAN","ANAIS","MI","F","034072","034072"]
[1890078,"LABREURE","ESTHER","MI","F","011022","011024"]
[1890514,"DELLAC","TIMEO","MI","M","012003","012003"]
[1890628,"THOYER","TILIO","MI","M","034466","034066"]
[1891620,"MOLINA","ELOISE","MI","F","034454","034066"]
[1891628,"MOLINA","CHLOE","MI","F","034454","034066"]
[1893405,"MARTINEZ","ROBIN","MI","M","034072","034072"]
[1895498,"CAPERAN","MARTHE","MI","F","030021","030076"]
[1896285,"DELCHIDRE","COLINE","MI","F","030059","030059"]
[1896525,"GAUTHIER","LOUIS","MI","M","030003","030003"]
[1896978,"HOUDELOT","SAMUEL","MI","M","081048","081041"]
[1897377,"GILLARD","HUGO","MI","M","031004","031004"]
[1897614,"RIVES","LOU","MI","F","034069","034069"]
[1899380,"ROUHIER","TIMEO","MI","M","034062","034062"]
[1900571,"GOUDARD","NOELIE","MI","F","034072","034072"]
[1901253,"LAGLOIRE","SOLENE","MI","F","048007","048006"]
[1902215,"VERGNE","RAFAEL","MI","M","032002","032002"]
[1902426,"PERALTA","MAELLE","MI","F","030021","030076"]
[1902633,"GAUBERT","ELISA","MI","F","034064","034064"]
[1902649,"MATHIEU","VIRGILE","MI","M","034064","034064"]
[1903114,"PLACE","LILOU","MI","F","065005","065020"]
[1903658,"FOURNIER","LILOU","MI","F","031042","031042"]
[1904619,"LITIM","SOUMIYA","MI","F","030008","030008"]
[1904976,"SABATIER","EMILIEN","MI","M","034068","034068"]
[1905923,"JEFFERY","FELIX","MI","M","046014","046014"]
[1908726,"PEERS","DOLMA","MI","F","081048","081041"]
[1908944,"DIMUR","CAMILLE","MI","F","066037","066037"]
[1911144,"CAZIN","FAUSTINE","MI","F","034068","034068"]
[1911186,"BOUTIC","GUILLAUME","MI","M","031022","031051"]
[1911579,"CAVAILLE","SALOME","MI","F","081043","081041"]
[1911690,"COTTES","LISA","MI","F","009002","009002"]
[1911713,"JULLY","LEA","MI","F","012008","012008"]
[1914116,"LAGARDE-BRUCHET","MARGAUX","MI","F","032010","032010"]
[1914209,"BERQACH","IMRANE","MI","M","032010","032010"]
[1914444,"TARAN","ROMANE","MI","F","032010","032010"]
[1914485,"MARQUES","LUDIVINE","MI","F","030060","030076"]
[1914566,"MARIBAS","JADE","MI","F","031022","031051"]
[1915843,"ROUBIEU","LEA","MI","F","034466","034066"]
[1916971,"JUMERE SAMERE","AINOA","MI","F","065005","065020"]
[1919154,"GOULET","MARGAUX","MI","F","031004","031004"]
[1919172,"MEYER","SANCIE","MI","F","081021","081017"]
[1920306,"BRU","NINA","MI","F","046004","046004"]
[1921092,"CAPUANO","ALESSANDRO","MI","M","034069","034069"]
[1922214,"EL YAAKOUBI","WIDED","MI","F","012002","012002"]
[1922262,"JULLY","JUSTINE","MI","F","012008","012008"]
[1923476,"CABOCEL","CLEMENT","MI","M","066035","066032"]
[1924221,"MADO","MELISSA","MI","F","034012","034012"]
[1924983,"VARLET","KELIA","MI","F","066027","066032"]
[1925812,"NITARD","MILA","MI","F","030021","030076"]
[1925822,"GONTARD","ELISE","MI","F","030074","030076"]
[1925832,"BERNARD","LUCIE","MI","F","030074","030076"]
[1926539,"SANCHEZ","ELINA","MI","F","034069","034069"]
[1927976,"WEBER","LOICE","MI","F","031022","031051"]
[1928335,"MAZLOUM","MARINE","MI","F","034466","034066"]
[1928368,"LABORDE","SELMA","MI","F","066003","066032"]
[1928771,"MICHEL BAPTISTE","MILIE-ROSE","MI","F","031025","031025"]
[1928819,"TRAUCHESSEC","JUSTINE","MI","F","048004","048006"]
[1929582,"BOUTES","CHARLOTTE","MI","F","032002","032002"]
[1930527,"FAURE-TRIFFAULT","ROSE","MI","F","031025","031025"]
[1930534,"BRUNEL","GABRIEL","MI","M","031025","031025"]
[1931203,"BAVOILLOT","LAURINE","MI","F","030018","030018"]
[1931385,"POREE","MALONE","MI","M","066003","066032"]
[1932289,"BOBE","AARON","MI","M","066027","066032"]
[1932422,"MAS","ZOE","MI","F","048008","048008"]
[1932424,"CASTAN","JUDITH","MI","F","048008","048008"]
[1932678,"FAUGERAS","SARAH","MI","F","081046","081041"]
[1933635,"CLAISSE","VICTOR","MI","M","030074","030076"]
[1935965,"KHOUKHI","CLARA","MI","F","081046","081041"]
[1940610,"BONAL","JULES","MI","M","012002","012002"]
[1942720,"VAISSIERE","EMMA","MI","F","011022","011024"]
[1943233,"FOLLET-MORAN","YANN","MI","M","034466","034066"]
[1943243,"DARRAS","KYLE","MI","M","081048","081041"]
[1943245,"DARRAS","NOAH","MI","M","081048","081041"]
[1943561,"ROGERS","NOAH","MI","M","009001","009001"]
[1943881,"BERNIER","ANAELE","MI","F","034055","034055"]
[1945623,"PROUST","MARTIN","MI","M","081021","081017"]
[1946488,"TROCHAIN","KILIAN","MI","M","034466","034066"]
[1948986,"RAGEL","MATHIS","MI","M","081048","081041"]
[1949851,"OISEAU","JEANNE","MI","F","081056","081017"]
[1951219,"GUELLIER","PIERRE-GABRIEL","MI","M","065012","065012"]
[1951418,"TOMBU","EMMA","MI","F","034062","034062"]
[1951782,"DUBECQ","ESTEBAN","MI","M","011022","011024"]
[1953725,"LAHITTE","NOE","MI","M","031062","031062"]
[1957016,"KHALKHAL","ERIN","MI","F","034466","034066"]
[1959122,"MARC","MELISSA","MI","F","081052","081050"]
[1960342,"ROUQUETTE","NOELIE","MI","F","081035","081017"]
[1963213,"JIMENEZ","IRINA","MI","F","066006","066006"]
[1964151,"BIOLAY","LEA","MI","F","030003","030003"]
[1965942,"VALAT","MAXENCE","MI","M","012002","012002"]
[1969052,"SERVANT","SARAH","MI","F","031004","031004"]
[1969864,"CESTERE-BRUNELLO","JEAN-YVES","MI","M","031003","031003"]
[1969958,"GODOWSKI","MAXENCE","MI","M","031012","031012"]
[1971659,"SOLA","LISA","MI","F","031022","031051"]
[1971706,"GODART","LEA","MI","F","031039","031039"]
[1971994,"DERDOUR-MATHIEU","LUCAS","MI","M","031056","031051"]
[1972530,"LAFFONT","VINCENT","MI","M","031056","031051"]
[1973356,"OGNIER","MAEVA","MI","F","031046","031030"]
[1973897,"BAJOL","OLIVIA","MI","F","065003","065020"]
[1973956,"GUILLEMETTE-LAGARDE","LOU","MI","F","012003","012003"]
[1974512,"MALOUBIER","LYA","MI","F","081051","081061"]
[1974558,"AYACHE","MARGOT","MI","F","031003","031003"]
[1975242,"GIBOURDEL","JADE","MI","F","031003","031003"]
[1975935,"ELKIST","ALI","MI","M","030040","030040"]
[1975941,"ELKIST","MARWA","MI","F","030040","030040"]
[1976285,"MONTELS-NGUYEN","DIANE","MI","F","031025","031025"]
[1976761,"DAIGNAN","VALENTINE","MI","F","031004","031004"]
[1976791,"GRES","ALEXANDRE","MI","M","030004","030004"]
[1976841,"THEIL","LEONIE","MI","F","065019","065019"]
[1977407,"BERNET","BOYAN","MI","M","031056","031051"]
[1977417,"PAYRAU","CYPRIEN","MI","M","031063","031063"]
[1978128,"ORTUNO","RAFAEL","MI","M","034062","034062"]
[1978484,"MARCHAND","CLEMENTINE","MI","F","031056","031051"]
[1978634,"MALRIC","ZOE","MI","F","034062","034062"]
[1978668,"CHALIES","EMILIEN","MI","M","034062","034062"]
[1978701,"RAINAUD","PAULINE","MI","F","034012","034012"]
[1978795,"AZAM","ELI","MI","M","046012","046012"]
[1978824,"RUDZINSKI","QUENTIN","MI","M","046012","046012"]
[1978890,"SINDOU FABRE","CLOTHILDE","MI","F","046012","046012"]
[1979297,"IDRAC","FAUSTINE","MI","F","031004","031004"]
[1979481,"GERARDO","LIAM","MI","M","011020","011024"]
[1979544,"TOUZANNE","ROSA","MI","F","031008","031008"]
[1980018,"BEAUMONT","JUSTIN","MI","M","081017","081017"]
[1980034,"BARRAU","ABYGAELLE","MI","F","081017","081017"]
[1980079,"MALFETTES","EDDY","MI","M","081017","081017"]
[1981027,"PAULSEN","PAOLO","MI","M","030004","030004"]
[1982960,"ICHARD","QUENTIN","MI","M","081051","081061"]
[1983134,"VAUTIER","ARTHUR","MI","M","012005","012005"]
[1983305,"KHARROU","MAEL","MI","M","081051","081061"]
[1983516,"NOEL","MELYSSA","MI","F","030008","030008"]
[1984085,"LABORIE-DE-LA-TAILLE","NOEMIE","MI","F","031003","031003"]
[1984384,"GAILLAC","ELOI","MI","M","031001","031001"]
[1984749,"BASTIENNE-BANCO","ALIZEE","MI","F","031015","031015"]
[1984909,"MAFFRE","LOU","MI","F","081043","081041"]
[1984985,"FRANCESCATTI","THIBAUD","MI","M","081043","081041"]
[1986200,"GUERANDEL-EMMANUELLI","NOE","MI","M","031001","031001"]
[1986684,"ROQUES","AIMERIC","MI","M","012008","012008"]
[1986827,"SURROCA","PAUL","MI","M","066003","066032"]
[1986880,"DOUAOUDI","YANIS","MI","M","066003","066032"]
[1988208,"AZOUGHLI","MARWA","MI","F","031012","031012"]
[1988212,"BUERBA","SOLENE","MI","F","065012","065012"]
[1988458,"RICHARD","OSCAR","MI","M","031008","031008"]
[1988540,"DESMARAIS","LEO","MI","M","065025","065025"]
[1988603,"LEFEBVRE","CLEMENT","MI","M","034058","034058"]
[1989558,"SEVE","MATHIS","MI","M","031056","031051"]
[1990149,"GROPPI","LIZZIE","MI","F","082014","082014"]
[1990523,"MARTIN DIT NEUVILLE","ELAIA","MI","F","031015","031015"]
[1991042,"TEIXEIRA","MAXIME","MI","M","012003","012003"]
[1991291,"GOVINDIN-ROUX","LEA","MI","F","034466","034066"]
[1991616,"SOLER","ALBAN","MI","M","011016","011024"]
[1991865,"BONAMI","LISA","MI","F","081017","081017"]
[1991881,"DUMONT","CLEMENT","MI","M","031025","031025"]
[1992496,"FRIZOT","LUCILE","MI","F","034466","034066"]
[1992723,"AURIFEILLE","ALIX","MI","F","081044","081041"]
[1992847,"BARREIRO","LUCIE","MI","F","030067","030067"]
[1993002,"CASTANET","JULIEN","MI","M","030059","030059"]
[1993005,"TEYSSIER-MARTIGNAC","EMILE","MI","M","030059","030059"]
[1993295,"POMPEL","TITOUAN","MI","M","034021","034021"]
[1994697,"RAMPNOUX","MAXENCE","MI","M","081048","081041"]
[1996015,"RAMONATXO","EMMA","MI","F","034466","034066"]
[1997094,"HENKINET","QUENTIN","MI","M","081048","081041"]
[1997295,"LABARRERE","SAMUEL","MI","M","081017","081017"]
[1997624,"CECUTTI","ELIO","MI","M","032002","032002"]
[1998247,"ABBES","NOURREDINE","MI","M","011020","011024"]
[1998327,"SALANOVA","JADE","MI","F","030067","030067"]
[1998778,"ROBIN","LYLA","MI","F","032006","032006"]
[1999846,"TANDOU BACHET","TIMOTHE","MI","M","031042","031042"]
[2000414,"HOULOU","MAEL","MI","M","081017","081017"]
[2000665,"BREMAUD","ETHAN","MI","M","031043","031030"]
[2000918,"SPARZA","LILA","MI","F","031056","031051"]
[2001379,"VALLET","PACOME","MI","M","082017","082017"]
[2001471,"BARDIN","MAELLE","MI","F","009001","009001"]
[2001809,"CHAINAS","ANTOINE","MI","M","030021","030076"]
[2002010,"DUPPI","LEA","MI","F","031035","031030"]
[2002080,"BLANC","NOELIEN","MI","M","031035","031030"]
[2002196,"BOUZAT-JOULIA","LOUANNE","MI","F","012003","012003"]
[2002355,"PONT","OLIVIA","MI","F","031050","031050"]
[2002744,"BOUSQUET","EMMA","MI","F","011001","011024"]
[2003441,"TISSOT","LOU","MI","F","030040","030040"]
[2003475,"MARTIN","CHARLY","MI","M","030074","030076"]
[2003667,"SOLATGES","LUCIE","MI","F","066003","066032"]
[2003767,"ZUANON","GAETAN","MI","M","030060","030076"]
[2004618,"DROUARD","LILAS","MI","F","034064","034064"]
[2004727,"WICKER","MATHIEU","MI","M","034072","034072"]
[2004778,"SEGONDS","MARIE","MI","F","031050","031050"]
[2004909,"GARLET","MAXIME","MI","M","065012","065012"]
[2005849,"DUVIGNACQ","ROSE","MI","F","031025","031025"]
[2005926,"POUJOL","MARIE","MI","F","031025","031025"]
[2006124,"BAYLE","CHLOE","MI","F","030003","030003"]
[2006961,"ZBAIRI","ILHEM","MI","F","030003","030003"]
[2006996,"BARRABES","RONAN","MI","M","011022","011024"]
[2007513,"KARAMOKO","EDEN","MI","F","030060","030076"]
[2007514,"EYSSETTE","NATHAN","MI","M","012005","012005"]
[2007525,"FAIVRE-ALCADE","ELSA","MI","F","030060","030076"]
[2008031,"MBENGI","IRINA","MI","F","031050","031050"]
[2008228,"JOUGLA","OPHELIE","MI","F","081017","081017"]
[2009026,"DIVITA-MORRIS","BENJAMIN","MI","M","034069","034069"]
[2009667,"COVES","ANNA","MI","F","034068","034068"]
[2011139,"DUPUY","THAIS","MI","F","031007","031007"]
[2011466,"BEAUCHAMP","LAURIANA","MI","F","031004","031004"]
[2011475,"PERDRIGE","BARBARA","MI","F","031004","031004"]
[2011639,"MONTEIRO","EMILIE","MI","F","031004","031004"]
[2012602,"FERNANDEZ","SACHA","MI","M","081052","081050"]
[2012633,"MENTOR","CHARLOTTE","MI","F","066027","066032"]
[2012717,"BENCHABANE","ACXIL","MI","M","030074","030076"]
[2013484,"PUECH","GARANCE","MI","F","034072","034072"]
[2013875,"GAYDA","BAPTISTE","MI","M","011016","011024"]
[2014166,"MAURAS","CLEMENT","MI","M","081017","081017"]
[2014202,"OKON-VIGUIER","LOUISE","MI","F","081054","081061"]
[2014606,"AMARO-ALFONSO","OSCAR","MI","M","081017","081017"]
[2014715,"EL FASSI","NATHAEL","MI","M","066027","066032"]
[2015475,"SIGAL","JACK","MI","M","034058","034058"]
[2015573,"AMRY","TESS","MI","F","081043","081041"]
[2015597,"CALAMOTE","LOANN","MI","M","081043","081041"]
[2016617,"CAMP","ANAE","MI","F","081017","081017"]
[2019445,"CANTIE","LOUIS","MI","M","011021","011024"]
[2019610,"COUTINHO","ALICIA","MI","F","031008","031008"]
[2019745,"ROSSO","EMMA","MI","F","030003","030003"]
[2019926,"RUIZ","PABLO","MI","M","030004","030004"]
[2019985,"CRESPO","CLEMENT","MI","M","032014","032014"]
[2023016,"LEROY","AGATHE","MI","F","030021","030076"]
[2023026,"ZURIGUEL","LUKA","MI","M","030021","030076"]
[2026080,"TAALABI","LINA","MI","F","066003","066032"]
[2027629,"GRAZIUSO","LOUNA","MI","F","031022","031051"]
[2027899,"FRANCOIS","KIHN","MI","M","034065","034066"]
[2028206,"DANTINE","YVAN","MI","M","030018","030018"]
[2028534,"SPRIMONT","THEO","MI","M","031046","031030"]
[2029154,"THERY","TOM","MI","M","034064","034064"]
[2030270,"FORTIN LAFFORGUE","CYRIANE","MI","F","031004","031004"]
[2031081,"BONNET VIALA","CLEMENT","MI","M","081048","081041"]
[2031268,"MARQUANT","EZEKIA","MI","M","081051","081061"]
[2031424,"FAVAREL","EVA","MI","F","081017","081017"]
[2031490,"PALOMINO LEMONNIER","LUCA","MI","M","081054","081061"]
[2031509,"TORNARE","MARGOT","MI","F","081054","081061"]
[2032611,"GUEMAS-CORMONS","CLARA","MI","F","030004","030004"]
[2033634,"RIVET","TIMOTHEE","MI","M","081048","081041"]
[2033851,"DUPUIS","ROMANE","MI","F","031004","031004"]
[2034270,"VINKEN","ARTHUR","MI","M","032002","032002"]
[2035219,"LEBOUCHER","MAELYS","MI","F","032010","032010"]
[2035237,"DIERCKX","ETHAN","MI","M","032010","032010"]
[2037168,"GINESTE","SARAH","MI","F","046012","046012"]
[2037327,"AUDABRAM","LALIE","MI","F","031050","031050"]
[2037977,"ELIARD","GARRIS","MI","M","046008","046008"]
[2038008,"BELHADI","DARI","MI","M","081043","081041"]
[2039852,"SAUDO","ANDREA","MI","F","034012","034012"]
[2040224,"TRIBONDEAU","CAMILLE","MI","F","081056","081017"]
[2040258,"LEFEBVRE","CLEMENT","MI","M","031056","031051"]
[2041515,"ZANARDO-BENECH","TOSCANE","MI","F","032002","032002"]
[2043851,"MURA-TOCZEK","ELIO-GUILLAUME","MI","M","034062","034062"]
[2043867,"DA PONTE","TIMEO","MI","M","034012","034012"]
[2044067,"DARNIS","SELEN","MI","F","031004","031004"]
[2044438,"BRICLET","TIMOTHEE","MI","M","082018","082018"]
[2044659,"DURAND","MAXENCE","MI","M","048004","048006"]
[2044663,"GERBAL","EVAN","MI","M","048004","048006"]
[2044728,"ACHIBANE","LILYA","MI","F","081043","081041"]
[2045069,"SANDOZ","BENJAMIN","MI","M","031043","031030"]
[2045268,"RIZOUD","LEANDRE","MI","M","081048","081041"]
[2046661,"LAHSSINE ALAUZE","LOUISE","MI","F","031050","031050"]
[2047013,"VALERO","MATHIS","MI","M","034457","034457"]
[2048062,"VADANT","TOM","MI","M","030074","030076"]
[2048596,"SAINT-MICHEL","ALBANE","MI","F","009001","009001"]
[2049241,"BERNARD","CHLOE","MI","F","048004","048006"]
[2050443,"BUGE MONJARET","ELEA","MI","F","031062","031062"]
[2054806,"FAYARD","ANTOINE","MI","M","031062","031062"]
[2055337,"LEMARTELEUR","LYSE","MI","F","081017","081017"]
[2055680,"FERNANDEZ","YANIS","MI","M","066028","066032"]
[2056449,"IZUNSKY","LILY","MI","F","011001","011024"]
[2058023,"PONS BAILLY","QUENTIN","MI","M","031050","031050"]
[2062910,"EUILLET","MANON","MI","F","031062","031062"]
[2066434,"DURAND","CHARLOTTE","MI","F","081017","081017"]
[2067122,"BERT-LATRILLE","MILA","MI","F","065003","065020"]
[2071804,"MOSCATELLO","ANTOINE","MI","M","032014","032014"]
[2075015,"VOIDEY","PAUL","MI","M","031034","031030"]
[2075072,"ASSIE","DORIAN","MI","M","034038","034038"]
[2075112,"DUNET","EMY","MI","F","012013","012003"]
[2076061,"BOUSQUET","LEONORE","MI","F","031015","031015"]
[2077598,"PELFORT","LINA","MI","F","081021","081017"]
[2078013,"VERSEILLE","LYLA","MI","F","034473","034473"]
[2078640,"DOSTES","AURELINE","MI","F","031015","031015"]
[2078738,"DOBSIK","KAREL","MI","M","030008","030008"]
[2079756,"GRAS","LANZO","MI","M","034072","034072"]
[2081574,"CALVET","TOM","MI","M","031039","031039"]
[2081621,"PRINCE","CHARLOTTE","MI","F","082017","082017"]
[2083055,"MEYNIER","LORINE","MI","F","065012","065012"]
[2083077,"MARTINEZ","ALEXANDRE","MI","M","065012","065012"]
[2083316,"BRAZET","CLEMENT","MI","M","031034","031030"]
[2086089,"ROUX FALCOU","MATILDE","MI","F","011001","011024"]
[2086134,"BALMIGERE","HUGO","MI","M","011001","011024"]
[2086264,"MARIN","CHLOE","MI","F","034036","034036"]
[2088051,"RAGOT","SALOME","MI","F","031042","031042"]
[2088101,"RICAUT","MARION","MI","F","011016","011024"]
[2088121,"ROUX","ROBIN","MI","M","030008","030008"]
[2088439,"DANTON SIMONNOT","NOEMIE","MI","F","034072","034072"]
[2089076,"BEAUCREUX","ETHAN","MI","M","031035","031030"]
[2089082,"MERLET","ANTOINE","MI","M","031035","031030"]
[2089091,"REUX","LEO","MI","M","031035","031030"]
[2089109,"MONTANER","ZLATAN","MI","M","048004","048006"]
[2089931,"MAZET","CLARA","MI","F","031004","031004"]
[2090183,"DUBOS","NOAH","MI","M","031039","031039"]
[2090269,"GOBERT","LEO","MI","M","031039","031039"]
[2091325,"REVEL","VALENTINE","MI","F","012002","012002"]
[2091975,"ZBAWICKI","ANDRZEJ","MI","M","034072","034072"]
[2092176,"LAMKASS","IMANE","MI","F","034012","034012"]
[2092196,"MARTIN","HELOISE","MI","F","034012","034012"]
[2092824,"PAYA","LOU-EVE","MI","F","009011","009011"]
[2093389,"BRESCON","ZOE","MI","F","065012","065012"]
[2093406,"PIN","LINA","MI","F","034065","034066"]
[2093590,"HIDEUX","JEANNE","MI","F","034466","034066"]
[2094013,"VESA","IRINA","MI","F","012003","012003"]
[2095002,"MONTOYA","TIMO","MI","M","031015","031015"]
[2096682,"ALBERT","ELINA","MI","F","081017","081017"]
[2098417,"LESTRADE","LUCIE","MI","F","065003","065020"]
[2098655,"ANTONIO","ELOI","MI","M","034466","034066"]
[2099360,"DE VREESE","MARGAUX","MI","F","009001","009001"]
[2099737,"DANBRICOURT","AMELIE","MI","F","009001","009001"]
[2100127,"BENTOUBAL","NAILA","MI","F","081043","081041"]
[2100752,"COLOME","LOUANN","MI","F","081044","081041"]
[2101480,"ROUQUET","NINA","MI","F","031022","031051"]
[2101524,"CONTE","ALEXANDRE","MI","M","031022","031051"]
[2101623,"AVICE-COULOMB","IRIS","MI","F","012013","012003"]
[2102415,"BATAILLOU","LISA","MI","F","081017","081017"]
[2102504,"SEARA","YANIS","MI","M","012013","012003"]
[2102561,"AVILA","COLAS","MI","M","046012","046012"]
[2102579,"BOURBIGOT","NAIS","MI","F","046012","046012"]
[2103081,"GARCIA","MILO","MI","M","030004","030004"]
[2104135,"CALVO","LUKA","MI","M","066003","066032"]
[2104819,"ALIBERT","MELINA","MI","F","012018","012003"]
[2104829,"PAGES","LISA","MI","F","012018","012003"]
[2106490,"ANZIANI","THEO","MI","M","031055","031055"]
[2106568,"KASPERSKI","PAVEL","MI","M","031055","031055"]
[2107230,"MBENGI","ALINA","MI","F","031050","031050"]
[2107255,"LEROUX","QUENTIN","MI","M","031050","031050"]
[2107324,"FERRARI","CHLOE","MI","F","031025","031025"]
[2107511,"VALLEJO","ANAIS","MI","F","011001","011024"]
[2107728,"LANUQUE","ANAIS","MI","F","066028","066032"]
[2107734,"LANUQUE","HELOISE","MI","F","066028","066032"]
[2108845,"CHAUVEL","GLENN","MI","M","082017","082017"]
[2109329,"BORDIGNON","SARAH","MI","F","031004","031004"]
[2109346,"PIQUIONNE-COQUEL","MARGAUX","MI","F","031004","031004"]
[2109348,"BOBO DE LABAREYRE","INES-MARIE","MI","F","030004","030004"]
[2110123,"PLAGNES","EVAN","MI","M","030021","030076"]
[2110151,"MANESSE","ROMANE","MI","F","030021","030076"]
[2110546,"TIRCAZES","LOUNA","MI","F","032006","032006"]
[2111187,"MARTIN","EMMY","MI","F","034069","034069"]
[2111326,"ERMOSILLA","JADE","MI","F","031004","031004"]
[2111760,"VERA","MARINE","MI","F","065019","065019"]
[2111908,"BELANGERE","KARL","MI","M","030018","030018"]
[2111916,"BELANGERE","JORYS","MI","M","030018","030018"]
[2112522,"BOTTURA","JULIE","MI","F","082014","082014"]
[2112566,"PLANCHON","SARA","MI","F","034068","034068"]
[2115267,"MARSAL-DURAND","NAIS","MI","F","081017","081017"]
[2115641,"AUDET","ORION","MI","M","065005","065020"]
[2115691,"DUROULLE","LEELOO","MI","F","065017","065020"]
[2115972,"QUESSETTE","ANOUK","MI","F","065027","065027"]
[2116441,"ALVES","LORIS","MI","M","031022","031051"]
[2117164,"SABATIER-BOIXADERAS","KAREN","MI","F","009001","009001"]
[2117366,"QUEYSSALIER","CLEMENT","MI","M","034038","034038"]
[2117373,"MARTY","ANDREAS","MI","M","034457","034457"]
[2117445,"SEGAUD","LOUIS","MI","M","081052","081050"]
[2117485,"MARMIER","VALENTIN","MI","M","081052","081050"]
[2117731,"CLERGUE","ELEA","MI","F","034069","034069"]
[2117812,"VILLEGAS","MATHEO","MI","M","066003","066032"]
[2117833,"LEMOINE-DUPRE","AGATHE","MI","F","034073","034073"]
[2118019,"MARVEZY","LOUIS","MI","M","012005","012005"]
[2118159,"MASCLES","LEONIE","MI","F","012018","012003"]
[2118275,"PEREZ","BAPTISTE","MI","M","011016","011024"]
[2118826,"DUPUIS","CLEMENCE","MI","F","031025","031025"]
[2119269,"COMBES RUIZ","ROBIN","MI","M","081046","081041"]
[2119389,"BOUILLOT","MARINE","MI","F","011020","011024"]
[2119611,"PAUL TAYANE","CURTIS","MI","M","081048","081041"]
[2120248,"FORNARA","HUGO","MI","M","012002","012002"]
[2120650,"GERVASONI","MARIE","MI","F","030074","030076"]
[2120877,"NOUGUES","AMBROISE","MI","M","034068","034068"]
[2121211,"MAUREL","MATHIEU","MI","M","034021","034021"]
[2123328,"VERDELHAN","ELISE","MI","F","030074","030076"]
[2123722,"BACHES","CHLOE","MI","F","066003","066032"]
[2124363,"CANIZARES","LENA","MI","F","066027","066032"]
[2124484,"PLANAS","PAOLA","MI","F","066027","066032"]
[2124643,"VERGE SOURIOUX","ELISA","MI","F","066027","066032"]
[2125160,"BLANC","MELISSA","MI","F","011001","011024"]
[2126677,"MEDALLE","CLARYS","MI","F","081017","081017"]
[2127015,"PARANT-REKIKA","LEVANA","MI","F","030074","030076"]
[2128879,"SABRAZAT","NOELIE","MI","F","031025","031025"]
[2128902,"CRUSCO","ERVIN","MI","M","048005","048006"]
[2129213,"SAID MLARAHA","HIKMA","MI","F","034466","034066"]
[2129792,"CASSE","ZOE","MI","F","081046","081041"]
[2132420,"NADAL","CAMILLE","MI","F","066027","066032"]
[2133300,"MALHOMME","THEO","MI","M","034021","034021"]
[2134079,"LEKA","MATEO","MI","M","065003","065020"]
[2134585,"MAGNE FONDACCI","FLORE","MI","F","030074","030076"]
[2134589,"MAGNE FONDACCI","CANDICE","MI","F","030074","030076"]
[2136011,"BARRAU","LUBIN","MI","M","081056","081017"]
[2136183,"VLAMYNCK","MATTEO","MI","M","032010","032010"]
[2136281,"LAFFOLET","NATHAN","MI","M","030060","030076"]
[2137707,"DOURLENT","NATHAEL","MI","M","009001","009001"]
[2142077,"GAYRAL","GABRIEL","MI","M","012005","012005"]
[2142510,"FRAYSSINET","NOA","MI","M","081054","081061"]
[2142882,"BIAU","BASTIEN","MI","M","081054","081061"]
[2142884,"SIRE","MAUREEN","MI","F","081054","081061"]
[2142890,"WADDINGTON","AXEL","MI","M","081054","081061"]
[2142893,"BESSET","MANON","MI","F","081054","081061"]
[2142894,"ROUTABOUL","JULIETTE","MI","F","081054","081061"]
[2142895,"CANAL","CHLOE","MI","F","081054","081061"]
[2142900,"PAGES","BASILE","MI","M","081054","081061"]
[2142902,"MARC","LENA","MI","F","081054","081061"]
[2142906,"CAUSSE GOYARD","ELOISE","MI","F","081054","081061"]
[2143142,"LOBET","MARC","MI","M","032006","032006"]
[2146451,"VERDIER","ALAIN","MI","M","034466","034066"]
[2147154,"GURTLER","NOLAN","MI","M","031056","031051"]
[2148977,"FOUCHEYRAND-DAVID","MARGAUX","MI","F","009011","009011"]
[2149968,"ZELIAM","MALCOM","MI","M","030004","030004"]
[2149973,"JOUVE","SOPHIE","MI","F","030060","030076"]
[2156408,"GUENARDEAU","PALOMA","MI","F","034021","034021"]
[2156810,"KRYWALSKI","NAOMY","MI","F","066021","066021"]
[2159426,"GALTIE","ROMANE","MI","F","012018","012003"]
[2167120,"DESPLAS","KILLIAN","MI","M","012008","012008"]
[2167247,"MARIE AUGE","SAMUEL","MI","M","048004","048006"]
[2170742,"PEGOURIE","SARAH","MI","F","046008","046008"]
[2173757,"COURTIN","ROMAIN","MI","M","034457","034457"]
[2173834,"SIHARATH-GAYRAUD","TIMOTHEE","MI","M","032014","032014"]
[2173850,"FAVRE","THOMAS","MI","M","032014","032014"]
[2173867,"ALDIBERT","FANNY","MI","F","082017","082017"]
[2174577,"FEUVRIE VO HOANG","MAINA","MI","F","034466","034066"]
[2174614,"THOMAS","LISE","MI","F","034064","034064"]
[2175438,"RAMOS BUFFET","ESTEBAN","MI","M","031034","031030"]
[2175691,"MAGLICA","OLIVIER","MI","M","031034","031030"]
[2175732,"MOGUEROU","SACHA","MI","M","031034","031030"]
[2175764,"LAMBERT","LOUISE","MI","F","034466","034066"]
[2175950,"BINAS","TONI","MI","M","034068","034068"]
[2177304,"GOUES","LOUIS","MI","M","031046","031030"]
[2177608,"GOUZENNE","LUCAS","MI","M","031034","031030"]
[2177664,"GARRIC","JULIEN","MI","M","031004","031004"]
[2177737,"GRANDAIS","SOLENN","MI","F","009011","009011"]
[2177952,"MACHAULT","EMILE","MI","M","031025","031025"]
[2178166,"JAAOURA","CHAIMA","MI","F","031034","031030"]
[2178367,"BESSEY","DORIAN","MI","M","065012","065012"]
[2178817,"LAZARO","HARRY","MI","M","031004","031004"]
[2179465,"MABILLE","VICTOR","MI","M","011001","011024"]
[2179585,"AMAOUCH","JOUMANA","MI","F","065003","065020"]
[2180165,"INNOCENT","NAOMI","MI","F","031025","031025"]
[2180265,"ALBERT","JULES","MI","M","031015","031015"]
[2180374,"HORJAK","SIENNA","MI","F","030067","030067"]
[2183759,"MERCADER","MAELYS","MI","F","066006","066006"]
[2183772,"GORNES","ELEA","MI","F","066006","066006"]
[2183804,"AKAKPO","CHLOE","MI","F","066035","066032"]
[2184744,"AMEUR MANSOUR","FATIMA","MI","F","031015","031015"]
[2186898,"SZWED","NOAH","MI","M","066027","066032"]
[2187601,"VINCENT","LAURA","MI","F","030074","030076"]
[2187937,"HAYTE","ROMAIN","MI","M","011001","011024"]
[2188146,"PECHVERTY","RUDY","MI","M","082018","082018"]
[2188675,"ESTEBAN-LOPEZ","EVA","MI","F","034072","034072"]
[2188732,"PEREZ","NOE","MI","M","034072","034072"]
[2189264,"LIABEUF","LOEVA","MI","F","030040","030040"]
[2189434,"BRANCO SOYEZ","DIEGO","MI","M","034012","034012"]
[2190313,"BIANCO","ANAE","MI","F","081017","081017"]
[2190677,"GONZALES","LALY","MI","F","011016","011024"]
[2191104,"MORALES","ADRIEN","MI","M","034064","034064"]
[2191132,"LEBAS","AUBERI","MI","F","066003","066032"]
[2192011,"INTARTAGLIA","ALIX","MI","M","034062","034062"]
[2193619,"COMBALBERT","MORGANE","MI","F","031004","031004"]
[2193894,"CAUSSANEL","EDDIE","MI","F","046008","046008"]
[2195697,"POSTIC","MANON","MI","F","031035","031030"]
[2195708,"WEBER","TOM","MI","M","031035","031030"]
[2198437,"BOUBAYA","ADAM","MI","M","034454","034066"]
[2200488,"BIVES","FLORIAN","MI","M","065027","065027"]
[2200755,"ALQUIER","LUCIE","MI","F","031025","031025"]
[2200761,"BUFFEL","RONAN","MI","M","031025","031025"]
[2200863,"ALATERRE","IOLI","MI","F","030074","030076"]
[2200916,"GACHE MORILLON","ELENA","MI","F","030074","030076"]
[2200922,"DUMAS","SOHAN","MI","M","030074","030076"]
[2200960,"PAILHE-BELAIR","MAIA","MI","F","065025","065025"]
[2201141,"MOULY","JEANNE","MI","F","031004","031004"]
[2203872,"LIGNEAU","TRISTAN","MI","M","031050","031050"]
[2204699,"CHABOY","LOUISE","MI","F","031004","031004"]
[2204789,"FESIGNY","OCEANE","MI","F","031004","031004"]
[2205098,"ALASSET","LYSE","MI","F","031042","031042"]
[2205737,"DELETTRE-RIVIERE","NOE","MI","M","032014","032014"]
[2206496,"MOULUCOU","ALICE","MI","F","031015","031015"]
[2206534,"PENE-THOMAS","JONATHAN","MI","M","031015","031015"]
[2206634,"NOTARIO","JULIA","MI","F","031022","031051"]
[2206641,"MAURE","LEONORE","MI","F","031063","031063"]
[2208209,"PIN","GABRIEL","MI","M","031056","031051"]
[2208257,"CASTELLO","CAMILLE","MI","F","032002","032002"]
[2208501,"AFNIGHAR","AYMAN","MI","M","034466","034066"]
[2208773,"FOURNIER","MATHIS","MI","M","082014","082014"]
[2209173,"BOSCO","LOUKA","MI","M","031025","031025"]
[2209934,"GARRIGOS HALLIER","MINA","MI","F","034012","034012"]
[2210240,"RARIVOMANANTSOA","MAHE","MI","M","030021","030076"]
[2210433,"HARKATI-BOUKHOBZA","INES","MI","F","031004","031004"]
[2211322,"CAYRAC","VALENTINE","MI","F","081043","081041"]
[2211872,"DE BERTIER","MAHAUT","MI","F","034062","034062"]
[2211926,"COSTE","NICOLAS","MI","M","034068","034068"]
[2212044,"CHARIER","ISIS","MI","F","034072","034072"]
[2212575,"LEPERS","ESTEBAN","MI","M","066006","066006"]
[2212711,"FELTIN","MAXIME","MI","M","031046","031030"]
[2212725,"DUCOS","NOELIE","MI","F","081047","081041"]
[2212792,"NOU","ARTHUR","MI","M","066006","066006"]
[2213242,"ROSA","LILIE","MI","F","031056","031051"]
[2213505,"LIEUTIER","DAN","MI","M","066027","066032"]
[2213614,"AROUCHE","JAD","MI","M","031004","031004"]
[2214057,"CAUSSE","MARINE","MI","F","030008","030008"]
[2214219,"MOISY","LUCIE","MI","F","081048","081041"]
[2214237,"KERKOUR","NISRINE","MI","F","030003","030003"]
[2214684,"ESTIVES","MATHIS","MI","M","009011","009011"]
[2215245,"BEGUE","ZOE","MI","F","031022","031051"]
[2215480,"DJOUAL","MAEL","MI","M","031015","031015"]
[2216765,"SEGAUD","JORDAN","MI","M","034055","034055"]
[2217182,"GARNIER","VALENTIN","MI","M","082017","082017"]
[2217428,"DUMOLIN","THOMAS","MI","M","034021","034021"]
[2217432,"DUMOLIN","MATHIEU","MI","M","034021","034021"]
[2218427,"JOURDAN","LYLOU","MI","F","034466","034066"]
[2219936,"REBOURS","ELOUAN","MI","M","081017","081017"]
[2219937,"MMADI","NAIM","MI","M","081017","081017"]
[2220251,"RODEMBOURG","AUDREY","MI","F","082017","082017"]
[2220626,"ALBERT","JULIAN","MI","M","011022","011024"]
[2221314,"GILARDI","EVA","MI","F","034055","034055"]
[2223040,"BONOTTO","VALENTIN","MI","M","032006","032006"]
[2223172,"BOUIN","CLOVIS","MI","M","031009","031009"]
[2223374,"BAUER","JAYMIE","MI","M","066006","066006"]
[2224059,"LACOTE","REMI","MI","M","065003","065020"]
[2226958,"PECOULT","CANDICE","MI","F","081054","081061"]
[2227555,"GRUNENWALD","SYBILE","MI","F","034073","034073"]
[2227874,"LAVIGNE","MATHIEU","MI","M","065005","065020"]
[2229030,"CAZAUX","LOUISE","MI","F","065027","065027"]
[2230202,"DOUSSON","BENJAMIN","MI","M","030040","030040"]
[2230504,"PHILIPPE","LUCAS","MI","M","012003","012003"]
[2230548,"CORBEL","CLEMENCE","MI","F","031062","031062"]
[2231076,"MUIN","LUCIEN","MI","M","034058","034058"]
[2231165,"COSTE","LILIAN","MI","M","034457","034457"]
[2232797,"MONTESINOS","THOMAS","MI","M","066006","066006"]
[2233756,"DEBRUYNE","JUSTINE","MI","F","081017","081017"]
[2235573,"TRUCHI-GRENOT","NOAM","MI","M","046008","046008"]
[2241985,"PEBRE","AGATHE","MI","F","034055","034055"]
[2242908,"DEDRYVER","ROMANE","MI","F","081017","081017"]
[2243462,"MAYEN","LEONIE","MI","F","065027","065027"]
[2244609,"VUILLAUME","MILAN","MI","M","046004","046004"]
[2245122,"LE CAM","HUGUES","MI","M","066037","066037"]
[2246493,"JOUANNIQUE","MAEL","MI","M","032002","032002"]
[2247365,"DOMERGUE","MATTHIEU","MI","M","034466","034066"]
[2247704,"MENNESSON","PAULINE","MI","F","034062","034062"]
[2248255,"ABBASSI KANDILI","MAYA","MI","F","031046","031030"]
[2248342,"BOURGEOIS DEGENEVE","NINO","MI","M","048004","048006"]
[2250009,"ISEPPI","LORIANA","MI","F","031015","031015"]
[2250284,"ROUSSEL","ELISA","MI","F","011021","011024"]
[2250517,"FOUQUART","AMAURY","MI","M","082018","082018"]
[2252240,"REYNAUD","NEELA","MI","F","034062","034062"]
[2255921,"PUJAL FAJAL","NOA","MI","M","066006","066006"]
[2256206,"PRIETO","LEON","MI","M","034062","034062"]
[2257552,"CUNY","MAELLE","MI","F","034473","034473"]
[2257555,"TEISSERENC","CAPUCINE","MI","F","034012","034012"]
[2257982,"FATTORI","LUCA","MI","M","030004","030004"]
[2258527,"FAJON","LAURA","MI","F","030074","030076"]
[2264521,"CORBALAN","CLEMENT","MI","M","031004","031004"]
[2265272,"MARCEL","CORALINE","MI","F","031034","031030"]
[2265550,"MARTINEZ","MARINA","MI","F","031004","031004"]
[2265787,"COPPOLINO","SIMON","MI","M","031043","031030"]
[2266781,"BERTRAND","JEREMIE","MI","M","034457","034457"]
[2267623,"CHUREAU-LAVILLE","HUGO","MI","M","066003","066032"]
[2267627,"PUJOL-BERCHE","TIM","MI","M","066003","066032"]
[2267706,"SAINT-GERMAIN","MAENA","MI","F","066003","066032"]
[2268008,"BLANC","SYLLA","MI","F","011001","011024"]
[2268046,"BELLOUARD","JULIETTE","MI","F","031004","031004"]
[2268057,"SANTAMARIA","HELOISE","MI","F","031004","031004"]
[2268421,"HAMADE","CLARA","MI","F","034466","034066"]
[2268469,"RODES","EMMA","MI","F","031025","031025"]
[2268500,"FAYET","CORENTIN","MI","M","031046","031030"]
[2268575,"PINARD CORDOBA","MARIA","MI","F","031035","031030"]
[2268780,"ROUSSEL","LOU","MI","F","031004","031004"]
[2268958,"CANAVATE","VICTOR","MI","M","081017","081017"]
[2270241,"FERNANDEZ VALLE","NOEMIE","MI","F","031015","031015"]
[2270243,"MARULAZ","LOANE","MI","F","031015","031015"]
[2270245,"MASSOL-BOYALS","VICTOR","MI","M","031015","031015"]
[2270251,"DUROSELLE","BLANDINE","MI","F","031015","031015"]
[2270297,"BEN FREDJ","RAJA","MI","F","031004","031004"]
[2270321,"CHRISTAU-LOVERA","VALENTIN","MI","M","031004","031004"]
[2270649,"VEGA-BOSSIAN","LUIS","MI","M","031009","031009"]
[2270693,"SOUHAIR-THOREL","LUNA","MI","F","031025","031025"]
[2270726,"NAVARRE","MEYLI","MI","F","011022","011024"]
[2270870,"MANENC","ELISA","MI","F","081048","081041"]
[2270871,"MANENC","JUSTINE","MI","F","081048","081041"]
[2271418,"KECHACHA","NAWFEL","MI","M","031015","031015"]
[2271422,"KECHACHA","AYMEN","MI","M","031015","031015"]
[2271425,"ROCHER","LEA","MI","F","031015","031015"]
[2271840,"GUET","NATANAEL","MI","M","031025","031025"]
[2271885,"KOSSIDAS PAAVONEN","IOANNIS","MI","M","034466","034066"]
[2272588,"CHEVE","ANGELE","MI","F","034038","034038"]
[2272753,"BLANC","LORENZO","MI","M","031022","031051"]
[2272786,"ALBAR","CHLOE","MI","F","031022","031051"]
[2273254,"MULLER-LESTERLIN","JULIEN","MI","M","031042","031042"]
[2273776,"FARESSE","SANAA","MI","F","031039","031039"]
[2273915,"MESIAS","MAELYS","MI","F","034466","034066"]
[2274172,"MALFONDET","RAPHAEL","MI","M","034466","034066"]
[2274527,"MARTIN","ROSE","MI","F","034062","034062"]
[2274653,"SABLE","AYO","MI","F","034466","034066"]
[2274878,"FERRAND","EMIE","MI","F","065003","065020"]
[2274899,"MAURAISIN-ROUQUETTE","ARTHUR","MI","M","034072","034072"]
[2274922,"ROUSSELOT","LORELEI","MI","F","065012","065012"]
[2275604,"FEUZ","QUENTIN","MI","M","031022","031051"]
[2276079,"TORRES","ANNA","MI","F","034021","034021"]
[2276338,"SIRIAC","MARA","MI","F","065012","065012"]
[2276492,"CHRISTOPHE","MELISSA","MI","F","046008","046008"]
[2277020,"TOROND","NATHAN","MI","M","031056","031051"]
[2277091,"BRINGOUX","MAEVA","MI","F","031046","031030"]
[2277182,"PEIRUZA ALBERTIN","RAFAEL","MI","M","031025","031025"]
[2277536,"ABERKANE","RIWAN","MI","M","031056","031051"]
[2277565,"GONZALEZ","LUNA","MI","F","031056","031051"]
[2277593,"AHRIDA ZIRAOUI","NAWFEL","MI","M","031056","031051"]
[2277697,"HOFMAN","RAFAEL","MI","M","031015","031015"]
[2277708,"CARPENTIER","MAYA","MI","F","031015","031015"]
[2277740,"BEN MIMOUN","SOUHEILA","MI","F","031012","031012"]
[2277890,"GUILHEN","MATTHIS","MI","M","034064","034064"]
[2278615,"ANDRY","MINA","MI","F","046012","046012"]
[2279365,"LE MINOR","MARIUS","MI","M","034466","034066"]
[2279483,"SOULIE","GABRIEL","MI","M","046012","046012"]
[2279829,"ARRONDEL-NIRLO","OCEANE","MI","F","031003","031003"]
[2279918,"FOURNIER","ELORA","MI","F","082017","082017"]
[2280499,"MIMARD","CORENTIN","MI","M","031004","031004"]
[2281293,"OBER","PAULINE","MI","F","034466","034066"]
[2281368,"BEDU-JOUMBLAT","ELIO","MI","M","034466","034066"]
[2281780,"POLI","BAPTISTE","MI","M","066027","066032"]
[2281796,"MARTI","MAXIME","MI","M","066027","066032"]
[2281831,"VERCHERE","INMA","MI","F","030060","030076"]
[2281835,"ORTEGA","CAMILLE","MI","F","030060","030076"]
[2282791,"SERIN","MATHILDE","MI","F","012011","012003"]
[2283282,"PENA","HUGO","MI","M","032002","032002"]
[2283386,"AUDEMAR","PAOLA","MI","F","081051","081061"]
[2286199,"DAGNAS","MANON","MI","F","034038","034038"]
[2286768,"TORMO","FLAVY","MI","F","011022","011024"]
[2286870,"FURNEMONT","MATHIS","MI","M","031025","031025"]
[2288480,"TREZERES","ARTHUR","MI","M","065005","065020"]
[2289012,"MARC","ISMAEL","MI","M","034466","034066"]
[2289067,"LIEVEAUX ALONSO","TERRY","MI","M","082017","082017"]
[2289458,"NGBANDUA","EUSEBE","MI","M","081053","081050"]
[2289825,"GOURMAND","WILLIAM","MI","M","034064","034064"]
[2290590,"CHASTAGNOL","LUCIE","MI","F","031004","031004"]
[2291067,"BOSC","MENAHEL","MI","M","066003","066032"]
[2291384,"FRANCOIS GUICHET","EVANE","MI","F","066027","066032"]
[2291776,"KHELISSA","MATHILDE","MI","F","032014","032014"]
[2291883,"CUSENIER","LOUIS","MI","M","030067","030067"]
[2291988,"ABABOU","ADIL","MI","M","030067","030067"]
[2292094,"LEBAT","JULES","MI","M","030040","030040"]
[2292769,"CRIER","LOLA","MI","F","011022","011024"]
[2293005,"PAMPHILE","MAILI","MI","F","066006","066006"]
[2293019,"PRUNIER","JEANNE","MI","F","032002","032002"]
[2293355,"DESWERT","TERANCE","MI","M","030003","030003"]
[2293649,"FILLERON","BAPTISTE","MI","M","034466","034066"]
[2294452,"CROS-SAUSSOL","LOUISE","MI","F","012002","012002"]
[2296064,"ALVADO","LORIS","MI","M","030021","030076"]
[2297332,"PEUZIAT","CORENTIN","MI","M","030074","030076"]
[2297694,"VERNEY","EMILIEN","MI","M","034068","034068"]
[2297973,"DEPOISIER","CORENTIN","MI","M","048004","048006"]
[2298023,"VORS-HIGEL","MARIE-JADE","MI","F","034021","034021"]
[2298986,"MERIC","JULIETTE","MI","F","081047","081041"]
[2299967,"LANNE","ANAIS","MI","F","065019","065019"]
[2300594,"HAMADI","LINA","MI","F","031004","031004"]
[2301267,"CORNEC","MANON","MI","F","031063","031063"]
[2301334,"LAPORTE","SILOE","MI","F","031022","031051"]
[2302099,"LAPERRUQUE","JOANA","MI","F","081021","081017"]
[2302406,"AIDOUNE","YANIS","MI","M","034036","034036"]
[2302629,"CAPON","FLEOLE","MI","F","034474","034474"]
[2302749,"MOURGUES","AUGUSTIN","MI","M","034474","034474"]
[2302891,"BROSSY-DACHEUX","ENZO","MI","M","012003","012003"]
[2303183,"SABARTHES","ELIA","MI","F","081048","081041"]
[2303716,"LAVERGNE","VALENTIN","MI","M","081053","081050"]
[2304172,"VILLEMUS","SAMUEL","MI","M","009011","009011"]
[2304760,"PAILHORIES","YOHAN","MI","M","012005","012005"]
[2305001,"ZATYLNY","CLARA","MI","F","030003","030003"]
[2305258,"YAO","AURELIE","MI","F","031004","031004"]
[2305341,"MARTINET","CLARA","MI","F","031056","031051"]
[2305368,"JELASSI","ANOUK","MI","F","034012","034012"]
[2306063,"MANGEOT","CELIA","MI","F","034062","034062"]
[2306615,"RAMAJO","MAIALEN","MI","F","032002","032002"]
[2306921,"GRAFF-NAHMANI","GABRIEL","MI","M","034021","034021"]
[2307013,"BENTIR","ALLAN","MI","M","030059","030059"]
[2307398,"VAYSSOUZE-FAURE","MARIA","MI","F","046012","046012"]
[2307404,"CASTET","EMMA","MI","F","065025","065025"]
[2307426,"CASTERAN","CORELIE","MI","F","065025","065025"]
[2308556,"BOUSQUET","ANAIS","MI","F","030003","030003"]
[2309162,"HALLE","MATHIEU","MI","M","048003","048006"]
[2309174,"MYLY","MORGANE","MI","F","048003","048006"]
[2309178,"BOURRIER","ANAIS","MI","F","048003","048006"]
[2309182,"RUAT","CLEMENT","MI","M","048003","048006"]
[2309187,"ABOUTOIHI BRUNEL","JESSIE","MI","F","048003","048006"]
[2309188,"ANRIFADJATI","ANTHONY","MI","M","048003","048006"]
[2310046,"TEILLARD","ANTONIN","MI","M","034068","034068"]
[2311263,"BERGHE","GERSENDE","MI","F","030021","030076"]
[2311955,"VERNARDET","HELOISE","MI","F","065025","065025"]
[2313112,"VERMET","TEO","MI","M","034064","034064"]
[2314011,"STOSCHEK","LYLOU","MI","F","034062","034062"]
[2314046,"ROUSSE","CLARA","MI","F","009002","009002"]
[2314471,"LALAUZE","ELSA","MI","F","030074","030076"]
[2314673,"MALLET FILLOL","LORENA","MI","F","034068","034068"]
[2315311,"GUENOUN","ALEC","MI","M","066028","066032"]
[2315344,"CAIZERGUES","CHARLINE","MI","F","034062","034062"]
[2318013,"LE RAY","SERAPHIN","MI","M","031034","031030"]
[2318468,"ROBERT","OSCAR","MI","M","030004","030004"]
[2318652,"CELLIER","LEA","MI","F","048003","048006"]
[2318708,"MURET","ANAIS","MI","F","081054","081061"]
[2319239,"FIAN RICHMOND","TIDJANE","MI","M","031025","031025"]
[2321539,"RAFFOUX","NOE","MI","M","048004","048006"]
[2322264,"BREILLAT","LUCILE","MI","F","031056","031051"]
[2323214,"BUSATO","LOLA","MI","F","032002","032002"]
[2323549,"SOTTIL","FABIO","MI","M","031003","031003"]
[2323682,"CHABBERT","LEA","MI","F","081054","081061"]
[2323924,"LE BRIS","LOUISE","MI","F","031004","031004"]
[2324007,"GAMEIRO","NOA","MI","M","082017","082017"]
[2324443,"DJOURKOVITCH","MAE","MI","M","081054","081061"]
[2325390,"SARRAUTE","LILOU","MI","F","032002","032002"]
[2325502,"MACHOU","MAISSA","MI","F","030004","030004"]
[2326100,"AMAR","MAHE","MI","F","031015","031015"]
[2326323,"FRAIZE HAMPE","NINON","MI","F","065019","065019"]
[2327054,"BELILLAS FOURNON","CORENTIN","MI","M","031056","031051"]
[2327601,"MERCIER","ANOUCH","MI","F","030021","030076"]
[2328126,"SALAME","JULIETTE","MI","F","066028","066032"]
[2328223,"BAUDRY","LOUISE","MI","F","034068","034068"]
[2330845,"GHOURA LAQDADRA","AYOUB","MI","M","081048","081041"]
[2330876,"SALLES","LOUISE","MI","F","030003","030003"]
[2330966,"CERTES","NATHAN","MI","M","048003","048006"]
[2330970,"DOUSTEYSSIER","GABIN","MI","M","048003","048006"]
[2331556,"DORGANS-CHOPIN","TEA","MI","F","065003","065020"]
[2332133,"MOUTARDE","GARANCE","MI","F","081056","081017"]
[2332920,"SOURGET","BAPTISTE","MI","M","031062","031062"]
[2332937,"PIQUEMAL","BAPTISTE","MI","M","031022","031051"]
[2333348,"BAUDRIT","NOLAN","MI","M","046014","046014"]
[2333642,"DAUBY","MAYLIS","MI","F","031025","031025"]
[2333660,"PIHAN","ERWAN","MI","M","031035","031030"]
[2334258,"BONNEFOUS","JULIETTE","MI","F","031034","031030"]
[2334838,"PERRET","MATHIAS","MI","M","034038","034038"]
[2335767,"CALMELS","FLORIAN","MI","M","031001","031001"]
[2335813,"VIRION","JOSEPHINE","MI","F","011022","011024"]
[2336940,"BELKAID","ANES","MI","M","031025","031025"]
[2337610,"GASPARD","MAELY","MI","F","031004","031004"]
[2337626,"LAVERGNE","PERRINE","MI","F","031004","031004"]
[2337628,"RENOU SAEZ","LEA","MI","F","031004","031004"]
[2338021,"DEWAVRIN","SARAH","MI","F","031034","031030"]
[2338023,"BORDAS","JANE","MI","F","031034","031030"]
[2338314,"SPITZ","CLEA","MI","F","031022","031051"]
[2338316,"LECOCQ","EMMA","MI","F","031022","031051"]
[2338778,"DRAPEAU","MATHILDE","MI","F","031012","031012"]
[2338965,"VACARESSE","AMBRE","MI","F","031022","031051"]
[2340608,"TEYSSIERE VIGNAT","FLORIS","MI","M","034038","034038"]
[2340727,"LE BLOND","QUENTIN","MI","M","031034","031030"]
[2340730,"MASSEAU-LAROCHE","CARLOTTA","MI","F","031034","031030"]
[2340732,"LAUZERAL","LEANE","MI","F","031034","031030"]
[2341209,"ISSOT","CLARA","MI","F","031035","031030"]
[2342110,"COUSSY","THEODORE","MI","M","034466","034066"]
[2342111,"LACRAMPE DE LA FUENTE","JUSTINE","MI","F","034466","034066"]
[2342585,"JALADE","FLAVIEN","MI","M","031046","031030"]
[2342595,"BATLLE","LUCA","MI","M","031046","031030"]
[2342965,"MOKHTAR","SARAH","MI","F","082017","082017"]
[2342997,"DEGUEILLE","ARTHUR","MI","M","009011","009011"]
[2343089,"EISELE","LOUIS","MI","M","082017","082017"]
[2343467,"SENAC","ROMANE","MI","F","065012","065012"]
[2343764,"TRUFLANDIER","RAPHAEL","MI","M","031012","031012"]
[2343769,"TRUFLANDIER","ARMAND","MI","M","031012","031012"]
[2343847,"JOFFRE","GABRIEL","MI","M","031015","031015"]
[2344300,"CHEZE","ELOISE","MI","F","031056","031051"]
[2344461,"DARDE","JULES","MI","M","034021","034021"]
[2345012,"BELREDON","LOUNA","MI","F","012003","012003"]
[2345064,"GEORGET","ROBIN","MI","M","034072","034072"]
[2345407,"RUIZ SABATIER","JEANNE","MI","F","031025","031025"]
[2345788,"TESTU","CHLOE","MI","F","081053","081050"]
[2346140,"PREVOST-JUGE","TAIS","MI","F","031015","031015"]
[2346228,"MARCHAL LOTZ","ALEXIS","MI","M","034038","034038"]
[2347854,"GROLLEAU-VERGNES","MORGANE","MI","F","012003","012003"]
[2347899,"BESSEDE","THOMAS","MI","M","031003","031003"]
[2349069,"MEHEUST","MYLENE","MI","F","011001","011024"]
[2349440,"DELPECH","NINON","MI","F","081051","081061"]
[2349453,"DELPECH","LISE","MI","F","081051","081061"]
[2349463,"DUBOIS","LUKAS","MI","M","012008","012008"]
[2349685,"FAURE","ANNA","MI","F","009011","009011"]
[2349707,"MORIN","LOUISE","MI","F","082017","082017"]
[2349816,"MAZZOUR MALKI","MANAL","MI","F","082017","082017"]
[2349922,"SOULIE","ROBIN","MI","M","082018","082018"]
[2350344,"GOUX-RIVIERE","JEANNE","MI","F","032002","032002"]
[2350847,"GAUTHEY","EMMA","MI","F","031012","031012"]
[2350988,"LARGUIER SAINT-JEAN","LUCAS","MI","M","034457","034457"]
[2351056,"DAUMAS-MENAGER","LOANNE","MI","F","034457","034457"]
[2351471,"MASSOUMOU","HANAE","MI","F","031004","031004"]
[2352016,"ROLET","ALBANE","MI","F","031043","031030"]
[2352017,"FAVARIN","JULIE","MI","F","032002","032002"]
[2352047,"ROUANI","LINA","MI","F","031003","031003"]
[2353133,"LASSUS","DIEGO","MI","M","012005","012005"]
[2353436,"TRIBOT-LASPIERE","ANNA","MI","F","065019","065019"]
[2353608,"LASSALLE","CAMILLE","MI","F","009001","009001"]
[2353996,"DJEFAFLIA","KELLY","MI","F","030008","030008"]
[2354111,"CYGRIMUS","ALEXIA","MI","F","081056","081017"]
[2354120,"BARRES","NOEMIE","MI","F","081056","081017"]
[2354125,"GARNUNG","JULIE","MI","F","081056","081017"]
[2354216,"ILUNGA","GABRIEL","MI","M","030040","030040"]
[2354833,"MOGENOT-PETITFRERE","THOMAS","MI","M","034012","034012"]
[2355305,"BOCQUILLON","CLEMENT","MI","M","031004","031004"]
[2355849,"BAUMANN","PAUL","MI","M","011022","011024"]
[2355948,"RACHAU","CAMILLE","MI","F","034012","034012"]
[2356202,"BEN MECHLIA","MERIEM","MI","F","011016","011024"]
[2357936,"COURDEROT","LOLA","MI","F","030018","030018"]
[2358684,"PATRAC","JEANNE","MI","F","034466","034066"]
[2359047,"REBOUH-ARGUEL","LISA-MARIE","MI","F","034466","034066"]
[2359101,"MARCHAND CHIRI","MATTHIEU","MI","M","034466","034066"]
[2359709,"HANIN","SARAH","MI","F","066027","066032"]
[2359766,"COMMIN-PEREZ","MATHIS","MI","M","030067","030067"]
[2359772,"COMMIN-PEREZ","MILAN","MI","M","030067","030067"]
[2359840,"SALLES","QUENTIN","MI","M","066006","066006"]
[2360167,"BERTRAND FORSTMANN","ELLA","MI","F","081043","081041"]
[2360245,"DUGUET","CHLOE","MI","F","081043","081041"]
[2360490,"ROBERT","MARION","MI","F","081053","081050"]
[2360497,"PERRIARD","LAURA","MI","F","034072","034072"]
[2360710,"DELALANDE","JEANNE","MI","F","031004","031004"]
[2360738,"BLANQUI","MARIE","MI","F","046008","046008"]
[2361796,"SEONNET KAKOU","NIVES","MI","F","011020","011024"]
[2363784,"REMY","QUENTIN","MI","M","030008","030008"]
[2364118,"POTTECK COUTURIER","ETIENNE","MI","M","031025","031025"]
[2364153,"FERRIERE-BERNARD","JADE","MI","F","082014","082014"]
[2364372,"CHARRIER","ELEA","MI","F","031025","031025"]
[2364376,"SALIM","AHMAD","MI","M","081035","081017"]
[2364464,"GALINIE MARTINEZ","LENNY","MI","M","081035","081017"]
[2364666,"ROBIN","SOFIA","MI","F","034466","034066"]
[2364682,"VIALARD","ADELE","MI","F","034466","034066"]
[2364810,"LETHUILLER","ELOISE","MI","F","034466","034066"]
[2365469,"BUSQUERES","FANNY","MI","F","081051","081061"]
[2365512,"SABY PEFONTAN","ROMAIN","MI","M","031022","031051"]
[2367231,"DIGHOUTH","NAOMI","MI","F","012002","012002"]
[2368101,"BENSTITOU","NASSIM","MI","M","031063","031063"]
[2368258,"SOCCOL","PIERRE","MI","M","031063","031063"]
[2368269,"ROCHE","CHARLY","MI","M","030021","030076"]
[2368288,"LAFRANCE","JADE","MI","F","030021","030076"]
[2368292,"WELLS","LAILA MAI","MI","F","065012","065012"]
[2368311,"PLANQUES-BALZAN","ELIOTT","MI","M","031063","031063"]
[2368323,"BOUIN","CLARISSE","MI","F","031063","031063"]
[2368838,"BASCOU TAHAR","JADE","MI","F","034012","034012"]
[2369212,"SORIA","LOUIS","MI","M","030018","030018"]
[2369425,"SPADAFORA","ENZO","MI","M","030060","030076"]
[2369802,"ARGUEL-CLUZEL","MAE","MI","F","012018","012003"]
[2369911,"LE GOURRIEREC","JEANNE","MI","F","034466","034066"]
[2370708,"JARRY-LACOSTE","VICTOR","MI","M","065005","065020"]
[2371817,"FANJEAUD","ANOUCK","MI","F","034466","034066"]
[2371963,"JOULLIE","MARIE","MI","F","030074","030076"]
[2372149,"CABROL-AUCLERT","CHARLES","MI","M","081048","081041"]
[2372286,"LAMOLINAIRIE","EVA","MI","F","082017","082017"]
[2372319,"POUJOL","MANON","MI","F","031001","031001"]
[2372702,"PESARD","TANGUY","MI","M","031003","031003"]
[2372975,"CAILLIVE","LUCILE","MI","F","081017","081017"]
[2373252,"LOQUET ESTEVES","MATHIAS","MI","M","031056","031051"]
[2373270,"MALLON","QUENTIN","MI","M","031056","031051"]
[2373339,"SOUARD","RENAUD","MI","M","032010","032010"]
[2375391,"BOITEL","CHLOE","MI","F","030067","030067"]
[2375822,"DESPATY","ANDREA","MI","F","034457","034457"]
[2376363,"NOCCA","MAYA","MI","F","034021","034021"]
[2376519,"DERE","CELIA","MI","F","030060","030076"]
[2376596,"LEROUX","EVA","MI","F","030021","030076"]
[2377012,"SOURBE","LEOPOLD","MI","M","031056","031051"]
[2377094,"CUQ","GABRIEL","MI","M","065012","065012"]
[2377259,"CAZENAVE","AMELIE","MI","F","065012","065012"]
[2378192,"HANAUER","EVA","MI","F","048007","048006"]
[2378253,"TROUCHE","LAURA","MI","F","012011","012003"]
[2378553,"AZEMAR","LOUISE","MI","F","012018","012003"]
[2378560,"VIALARET JACOB","LILA","MI","F","081048","081041"]
[2378684,"DELMAS","NICOLAS","MI","M","048003","048006"]
[2379613,"CAMIN","FANNY","MI","F","011001","011024"]
[2379736,"CARRERE-CAZABAN","CLEMENCE","MI","F","031042","031042"]
[2380151,"CRES","ELSA","MI","F","030008","030008"]
[2380371,"RODRIGUEZ","ETHAN","MI","M","012005","012005"]
[2380516,"LIEVEN","MATHEO","MI","M","031022","031051"]
[2380535,"HOMBOURGER","LYLOU","MI","F","081056","081017"]
[2380537,"DUFAYET","CLARA","MI","F","031022","031051"]
[2380627,"JUAN","CHARLOTTE","MI","F","031022","031051"]
[2380660,"POLI-VERGNAUD","MARIE-LOU","MI","F","034012","034012"]
[2380763,"MIRC","TONY","MI","M","031034","031030"]
[2380831,"BOUKTIB","ABDELNOR","MI","M","030018","030018"]
[2381582,"SAMPAIO","PABLO-LUCAS","MI","M","032002","032002"]
[2381592,"TCHERTCHIAN","ALINE","MI","F","032002","032002"]
[2381616,"CHEVAL DIT CHERVAL","ANASTASIA","MI","F","065012","065012"]
[2381994,"BOUQUET","LISE","MI","F","048003","048006"]
[2382002,"TARDIEU","LILA","MI","F","048003","048006"]
[2382028,"MULOT","THEO","MI","M","048003","048006"]
[2382049,"BONHOMME","ANOUCK","MI","F","048003","048006"]
[2382189,"ANTOINE","LOUISE","MI","F","081054","081061"]
[2382261,"CERTES","REMI","MI","M","048003","048006"]
[2382270,"ROUVEYRE","ELOUAN","MI","M","048003","048006"]
[2382293,"MORIN","ETHAN","MI","M","048003","048006"]
[2382636,"LAVIGNE","ELORA","MI","F","031025","031025"]
[2382935,"CREBASSA","CHARLOTTE","MI","F","031004","031004"]
[2383008,"RIBBES","LOIC","MI","M","032014","032014"]
[2383664,"MUNDINA","THEA","MI","F","031056","031051"]
[2383783,"MECA","THELMA","MI","F","031056","031051"]
[2384348,"GANON","ALEXANDRE","MI","M","031050","031050"]
[2384945,"YBORRA","HELOISE","MI","F","030074","030076"]
[2385419,"BURDASZEWSKI","JULIE","MI","F","031039","031039"]
[2385428,"BUSCAIL","LEO","MI","M","031039","031039"]
[2385627,"BURLOT","MARINELLA","MI","F","066003","066032"]
[2385736,"LANCRY","JULIA","MI","F","030067","030067"]
[2386152,"BERGOGNE","CLEMENT","MI","M","030074","030076"]
[2386471,"NAZZAR-FONTAN","LISA","MI","F","031012","031012"]
[2387454,"ABRIAL","ELISE","MI","F","031015","031015"]
[2387575,"LAVIT","MATHIEU","MI","M","065012","065012"]
[2388100,"BLANGUERNON","MAILYS","MI","F","031056","031051"]
[2388213,"VEYRON","HUGO","MI","M","065012","065012"]
[2388888,"CHODJAI ROBIN","ESTELLE","MI","F","046008","046008"]
[2388892,"MARTY","NATHAN","MI","M","011004","011024"]
[2389064,"SAQUE-LE CHANU","ANAELLE","MI","F","066027","066032"]
[2389130,"EVRARD","CHARLIE","MI","F","031004","031004"]
[2390361,"RIEUX LOPEZ","YOHAN","MI","M","081056","081017"]
[2390497,"PEREZ","NOAH","MI","M","034038","034038"]
[2390498,"LLOBET","LUCILLE","MI","F","066006","066006"]
[2390499,"LLOBET","JULIEN","MI","M","066006","066006"]
[2390713,"BALLA","KIMY","MI","M","081051","081061"]
[2391379,"BARBE","LEONIE","MI","F","012002","012002"]
[2391629,"CAPDEVIELLE","JULIAN","MI","M","011004","011024"]
[2391871,"GUTIERREZ","EMMA","MI","F","030018","030018"]
[2392137,"ACOSTA","JULIETTE","MI","F","030018","030018"]
[2392198,"ESPIE","EDEN","MI","F","031050","031050"]
[2392231,"ARFEUILLE","ROMANE","MI","F","030059","030059"]
[2392288,"NOUANI","SALOME","MI","F","048007","048006"]
[2392353,"DOMINGUES","METHILDE","MI","F","048007","048006"]
[2392645,"BOUFFART","GABRIEL","MI","M","034068","034068"]
[2392655,"CANONGE","LISA","MI","F","034068","034068"]
[2392692,"GARDEZ","JEANNE","MI","F","034068","034068"]
[2392708,"JARDIN","PAUL","MI","M","034068","034068"]
[2392739,"MELLET","COLOMBE","MI","F","034068","034068"]
[2392742,"MOREAU","LOUKA","MI","M","034068","034068"]
[2392753,"TAILLEUR","LEA","MI","F","034068","034068"]
[2393038,"FATTORI","CLARA","MI","F","030004","030004"]
[2393130,"MENARD","LUCAS","MI","M","031007","031007"]
[2393173,"SANCHEZ SALLELLES","ZOE","MI","F","030040","030040"]
[2393439,"EL ARMI","MERYAM","MI","F","030040","030040"]
[2393469,"FRADIN","LORELINE","MI","F","034473","034473"]
[2393580,"ZOUITER","KALI","MI","F","034473","034473"]
[2393629,"ALIOTTI","MATTEO","MI","M","030004","030004"]
[2393714,"GAYET","PAULINE","MI","F","034466","034066"]
[2393872,"BRUNET","GUILLEM","MI","M","066031","066032"]
[2393885,"PASCUAL","ALEXANDRE","MI","M","066031","066032"]
[2393888,"CIURANA","EMILIE","MI","F","066041","066032"]
[2393905,"SEMPERE","TEO","MI","M","066041","066032"]
[2393916,"TURRADO","THEO","MI","M","066031","066032"]
[2394519,"KHATTOU","SARAH","MI","F","081035","081017"]
[2394716,"BANABILA","INES","MI","F","031025","031025"]
[2395077,"LAMY SIGOIGNET","ALBIN","MI","M","031034","031030"]
[2395751,"SAVERI","PAUL","MI","M","034038","034038"]
[2397037,"GIROD","LENA","MI","F","031004","031004"]
[2397092,"GAULTIER","NOA","MI","M","031004","031004"]
[2398045,"MARION","EVA","MI","F","031025","031025"]
[2398325,"LAVEDAN","SHANA","MI","F","031004","031004"]
[2398589,"CASTAING","JADE","MI","F","034466","034066"]
[2398798,"BELMILOUDI","DAVID","MI","M","034058","034058"]
[2401581,"VERAN","ELSA","MI","F","034012","034012"]
[2401609,"BOSY","MELODY","MI","F","034012","034012"]
[2402468,"PALPACUER","CHARLIE","MI","F","048003","048006"]
[2402514,"DUFFOUR","NOLINE","MI","F","032006","032006"]
[2403062,"RIGAL","NOA","MI","M","034069","034069"]
[2403434,"SINGLAN","NOELIE","MI","F","046008","046008"]
[2404291,"TRONEL","MANON","MI","F","031004","031004"]
[2406014,"MATIGNON","JULIA","MI","F","081048","081041"]
[2406634,"GASSAMA","ONAEDO","MI","F","034454","034066"]
[2407058,"AMMOR","NAELLA","MI","F","065012","065012"]
[2407097,"VAL","ANAIS","MI","F","009011","009011"]
[2407285,"BESSIERES","ALICE","MI","F","048008","048008"]
[2407289,"COGOLUEGNES","ELOISE","MI","F","048008","048008"]
[2408094,"DIAZ-HOSTALIER","THEA","MI","F","081021","081017"]
[2408218,"GALLISSOT","RAULINE","MI","F","048003","048006"]
[2408610,"PROVENZANI","ENZO","MI","M","066027","066032"]
[2408624,"FIGUERES","CAMILLE","MI","F","066027","066032"]
[2408632,"CALATAYUD","LUCAS","MI","M","066027","066032"]
[2409480,"CHANTEREAU","AXELLE","MI","F","012003","012003"]
[2409573,"LEMNIAI","MARWANE","MI","M","030059","030059"]
[2410303,"RUAULT","CAMILLE","MI","F","048008","048008"]
[2410398,"PRANLONG","LUCIE","MI","F","048008","048008"]
[2412613,"DELBECQ","TESSA","MI","F","030018","030018"]
[2412915,"BIZY","TOM","MI","M","048008","048008"]
[2412947,"LEGRAND","SIMON","MI","M","048008","048008"]
[2412958,"RIVIERE","KLERVIE","MI","F","048008","048008"]
[2413250,"LARGEAU","LILA","MI","F","031022","031051"]
[2413834,"CHENIVESSE","CHARLOTTE","MI","F","031004","031004"]
[2414156,"LELEU","YOHNA-NAIMA","MI","F","009002","009002"]
[2416114,"BELMONTE","LEOPOLDINE","MI","F","081017","081017"]
[2416527,"DELMAS","JADE","MI","F","048007","048006"]
[2417194,"CRESTIAN","LILOU","MI","F","082017","082017"]
[2419087,"VOUSSOU","ILANA","MI","F","031042","031042"]
[2419111,"ALIGNAN","LILWENN","MI","F","034062","034062"]
[2419223,"BENYOUNESS HERBA","ISHAK","MI","M","034062","034062"]
[2419299,"DURAND","CHLOE","MI","F","081054","081061"]
[2419301,"GOUBAULT","EMA","MI","F","081054","081061"]
[2419306,"PERTEGAS","SHANICE","MI","F","066027","066032"]
[2419315,"KRUSZYNSKI","ANNA","MI","F","081017","081017"]
[2419524,"BEZIAN","EVAN","MI","M","066003","066032"]
[2419537,"SALOME","ALBAN","MI","M","034062","034062"]
[2419990,"PARADIS-DIJOL","ARSENE","MI","M","034064","034064"]
[2421278,"BEALES","LOLA","MI","F","030074","030076"]
[2422866,"GUIEYSSE","TESSA","MI","F","034055","034055"]
[2423723,"RAGET","MANON","MI","F","032006","032006"]
[2423878,"ASHCROFT","ZACHARY","MI","M","031003","031003"]
[2424576,"BOUKHILI","MANEL","MI","F","031042","031042"]
[2424835,"CULLERIER","ROMANE","MI","F","034038","034038"]
[2424969,"OULES","QUENTIN","MI","M","032002","032002"]
[2425599,"PEUZIAT","PENELOPE","MI","F","030074","030076"]
[2427243,"LAHMOURAT","YASSIM","MI","M","034069","034069"]
[2428577,"DELFINO","GABRIEL","MI","M","034454","034066"]
[2428720,"SIGUIER","LILA","MI","F","031062","031062"]
[2429665,"MANCONE-AYRAL","TESS","MI","F","034068","034068"]
[2430198,"ZAMARA","OILHAN","MI","M","034457","034457"]
[2430231,"MAT","LULLABY","MI","F","030074","030076"]
[2430278,"BOUGUI","VIKY","MI","F","031056","031051"]
[2430665,"RIOLFI","MARCELLO","MI","M","081048","081041"]
[2431184,"AISSAOUI","JOUMANA","MI","F","030004","030004"]
[2432065,"ARPIN","ZELIE","MI","F","031056","031051"]
[2432313,"SOBA","NOEMIE","MI","F","081017","081017"]
[2432584,"BARROIS","FAUSTINE","MI","F","065003","065020"]
[2432927,"BATTIN","NATHAEL","MI","M","082019","082019"]
[2433925,"BALAGUE","LUCA","MI","M","031056","031051"]
[2435000,"RODRIGUEZ TREMOLET","JEREMI","MI","M","048008","048008"]
[2435056,"DURAND-THIRE","LEINA","MI","F","032002","032002"]
[2435387,"KOVTUN","YVAN","MI","M","031043","031030"]
[2435416,"BENMOUSSA","NADINE","MI","F","031004","031004"]
[2437802,"TOURNIER","OSCAR","MI","M","031004","031004"]
[2437818,"ESTHER","CALISTA","MI","F","031004","031004"]
[2438157,"SIMON","ETHAN","MI","M","031043","031030"]
[2438158,"DOMINGUEZ","CAMILLE","MI","F","031043","031030"]
[2438179,"DE GRISARD","ELOISE","MI","F","031043","031030"]
[2438569,"CALMELS-PUJATTE","PABLO","MI","M","031004","031004"]
[2438676,"ALARY","RAPHAEL","MI","M","082017","082017"]
[2438947,"MESMACQUE","MANON","MI","F","082017","082017"]
[2438990,"PAGNIN","LANA","MI","F","082017","082017"]
[2439091,"CAPOT GALEWSKI","VINCENT","MI","M","065005","065020"]
[2439852,"ROGIER","ARIANE","MI","F","031034","031030"]
[2439868,"BUKACZEWSKI","LORIANE","MI","F","031034","031030"]
[2439877,"KEIN","MAYA","MI","F","031034","031030"]
[2439883,"CALVIGNAC","LUCIE","MI","F","031034","031030"]
[2439939,"VALENZUELA MUNOZ","ANASTASSIA","MI","F","012003","012003"]
[2440857,"BOUCHET","LOUANE","MI","F","030074","030076"]
[2440998,"SALAGER","GABRIEL","MI","M","031043","031030"]
[2441104,"BELKHODJA","AYMAN","MI","M","031039","031039"]
[2441478,"DESPEYSSE","EDDY","MI","M","031015","031015"]
[2442224,"DE LAPORTALIERE","JUSTINE","MI","F","031025","031025"]
[2442689,"RIVIERE","ISABELLE","MI","F","081048","081041"]
[2443177,"REYNES","AUGUSTIN","MI","M","034466","034066"]
[2443202,"MOURAN","MAEL","MI","M","065005","065020"]
[2443244,"ALAUZIN","MARTIN","MI","M","034466","034066"]
[2443402,"EL OUARDI","MALIK","MI","M","066003","066032"]
[2443406,"MONT MORO","ROSE","MI","F","031034","031030"]
[2443415,"LEGROS","MAEVA","MI","F","031034","031030"]
[2443456,"SEHIL","KHALED","MI","M","031012","031012"]
[2443464,"GAZAGNES","CHLOE","MI","F","031012","031012"]
[2443553,"RODRIGUEZ CASENAVE","HUGO","MI","M","031004","031004"]
[2443616,"EL MTABAI","SAFIA","MI","F","031004","031004"]
[2443980,"POUJOL","TRISTAN","MI","M","034012","034012"]
[2444159,"GAY","MARGAUX","MI","F","011020","011024"]
[2444346,"HUDE","MARGAUX","MI","F","081048","081041"]
[2444432,"DUPUY","CANDICE","MI","F","031062","031062"]
[2444435,"FONTORBES","CHARLINE","MI","F","031062","031062"]
[2444609,"LANDWERLIN","SEBASTIEN","MI","M","030067","030067"]
[2445567,"BASSET","MARGOT","MI","F","031043","031030"]
[2445638,"PASSET","MARIE","MI","F","030074","030076"]
[2446010,"MILOUD","LINA","MI","F","034038","034038"]
[2446167,"LAFARGE GRESSE","LOUNA","MI","F","081048","081041"]
[2446433,"LASCARAY","VINCENT","MI","M","048123","048123"]
[2446471,"ESCURIER","ROBIN","MI","M","048123","048123"]
[2446589,"OYONO ELLA","SONIA","MI","F","031015","031015"]
[2446590,"OYONO ELLA","SORAYA","MI","F","031015","031015"]
[2446654,"LAPORTE","TOM","MI","M","030008","030008"]
[2446656,"MAATALAH","ALICIA","MI","F","030008","030008"]
[2446671,"DA COSTA","KELYAN","MI","M","030008","030008"]
[2446702,"TRAN","LUC","MI","M","082017","082017"]
[2446743,"VOUJON","CHARLY","MI","M","031056","031051"]
[2446753,"KERDADI","MALIK","MI","M","066003","066032"]
[2446761,"BOURDIEU","LOUISE","MI","F","082017","082017"]
[2446999,"GAUTHERON","FLORIAN","MI","M","031034","031030"]
[2447029,"POUY","ROMAIN","MI","M","065003","065020"]
[2447033,"ABDERRAHMANE","LILYA","MI","F","031062","031062"]
[2447044,"BARUDIO","CELIA","MI","F","012003","012003"]
[2447188,"HELEN","JOAN","MI","M","034036","034036"]
[2447198,"SUCHON","CLEMENT","MI","M","034036","034036"]
[2447233,"THIBAUDEAU","LOLA","MI","F","031039","031039"]
[2447511,"MAGREL","VICTOIRE","MI","F","031004","031004"]
[2447534,"AOURIKA","AHMED","MI","M","030040","030040"]
[2447652,"ANGLES","ELISE","MI","F","031004","031004"]
[2447656,"CHEVALIER","MAXIME","MI","M","031004","031004"]
[2447781,"HARO","LENA","MI","F","031035","031030"]
[2447960,"MOLINA","SOFIAN","MI","M","065003","065020"]
[2448136,"BOUKIOUD","EDEN","MI","F","034466","034066"]
[2448309,"CASAS","LOLA","MI","F","011022","011024"]
[2448320,"CABAILLES","CANDICE","MI","F","011022","011024"]
[2448344,"BATALHA","YANNICK","MI","M","011022","011024"]
[2448394,"BLASZYK","LOIS","MI","F","034064","034064"]
[2448446,"TRIVES","NILS","MI","M","081017","081017"]
[2448497,"DEGAND","LAURA","MI","F","081048","081041"]
[2448499,"MERESSE","LEONTINE","MI","F","081051","081061"]
[2448556,"PEREZ FERRANDO","ISAURE","MI","F","034036","034036"]
[2448849,"DEMARCO","INES","MI","F","081053","081050"]
[2448928,"GBADAMASSI","KELLIA","MI","F","031056","031051"]
[2448931,"GBADAMASSI","SASHA","MI","F","031056","031051"]
[2449255,"DUPUY","THOMAS","MI","M","031004","031004"]
[2449319,"CAZAL","LILY","MI","F","031004","031004"]
[2449332,"GHISLENI","ANAIS","MI","F","031004","031004"]
[2449338,"FOFE","LUCAS","MI","M","031004","031004"]
[2449357,"BROUQUIERES","ROMY","MI","F","030008","030008"]
[2449801,"FALCOMER","LUCIA","MI","F","082017","082017"]
[2449858,"FRECHET","DANIELLE","MI","F","082017","082017"]
[2449988,"ISSANCHOU-ROUBIOU","MAILYS","MI","F","082017","082017"]
[2449990,"MICHEL","KAELIG","MI","M","031043","031030"]
[2450118,"BURET-BOCHAROVA","EVA","MI","F","034038","034038"]
[2450169,"KAWIECKI","MILAN","MI","M","065012","065012"]
[2450183,"CROS","LOUANE","MI","F","012003","012003"]
[2450210,"CAPOZZI MOUSSERON","ANGEL","MI","F","030021","030076"]
[2450229,"SAADOIULAEV","YASMINA","MI","F","031012","031012"]
[2450284,"BARBIER","JADE","MI","F","031056","031051"]
[2450376,"MARRASSE","CELIA","MI","F","031035","031030"]
[2450402,"SIEFER","ROXANE","MI","F","031035","031030"]
[2450412,"BENADEL","ANAIS","MI","F","031035","031030"]
[2450432,"SAGE","CHARLOTTE","MI","F","066003","066032"]
[2450460,"BOUQUIE","LEONIE","MI","F","066003","066032"]
[2450994,"DACOSTA","TIMOTHEE","MI","M","034012","034012"]
[2450999,"CABROL","ANTOINE","MI","M","034012","034012"]
[2451026,"GEOFFROY","SALOME","MI","F","034012","034012"]
[2451037,"BABOU DOAT","LAZLO","MI","M","034012","034012"]
[2451061,"MAZO PIVIDAL","ELIE","MI","M","065003","065020"]
[2451490,"RAVAT","ANAE","MI","F","034012","034012"]
[2451492,"ALLAIN","EMMA","MI","F","034012","034012"]
[2451500,"BREEM","ADELE","MI","F","034012","034012"]
[2451751,"COMBES","CALLIXTE","MI","F","031022","031051"]
[2451854,"PEROLLE","LILY","MI","F","031022","031051"]
[2452210,"COCORDAN","MARGAUX","MI","F","011001","011024"]
[2452228,"LOCOCHE ZABLET","RAPHAEL","MI","M","081051","081061"]
[2452230,"LAISNE","ELIOT","MI","M","031042","031042"]
[2452278,"ALQUIER","ELSA","MI","F","081051","081061"]
[2452299,"ROBIC","ALBAN","MI","M","031042","031042"]
[2452565,"GOUZY MERIC","EMMA","MI","F","009002","009002"]
[2453567,"HURTAUD","ISIS","MI","F","011020","011024"]
[2453599,"ANDRIEU","SOREN","MI","M","011020","011024"]
[2453837,"MARTIN RISSET","TITOUAN","MI","M","081021","081017"]
[2453871,"SCHMITT","MELINA","MI","F","081021","081017"]
[2454122,"GALLARDO","LILIAN","MI","M","030060","030076"]
[2454381,"BORIE-LAURAY","ALBAN","MI","M","032002","032002"]
[2454389,"MARTIN","LUCAS","MI","M","032002","032002"]
[2454479,"MARRAGOU","ZOE","MI","F","031056","031051"]
[2454516,"CREPEAU","ZOELIE","MI","F","048007","048006"]
[2454517,"MANET","CLARA","MI","F","031056","031051"]
[2454536,"ANTONINI OUSTRI","ELLIE","MI","F","031056","031051"]
[2454916,"MENDARO","LUCIE","MI","F","066003","066032"]
[2454936,"VIEGAS-MESQUITA","ELIAN","MI","M","066003","066032"]
[2455135,"BRAHIME-LAHOZ","YANIS","MI","M","030008","030008"]
[2455397,"PARLANGEAU LOPEZ","COLINE","MI","F","031015","031015"]
[2455402,"CARO","AWEN","MI","M","031015","031015"]
[2455407,"BOURNASHEFF","MARTIN","MI","M","031015","031015"]
[2455431,"PAULY","NICOLAS","MI","M","031015","031015"]
[2455806,"LEGOU-LAFFONT","IRIS","MI","F","031025","031025"]
[2455974,"ALGUACIL","HELOISE","MI","F","082014","082014"]
[2456062,"POUPARD","ARTHUR","MI","M","081056","081017"]
[2456065,"MAUDUIT","JADE","MI","F","081056","081017"]
[2456067,"BONNEMAISON VIGUIER","RAFAEL","MI","M","031056","031051"]
[2456155,"ARNAL","CLEMENCE","MI","F","011022","011024"]
[2456216,"SELAMINA-LAPORTE","NINA","MI","F","031003","031003"]
[2456267,"OTTAVIOLI","JUSTINE","MI","F","031025","031025"]
[2456289,"THOMANN","SVEVA","MI","F","031025","031025"]
[2456551,"CAUSSIGNAC","REMI","MI","M","011022","011024"]
[2456573,"BONNARD","AARON","MI","M","011022","011024"]
[2456619,"SINDUHIJE","TESSA","MI","F","031025","031025"]
[2457266,"GUERROUI","NASSIM","MI","M","031056","031051"]
[2457805,"ANDRE","ETHAN","MI","M","066027","066032"]
[2457943,"VOLTIGEUR","ELENA","MI","F","082018","082018"]
[2458017,"PEIRO MARTINEZ","AMBRE","MI","F","081043","081041"]
[2458119,"BORREGO VAS","ALEXIA","MI","F","081051","081061"]
[2458650,"KEUCHEL","HERMANN","MI","M","011022","011024"]
[2459323,"YONGA","MAETHAN","MI","M","031015","031015"]
[2459336,"YONGA","GAYANA","MI","F","031015","031015"]
[2459422,"DEMOUTIERS","AMAURY","MI","M","031015","031015"]
[2460175,"URIZZI","LOUNA","MI","F","032002","032002"]
[2460181,"CANTONNET-PALOQUE","GABRIEL","MI","M","065003","065020"]
[2460201,"COUSIN","MAHAUT","MI","F","032002","032002"]
[2460323,"INGELMO GARCIA","SOFIA","MI","F","031012","031012"]
[2460461,"ORTIGOSA","LOU","MI","F","081017","081017"]
[2460501,"BASTIDE","LOU","MI","F","030040","030040"]
[2460503,"NOBLET","AYMERIC","MI","M","081017","081017"]
[2460571,"SARDA","ISAEE","MI","F","066003","066032"]
[2460711,"CHAUPIN","LOUNA","MI","F","031063","031063"]
[2460797,"LADIER","LUCAS","MI","M","031003","031003"]
[2460857,"COSTEY","ELOAN","MI","M","030004","030004"]
[2460865,"LAPLANTE","EMMA","MI","F","030004","030004"]
[2460911,"LACOMBE","ELISE","MI","F","030021","030076"]
[2460925,"ROUMIEU","LEYNA","MI","F","082017","082017"]
[2461008,"JOUENNE THOREAU","CLEMENCE","MI","F","081043","081041"]
[2461012,"CARRASCO","YAELLE","MI","F","011022","011024"]
[2461136,"CONSUL","NINA","MI","F","031004","031004"]
[2461215,"CUENOT","AMANDINE","MI","F","081021","081017"]
[2461494,"CASACCI","LEA","MI","F","031034","031030"]
[2461979,"SEVERAC","ADELE","MI","F","034038","034038"]
[2462181,"TOUBEAU","ENZO","MI","M","031039","031039"]
[2462359,"MILHAUD","MATHEO","MI","M","081035","081017"]
[2462384,"DAUDE","LUCIE","MI","F","081035","081017"]
[2462425,"BORRAS LEPLAY","FAUSTINE","MI","F","034038","034038"]
[2462426,"HITIER","JOSEPH","MI","M","011016","011024"]
[2462497,"MULLER","BASTIEN","MI","M","012018","012003"]
[2462533,"FAHMI","MANAL","MI","F","034038","034038"]
[2462553,"FAHMI","WALID","MI","M","034038","034038"]
[2462566,"KOUITA","ISMAIL","MI","M","034038","034038"]
[2462581,"BARROIS","NOE","MI","M","065003","065020"]
[2462599,"BOUYSSOU","MAYLIS","MI","F","081051","081061"]
[2462604,"LEROY","ALEXANDRE","MI","M","034038","034038"]
[2462714,"ESCOLA","LAIS","MI","F","030021","030076"]
[2462879,"AUGUSTO","CARLA","MI","F","011001","011024"]
[2463152,"PELISSOU","HELOISE","MI","F","031022","031051"]
[2463903,"BOURDON","MICHAELA","MI","F","065027","065027"]
[2463999,"GUIDICELLI","MANON","MI","F","030008","030008"]
[2464032,"CARILLON","AZALAIS","MI","F","030008","030008"]
[2464042,"ENGSTER","JULIETTE","MI","F","030008","030008"]
[2464043,"OMRI","NAHIL","MI","M","030008","030008"]
[2464057,"SENSIQUET","ELENA","MI","F","030008","030008"]
[2464084,"SBAI","SOFIA","MI","F","034038","034038"]
[2464096,"RAUZY-BERTRAND","MANON","MI","F","009001","009001"]
[2464121,"BELFILALI","MOHAMED","MI","M","011001","011024"]
[2464467,"DELERIS","LOUISE","MI","F","012005","012005"]
[2464589,"BALARD","NOHA","MI","M","012002","012002"]
[2465030,"DUPUY","LISA MARIE","MI","F","065025","065025"]
[2465471,"CERUTTI","ALICIA","MI","F","034064","034064"]
[2465491,"SABRI","ISRAE-JIHANE","MI","F","031042","031042"]
[2465497,"THOMASSIN","MATEO","MI","M","034065","034066"]
[2465512,"FOURNIER LOTH","MARGOT","MI","F","031042","031042"]
[2465570,"ARTIGUES","MORGAN","MI","M","034065","034066"]
[2465637,"ABEL-SALGADO","PETERSON","MI","M","031001","031001"]
[2465848,"FAUSSOT","ANOUK","MI","F","031003","031003"]
[2465863,"ARBERET","LILY","MI","F","031003","031003"]
[2466018,"VIGUIER","LOLA","MI","F","081054","081061"]
[2466183,"PIERRE","OLIVIER","MI","M","032014","032014"]
[2466406,"VERGNOLE","NAIS","MI","F","066003","066032"]
[2466916,"BENZAHZOUH","MARWA","MI","F","031046","031030"]
[2467178,"HOAREAU FIGUEROA","JADE","MI","F","082017","082017"]
[2467547,"TINTET","ANNA","MI","F","065012","065012"]
[2467650,"DALLAS","MAEVA","MI","F","082014","082014"]
[2467804,"LEBON","EMMA","MI","F","031043","031030"]
[2467830,"DEBUSSCHERE","ANAIS","MI","F","009002","009002"]
[2467920,"MENDRAS","LAURA","MI","F","034036","034036"]
[2467923,"ROMANO","INES","MI","F","034036","034036"]
[2468026,"BLOIS","ROMAN","MI","M","081048","081041"]
[2468037,"DESCOURVIERES","PAUL","MI","M","066037","066037"]
[2468138,"LETOURNEUR","ENZO","MI","M","031035","031030"]
[2468202,"BONNET","ANDREAS","MI","M","066027","066032"]
[2468222,"BONNET","DIEGO","MI","M","066027","066032"]
[2468429,"GOLFIER","AUBANE","MI","F","031056","031051"]
[2468828,"MAMBI","SHANELLE","MI","F","030018","030018"]
[2468840,"LEPRUNIER","MARILOU","MI","F","030018","030018"]
[2468908,"KAFFACK KEMDA","MATTEO","MI","M","082017","082017"]
[2469313,"SALGUES","ANGELINA","MI","F","030074","030076"]
[2469464,"REAVAILLE","IZIA","MI","F","081051","081061"]
[2469875,"PAGGI","JULES","MI","M","081054","081061"]
[2470051,"MAZIN","ALBAN","MI","M","009001","009001"]
[2470135,"DUMOULIN","BLANCHE","MI","F","012005","012005"]
[2470243,"VIALAR","CLEMENCE","MI","F","081017","081017"]
[2470748,"PAYET","ELLIOT","MI","M","034473","034473"]
[2471514,"MADKAUD","ZACHARIE","MI","M","082014","082014"]
[2471886,"CARRERE","LEA","MI","F","066003","066032"]
[2472196,"GODAY-MONZA","VALENTINA","MI","F","031050","031050"]
[2472305,"ETOUARIA","NOEMIE","MI","F","031012","031012"]
[2472537,"MENTOR","LOLA","MI","F","066027","066032"]
[2472551,"GOSTIAU","NATHANAEL","MI","M","066027","066032"]
[2473358,"DURA","THOMAS","MI","M","011022","011024"]
[2473627,"CAPARROS","NATHAN","MI","M","034072","034072"]
[2473812,"COUTIAN","ANAIS","MI","F","031039","031039"]
[2473891,"BETOURNE","SOHAN","MI","F","034012","034012"]
[2473951,"FOGELGESANG-CAUVY","AURE","MI","F","012002","012002"]
[2474079,"HODOUIN","LOUANE","MI","F","081035","081017"]
[2474126,"RODRIGUEZ","JEAN","MI","M","031022","031051"]
[2474141,"CHOMAUD","HIPPOLYTE","MI","M","034072","034072"]
[2474179,"MARIS","LOLA","MI","F","065027","065027"]
[2474372,"CHAVIGNER","ANTOINE","MI","M","034072","034072"]
[2474490,"VERGNES","SOLENE","MI","F","012018","012003"]
[2474541,"PENNOGNON","CAMILLE","MI","F","031025","031025"]
[2474593,"LE CALVE PELLETIER","GAIA","MI","F","032010","032010"]
[2474640,"MICHELIN","LORIS","MI","M","034038","034038"]
[2474674,"VACHERY","EMMY","MI","F","034038","034038"]
[2474731,"MORANT","ROSE","MI","F","034038","034038"]
[2474953,"BARLIER","JANELLE","MI","F","065012","065012"]
[2475017,"MONDET","CAMILLE","MI","F","065012","065012"]
[2475141,"LEROY","NATEO","MI","M","034454","034066"]
[2475144,"HBAROU","NISRINE","MI","F","034454","034066"]
[2475373,"JEAN-BLASZYK","ARTHUR","MI","M","034072","034072"]
[2475543,"HARTMANN","LORYS","MI","M","031022","031051"]
[2475809,"ROSSELL","ELISA","MI","F","031025","031025"]
[2475828,"MADY","PAUL","MI","M","034062","034062"]
[2475850,"DEAK","ETIENNE","MI","M","034062","034062"]
[2475863,"THIOR","HAROMA","MI","M","034062","034062"]
[2475998,"FRENAY","KAYLIAH","MI","F","031022","031051"]
[2476014,"GINESTE","ISAURE","MI","F","031022","031051"]
[2476160,"GAUDEFROY","ELISE","MI","F","031022","031051"]
[2476250,"LOUP","THOMAS","MI","M","034021","034021"]
[2476308,"BERTHAUD","EMIE","MI","F","034021","034021"]
[2476448,"MOLLET","LIA","MI","F","046012","046012"]
[2476866,"MOREIRA","LUCIA","MI","F","030021","030076"]
[2476911,"QUEHAN","CLEMENTINE","MI","F","031046","031030"]
[2476912,"DUMONT MESTRE","YOANN","MI","M","030004","030004"]
[2476981,"FAGET","JUSTIN","MI","M","032006","032006"]
[2477004,"CHATER","SANA","MI","F","030008","030008"]
[2477083,"BESSIERE PETZOLD","ANDREAS","MI","M","031004","031004"]
[2477142,"HARAKATTE","SOFIA","MI","F","030008","030008"]
[2477247,"ROZIER","GABRIEL","MI","M","066028","066032"]
[2477366,"RUIZ","LEA","MI","F","066006","066006"]
[2477882,"DUBARD","NOA","MI","M","046012","046012"]
[2477886,"FENEANT","ABIGAELLE","MI","F","046012","046012"]
[2477894,"RIVAGE","HELEANE","MI","F","046012","046012"]
[2477905,"TAURAN","ELISE","MI","F","046012","046012"]
[2477925,"JONES","JEREMY","MI","M","046012","046012"]
[2478029,"SACILOTTO GIL","LUCAS","MI","M","030003","030003"]
[2478718,"ROUXEL","ANATOLE","MI","M","030067","030067"]
[2478722,"PILLODS","ROMANE","MI","F","030067","030067"]
[2478830,"KEMAJOU","BERGELINE","MI","F","031015","031015"]
[2479125,"MAZENC","MARINE","MI","F","065012","065012"]
[2479239,"BELLANGER","NORAH","MI","F","031034","031030"]
[2479288,"CAUSSIGNAC","MATHILDE","MI","F","031025","031025"]
[2479416,"GRIMAUD","EVAN","MI","M","081052","081050"]
[2479493,"CARALP","LEA","MI","F","009011","009011"]
[2479581,"ESPINASSE","CAMILLE","MI","F","012013","012003"]
[2479617,"ROIG","JOHANN","MI","M","081055","081017"]
[2479679,"CASTANY","LORENZO","MI","M","066006","066006"]
[2479941,"BILLES","MATEO","MI","M","066028","066032"]
[2479951,"BOYER","SASCHA-DOAN","MI","M","066028","066032"]
[2480061,"VIVAS","MIGUEL","MI","M","009002","009002"]
[2480106,"ETCHEBES","ELISE","MI","F","031056","031051"]
[2480362,"GUEDICHI","CAMILIA","MI","F","030021","030076"]
[2480689,"TOURE","ZOE","MI","F","066006","066006"]
[2481264,"HARPON","MARYSSA","MI","F","030004","030004"]
[2481387,"FRANCE OLLIANG MENYE","MAELIE","MI","F","081051","081061"]
[2481453,"MEISSONNIER","EMMA","MI","F","030008","030008"]
[2481652,"GOMEZ","CLARA","MI","F","066027","066032"]
[2481708,"DESGREZ","JULIETTE","MI","F","031009","031009"]
[2481981,"BURNS","CHLOE-GRACE","MI","F","031004","031004"]
[2482841,"ROUTELOUS","NATACHA","MI","F","065017","065020"]
[2483184,"ANDRE COSSOU","JULIETTE","MI","F","031008","031008"]
[2483215,"CHARLOT","LOUANE","MI","F","031022","031051"]
[2483260,"STOELEN-RULL","FLAVIE","MI","F","066003","066032"]
[2483269,"GAUDRY","NYLA","MI","F","048008","048008"]
[2483579,"BOUCHAMAMA","NASSIM","MI","M","011022","011024"]
[2483592,"BEUNARD","LOUCA","MI","M","030021","030076"]
[2483606,"FRAISSE","SARAH","MI","F","030021","030076"]
[2483782,"DREYER","LORIC","MI","M","034058","034058"]
[2483932,"POLLET","GASPAR","MI","M","032002","032002"]
[2484324,"KONTOUKAS","SOLAL","MI","M","030004","030004"]
[2484464,"JOURDAIN","SARAH","MI","F","034038","034038"]
[2484480,"FOISSAC","CHARLOTTE","MI","F","046012","046012"]
[2484498,"PAOLINI","PAUL","MI","M","031042","031042"]
[2484528,"JALABERT","CLEMENCE","MI","F","012002","012002"]
[2484588,"ALAOUI","MELYNE","MI","F","012002","012002"]
[2484821,"OULHAJ","ILYAS","MI","M","034062","034062"]
[2484968,"GINESTET","KYRIAN","MI","M","012018","012003"]
[2485028,"FAUCONNIER","NAIS","MI","F","030021","030076"]
[2485040,"DAUNOIS","HELOISE","MI","F","031022","031051"]
[2485092,"THOMAS","LEONA","MI","F","012013","012003"]
[2485235,"TROTIER","MAELICE","MI","F","066037","066037"]
[2485331,"PAGES","MAILYS","MI","F","082018","082018"]
[2485480,"REVERDY-NOVEL","BIANCA","MI","F","034072","034072"]
[2486395,"JOUSLIN","EDEN","MI","M","034012","034012"]
[2486556,"BRUZZONE","JEANNE","MI","F","034058","034058"]
[2486627,"COULON","MEHDI","MI","M","031050","031050"]
[2487634,"FORT","INES","MI","F","066035","066032"]
[2487700,"FORTEROY","TAYINA","MI","F","031055","031055"]
[2487714,"ALBOS","CHLOE","MI","F","031055","031055"]
[2487737,"DE FALETANS","ILANG","MI","F","030060","030076"]
[2487796,"DE-OLIVERA","EVA","MI","F","031003","031003"]
[2487880,"CONQUET","JADE","MI","F","012005","012005"]
[2488111,"SENAC","ELEA","MI","F","065012","065012"]
[2488141,"BORIES","ELEANE","MI","F","046008","046008"]
[2488168,"AUBER DEBELLE","SYBILE","MI","F","046008","046008"]
[2488604,"ENNAHAS ABDELLAOUI","ILYAS","MI","M","034466","034066"]
[2489010,"JACOBERGER","ALAIS","MI","F","034068","034068"]
[2489026,"REBOUL","JULIETTE","MI","F","034068","034068"]
[2489132,"MAGNERON","ERNEST","MI","M","081017","081017"]
[2489138,"CAVAGNOUX","BAHIA","MI","F","081017","081017"]
[2489150,"MARTIN","THELMA","MI","F","081017","081017"]
[2489187,"WDOWIK","CHARLOTTE","MI","F","081047","081041"]
[2489261,"HERY-LEMERLE","MALO","MI","M","081047","081041"]
[2489483,"DELVA","MARIE","MI","F","011020","011024"]
[2489518,"PILO","MATHEO","MI","M","011020","011024"]
[2489675,"EL HADRI","INTISAR","MI","F","066028","066032"]
[2489794,"JOUJOUX","BRAHIM","MI","M","034038","034038"]
[2490103,"LUGAGNE DELPON","NICOLAS","MI","M","034466","034066"]
[2490111,"HADDOUTI","LINA","MI","F","034466","034066"]
[2490158,"EL GHOUL","ILIAS","MI","M","031043","031030"]
[2490186,"MURGUE","CLARA","MI","F","034068","034068"]
[2490470,"OUCHEN","EMMA","MI","F","034068","034068"]
[2490554,"FOURNIER","SHAYNA","MI","F","034055","034055"]
[2491072,"MONMAYRANT","ANTONIN","MI","M","065005","065020"]
[2491083,"CORNELIS","ELIA","MI","F","034072","034072"]
[2491146,"PROM","CLARA-LILA","MI","F","031007","031007"]
[2491914,"TOURE","RAYANE","MI","M","031042","031042"]
[2492204,"BALLESTERO","LENA","MI","F","066006","066006"]
[2492356,"CALVET","EMY","MI","F","066006","066006"]
[2492496,"VARONA","ANNA","MI","F","009001","009001"]
[2492506,"GIRAULT","AMANDINE","MI","F","009001","009001"]
[2492731,"ESTINGOY","EUGENIE","MI","F","031012","031012"]
[2492831,"ALBRIZIO","JULIA","MI","F","030003","030003"]
[2492956,"MICHEL","LILY-ROSE","MI","F","011022","011024"]
[2492990,"MRANI-BONHOMME","MAHYL","MI","M","031056","031051"]
[2493002,"TOURE","KEVIN","MI","M","030008","030008"]
[2493026,"DIETTE-BLAS","NILS","MI","M","031046","031030"]
[2493111,"SALLES","JULIE","MI","F","030059","030059"]
[2493448,"BENAZIZ","YASMINE","MI","F","048007","048006"]
[2493716,"MOULIN","SACHA","MI","M","066027","066032"]
[2494091,"CHEVREL","ENZO","MI","M","011020","011024"]
[2494317,"VERDEAU-BORNE","MARGAUX","MI","F","031022","031051"]
[2494564,"LEPINEC","EVANN","MI","M","081043","081041"]
[2494689,"GHIDINI","CASSANDRA","MI","F","048004","048006"]
[2494725,"BEAL","CHARLOTTE","MI","F","048004","048006"]
[2494764,"ZOUHRI","ZINEB","MI","F","030040","030040"]
[2494788,"SOYER","JULIETTE","MI","F","031022","031051"]
[2495074,"PAVADEPOULLE","YARA","MI","F","030059","030059"]
[2495345,"BARTOLO DIAZ","QUERALT","MI","F","066037","066037"]
[2495466,"GASSAB","ZINEDINE","MI","M","031063","031063"]
[2495468,"GASSAB","ISMAEL","MI","M","031063","031063"]
[2495476,"LAGALY","JULIETTE","MI","F","031063","031063"]
[2495483,"SYLLA","ALARIC","MI","M","031063","031063"]
[2495491,"GUILLEMIN-ALIX","ELISE","MI","F","031063","031063"]
[2495495,"FONTANET","NINA","MI","F","031063","031063"]
[2495719,"MAGNIEN","ACHILLE","MI","M","048007","048006"]
[2495933,"MILLOCHAU","GABIN","MI","M","034466","034066"]
[2496027,"FELIX","DEVA","MI","F","030074","030076"]
[2496064,"LARRIEU","EMMA","MI","F","031003","031003"]
[2496218,"SIMON","LAURA","MI","F","066003","066032"]
[2496324,"SANCHEZ","JANELLE","MI","F","046008","046008"]
[2496472,"SCHWARTZ","ELOISE","MI","F","034072","034072"]
[2496879,"LARROQUE","LISE","MI","F","082017","082017"]
[2496880,"LARROQUE","ANNA","MI","F","082017","082017"]
[2497045,"ROME-GUSTO","SAMAEL","MI","M","081035","081017"]
[2497100,"LAFAYE","ELODIE","MI","F","031009","031009"]
[2497118,"AKOTO-BLANQUET","ISIS","MI","F","031009","031009"]
[2497185,"THIEFFINNE","QUENTIN","MI","M","034457","034457"]
[2497257,"DULYS","ISIAH","MI","M","034069","034069"]
[2497335,"TRINQUECOSTES","LEANE","MI","F","081021","081017"]
[2497448,"LENCLOS","SARAH","MI","F","031034","031030"]
[2497747,"LEONARD","RONAN","MI","M","034466","034066"]
[2497983,"MENDAS","MOHAMED-AMINE","MI","M","031042","031042"]
[2498505,"JEANNIN","ROBIN","MI","M","046008","046008"]
[2498748,"LAAZAOUI","LOUISE","MI","F","031008","031008"]
[2498990,"RIEU VERDIER","MAXENCE","MI","M","030018","030018"]
[2499158,"BOUSQUET","CHARLOTTE","MI","F","066006","066006"]
[2499790,"GUY","CAMILLE","MI","F","034068","034068"]
[2499861,"ZOE","MEUNIER-ROGER","MI","F","034058","034058"]
[2499905,"GANEL","ALEXANDRA","MI","F","034069","034069"]
[2499993,"PIEKARZ","ANTOINE","MI","M","034064","034064"]
[2500619,"PRATO","CELYA","MI","F","034454","034066"]
[2500623,"JARIDANE","IMAD","MI","M","034454","034066"]
[2501058,"THOMAS","ENZO","MI","M","066031","066032"]
[2501157,"FRANCES","EVA","MI","F","034454","034066"]
[2501235,"RIMA","TONY","MI","M","031001","031001"]
[2501246,"BILLOTTE","AMBRE","MI","F","034466","034066"]
[2501300,"EL GHAZA","YASMINE","MI","F","034038","034038"]
[2501479,"FRANCA","ANDY","MI","M","046008","046008"]
[2501678,"DIAS GUIMARAES","SAVAHNA","MI","F","082014","082014"]
[2501683,"KIHN","AMELIE","MI","F","082014","082014"]
[2501686,"NOUGAYREDE","NAEL","MI","M","082014","082014"]
[2501716,"FAURE","ROMANE","MI","F","011022","011024"]
[2501759,"ROULET","TITOUAN","MI","M","031004","031004"]
[2502503,"SALMON","ALBAN","MI","M","082017","082017"]
[2502990,"ANAKI","SIHAM","MI","F","030018","030018"]
[2503792,"MEXE","MILA","MI","F","081054","081061"]
[2503793,"LAM","MARGUERITE","MI","F","081054","081061"]
[2503825,"CALDERON","DORIAN","MI","M","066035","066032"]
[2504126,"GUYOMAR","LOU","MI","F","046012","046012"]
[2505208,"AFELLAD","KARIMA","MI","F","066003","066032"]
[2505829,"ROBERT","MARTIN","MI","M","034068","034068"]
[2506448,"PIQUES","ROMANE","MI","F","034454","034066"]
[2506640,"STYLIATIS","LEONIDAS","MI","M","066006","066006"]
[2507289,"MARTY","ELISA","MI","F","012018","012003"]
[2507409,"BONO","FLORENCIA","MI","F","066027","066032"]
[2507548,"HASNOUNI","NAEL","MI","M","034466","034066"]
[2507583,"RUNG","MAELLE","MI","F","034068","034068"]
[2507622,"MARTY","SUZIE","MI","F","031015","031015"]
[2507791,"LAUR-SMAINE","KYLIE","MI","F","081051","081061"]
[2507806,"FROMENT","JULES","MI","M","081051","081061"]
[2507876,"GOUDADI","ACHRAF","MI","M","030008","030008"]
[2508377,"YONLI","YLAN","MI","M","034466","034066"]
[2508434,"FIKRI","MANELLE","MI","F","031046","031030"]
[2508450,"DION","ALIETOBONOU ELSA","MI","F","046012","046012"]
[2508452,"BOURGEOIS","JULIE","MI","F","046012","046012"]
[2508643,"RAYSSAC","JULIA","MI","F","012003","012003"]
[2508674,"COTTEAU","LISA","MI","F","082017","082017"]
[2508814,"CROUZET","MIA","MI","F","030021","030076"]
[2509035,"GUIGNARD","CLOE","MI","F","034466","034066"]
[2509177,"GUISELIN","NATHAN","MI","M","030008","030008"]
[2509530,"EL BAHLAOUI","SORIANE","MI","F","031063","031063"]
[2509607,"HOCINE","LOUNA","MI","F","031034","031030"]
[2509788,"MONTIALOUX","ENZO","MI","M","048008","048008"]
[2509917,"ROMAN","VALENTIN","MI","M","048004","048006"]
[2510099,"CORDOVA BERARD","SARAH","MI","F","034466","034066"]
[2510172,"ANDRIEU","ANTONIN","MI","M","082017","082017"]
[2510238,"MIDON","ANTONIN","MI","M","048008","048008"]
[2510271,"RAMBAUT","INES","MI","F","081017","081017"]
[2510629,"PHILIPON","ARTHUR","MI","M","009011","009011"]
[2510641,"BALDE","DIENABOU","MI","F","034466","034066"]
[2510966,"MASSAT","AMELYA","MI","F","031050","031050"]
[2511026,"BOUKOUFI","ETHAN","MI","M","034062","034062"]
[2511080,"TORRES","MAEVA","MI","F","012005","012005"]
[2511323,"COLOMBA","CHARLINE","MI","F","031042","031042"]
[2511346,"DURBAIN","PAUL","MI","M","009011","009011"]
[2511525,"BARRATTINI","JEREMI","MI","M","065017","065020"]
[2511617,"MANDIN","LAUREN","MI","F","082017","082017"]
[2511815,"HASSID","CARLA","MI","F","011022","011024"]
[2511957,"NICOLET-REY","CELIA","MI","F","034466","034066"]
[2511965,"PLANES BASSETTI","LILOU","MI","F","034466","034066"]
[2512321,"MAZARS","LOANE","MI","F","046012","046012"]
[2512517,"BONNET","LEO","MI","M","081054","081061"]
[2512800,"GABOUA-SOUPENNE","ENIOLA","MI","F","034466","034066"]
[2512810,"GHEZIEL","YASMINE","MI","F","034466","034066"]
[2513274,"RAYNAUD","VICTOR","MI","M","031001","031001"]
[2513316,"PUAUD","TIMEO","MI","M","065005","065020"]
[2514603,"BEZAMAT","ANTOINE","MI","M","031003","031003"]
[2514648,"PATON-SANCHEZ","EMMA","MI","F","030067","030067"]
[2514892,"PUJOL","NOEMIE","MI","F","030018","030018"]
[2514991,"BONNARD","BAPTISTE","MI","M","082017","082017"]
[2515030,"BRAULT","ANTOINE","MI","M","034068","034068"]
[2515037,"MAZOUZI","DJIBRIL","MI","M","034068","034068"]
[2515464,"PAES","JOHANA","MI","F","066027","066032"]
[2515523,"ARCA","THALIA","MI","F","031034","031030"]
[2515542,"MARTINEZ","FRANCISCO","MI","M","065027","065027"]
[2515544,"DUPREUILH NIETO","OHIANA","MI","F","065027","065027"]
[2515799,"DUPRE","CLARA","MI","F","034466","034066"]
[2516424,"MARSAL-VINCI","SASHA","MI","M","034062","034062"]
[2516521,"CHAHBOUNE","INES","MI","F","034476","034476"]
[2516746,"BONFORT","CLEMENCE","MI","F","030003","030003"]
[2517044,"PLA-NOU","LOUISE","MI","F","034038","034038"]
[2517348,"PONT-BAPTISTE","KYLLIAN","MI","M","032006","032006"]
[2517890,"ROPERS","LOWEN","MI","M","081051","081061"]
[2517970,"SABADIE","ELSA","MI","F","011001","011024"]
[2518084,"BESNARDIERE","NOHA","MI","M","034058","034058"]
[2518306,"GARCIA","ERWAN","MI","M","034021","034021"]
[2518417,"BARRA","ILYES","MI","M","030059","030059"]
[2518976,"LASSERRE-GRASTILLEUR","PAOLA","MI","F","011021","011024"]
[2519082,"FERRIGNO","MANON","MI","F","031015","031015"]
[2519329,"AMEKRANE","MOHAMED","MI","M","011001","011024"]
[2519506,"MUNABE KAMBALA","MAISHA","MI","F","030040","030040"]
[2519555,"SIE","ANNA","MI","F","011004","011024"]
[2519629,"CHAUTARD","HANAE","MI","F","081035","081017"]
[2520181,"VALLES","GAETANE","MI","F","048003","048006"]
[2520183,"REVERSAT","SELENA","MI","F","048003","048006"]
[2520184,"GERVAIS","AGLAE","MI","F","048003","048006"]
[2520556,"BALLINI","SIMON","MI","M","009002","009002"]
[2520852,"CHOUZENOUX","LILY","MI","F","030067","030067"]
[2520925,"BRAHIMI-ARNAUD","JADE","MI","F","030004","030004"]
[2520990,"COSTES","SARA","MI","F","031004","031004"]
[2520992,"BERTY","EVA","MI","F","031004","031004"]
[2520997,"GONDARD LASBATS","LUCY","MI","F","031004","031004"]
[2521103,"RIFI","MARYAM","MI","F","011022","011024"]
[2521262,"BAZAUD","EMILIE","MI","F","031056","031051"]
[2521386,"MONGENIE","LYZE","MI","F","082014","082014"]
[2521395,"LOPEZ","LOU","MI","F","034018","034062"]
[2521537,"COENDERS","LENA","MI","F","009002","009002"]
[2521727,"CARACOTTE","LILLY-ROSE","MI","F","011022","011024"]
[2521751,"MERCADAL","ILIAN","MI","M","031015","031015"]
[2521843,"REFALO","LOAN","MI","M","031012","031012"]
[2522111,"DESROCHES","JADE","MI","F","066003","066032"]
[2523005,"FOURMENT","LOUISE","MI","F","011001","011024"]
[2523296,"ANTONA-SUZUKI","TAE","MI","F","031010","031051"]
[2523545,"GERSON","LUCAS","MI","M","031015","031015"]
[2523649,"DORCE","SOLAL","MI","M","048123","048123"]
[2523702,"DAFFE","OUMAR","MI","M","081048","081041"]
[2523846,"DUVIOL","HUGO","MI","M","034058","034058"]
[2524558,"REVILLON","MYLENE","MI","F","034038","034038"]
[2524564,"VERNEDE","RACHEL","MI","F","034068","034068"]
[2524576,"ARABATE","RYAN","MI","M","081048","081041"]
[2524719,"PRIVAT","MARIE","MI","F","031004","031004"]
[2524759,"VISCARDI","MATHEO","MI","M","034055","034055"]
[2524796,"MARABELLE","MARTIN","MI","M","046008","046008"]
[2525123,"AICHAOUI","WACIM","MI","M","009001","009001"]
[2525161,"VEGA","ANA","MI","F","011001","011024"]
[2525162,"BEC--OPIC","CHLOE","MI","F","011001","011024"]
[2525332,"GAVO","INRI GERMAIN","MI","M","082017","082017"]
[2525356,"HAZIZA--ELBE","MATIS","MI","M","066003","066032"]
[2525433,"MOUSSAOUI","SOFIA","MI","F","011020","011024"]
[2525557,"DABBOUH","NAIMA","MI","F","034038","034038"]
[2525832,"CRESPIN","NOEMIE","MI","F","048003","048006"]
[2525837,"DANSAN","JEANNE","MI","F","032006","032006"]
[2525889,"TORRES","NOAH","MI","M","012003","012003"]
[2526908,"GIGOUT-PORTALE","THALYA","MI","F","034072","034072"]
[2527315,"CAILLAU","FIONA","MI","F","030004","030004"]
[2527331,"BURLOT","CHEMSYA","MI","F","030008","030008"]
[2527547,"AMEUR","NESRINE","MI","F","012002","012002"]
[2527779,"KMIR","EVA","MI","F","030004","030004"]
[2528113,"ATIQ JABRI","YOUSSEF","MI","M","081048","081041"]
[2528114,"CARRA","EMMA","MI","F","081048","081041"]
[2528334,"LEGENTIL-LECAS","LOUNA","MI","F","034012","034012"]
[2528460,"ESTINGOY","EMILIEN","MI","M","031012","031012"]
[2528992,"CORTIER","JUSTINE","MI","F","031015","031015"]
[2529069,"DEHIMI","LINA","MI","F","034466","034066"]
[2529214,"VERGNAUD","MAXIME","MI","M","031003","031003"]
[2529377,"VIDAL","MATTHIAS","MI","M","030018","030018"]
[2529664,"BENCHIMOL","GABRIEL","MI","M","031050","031050"]

{"sheet":"PARAMETRES","index":9,"n_rows":16,"n_cols":16,"rows_kept":16,"cut":false,"hidden":true,"merged":[]}
["Epreuve F","LOGICA","Epreuve M","LOGICA","Epreuve F","LOGICA","Epreuve M","LOGICA","Epreuve F","LOGICA","Epreuve M","LOGICA","Epreuve F","LOGICA","Epreuve M","LOGICA"]
["80m",108,"80m",108,"50m",104,"50m",104,"50m Salle",105,"50m Salle",105,"50m Salle",105,"50m Salle",105]
["120m",112,"120m",112,"50m haies",321,"50m haies",321,"50m haies  Salle",301,"50m haies Salle",302,"50m haies Salle",301,"50m haies Salle",302]
["80m haies",308,"100m haies",310,"1000m",210,"1000m",210,"3000m marche Salle",953,"3000m marche Salle",953,"2000m marche Salle",952,"2000m marche Salle",952]
["200m haies",326,"200m haies",326,"2000m marche",902,"2000m marche",902,"Poids (3 kg)  Salle",653,"Poids (4 kg) Salle",654,"Poids (2 kg) Salle",652,"Poids (3 kg) Salle",653]
["1000m",210,"1000m",210,"Hauteur",501,"Hauteur",501,"Hauteur Salle",511,"Hauteur Salle",511,"Hauteur Salle",511,"Hauteur Salle",511]
["2000m",220,"2000m",220,"Perche",502,"Perche",502,"Perche Salle",522,"Perche Salle",522,"Perche Salle",522,"Perche Salle",522]
["3000m marche",903,"3000m marche",903,"Longueur",503,"Longueur",503,"Longueur Salle",513,"Longueur Salle",513,"Longueur Salle",513,"Longueur Salle",513]
["Hauteur",501,"Hauteur",501,"Triple saut",504,"Triple saut",504,"Triple saut Salle",514,"Triple saut Salle",514,"Triple saut Salle",514,"Triple saut Salle",514]
["Perche",502,"Perche",502,"Poids (2 kg)",602,"Poids (3 kg)",603]
["Longueur",503,"Longueur",503,"Disque (0.6 kg)",616,"Disque (1.0 kg)",610]
["Triple saut",504,"Triple saut",504,"Marteau (2 kg)",632,"Marteau (3 kg)",633]
["Poids (3 kg)",603,"Poids (4 kg)",604,"Javelot (400 g)",640,"Javelot (500 g)",650]
["Disque (0.8 kg)",608,"Disque (1.2 kg)",612]
["Marteau (3 kg)",633,"Marteau (4 kg)",634]
["Javelot (500 g)",650,"Javelot (600 g)",660]