{"text_format":"1","workbook":"xlsx","n_sheets":11,"sheets":["Notice","MINIMES ESTIVAL","BENJAMINS ESTIVAL","MINIMES HIVERNAL","BENJAMINS HIVERNAL","Relais_BE","Relais_MI","engagement jury","verif_reglement","Licenciés","PARAMETRES"],"not_rendered":{"charts":0,"images":10,"macros":1,"external_links":0,"defined_names":4,"comments":0,"pivot_tables":0},"unopened":[],"bounds":{"document_bytes":16777216,"sheet_cells":100000,"rows_first":2000,"rows_last":500,"rows_between":2000,"halvings":0,"cell_chars":16384,"cell_head_chars":4096},"cells_cut":0,"cells_raw":0,"read":"whole","date_system":"1900"}

{"sheet":"Notice","index":0,"n_rows":106,"n_cols":21,"rows_kept":106,"cut":false,"hidden":false,"merged":[[8,17,9,17],[0,0,1,13],[2,17,5,17],[2,19,5,19],[2,20,5,20],[6,17,7,17],[6,19,7,19],[6,20,7,20]]}
["Equip'athlé - Notice d'utilisation du fichier d'engagement"]
[null,null,null,null,null,null,null,null,null,null,null,null,null,null,null,null,null,"Version","Description","Date","Auteur"]
[null,null,null,null,null,null,null,null,null,null,null,null,null,null,null,null,null,"0.1","Amélioration de l'outil fédéral","2022-04-01","CDA31"]
["Présentation des onglets du fichier :",null,null,null,null,null,null,null,null,null,null,null,null,null,null,null,null,null,"Inscription par numéro de licence"]
[null,null,null,null,null,null,null,null,null,null,null,null,null,null,null,null,null,null,"Vérification des engagements sur les triathlons"]
[null,null,null,null,null,null,null,null,null,null,null,null,null,null,null,null,null,null,"Vérification de la contrainte 5 athlètes par épreuve"]
[null,null,null,null,null,null,null,null,null,null,null,null,null,null,null,null,null,"1.0","Ajout de la notice et de l'engagement de plusieurs relais","2022-05-01","CDA31"]
[null,null,null,null,null,null,null,null,null,null,null,null,null,null,null,null,null,null,"Modification de la macro pour l'export logica : création de fichiers txt plutôt qu'enregistrer sous le fichier)"]
[null,null,null,null,null,null,null,null,null,null,null,null,null,null,null,null,null,"1.1","Ajout de la vérification du règlement lorsqu'un athlète fait 2 épreuves","2023-05-01","CDA31"]
[null,null,null,null,null,null,null,null,null,null,null,null,null,null,null,null,null,null,"Ajout de l'onglet \"engagement jury\""]
[]
[]
[]
[]
["Seuls les onglets en jaune \"MINIMES ESTIVAL\", \"BENJAMINS ESTIVAL\",  \"Relais_BE\", \"Relais_MI\" et \"engagement jury\" doivent être complétés par les clubs"]
["Dans ces onglets, les cellules à compléter sont colorées en jaune. Les cellules en blanc contiennent des formules. Elles seront complétées automatiquement."]
["/!\\  Ne pas renommer les onglets en jaune"]
[]
["Inscription des équipes :"]
[]
["Les onglets en jaune \"MINIMES ESTIVAL\" et \"BENJAMINS ESTIVAL\" fonctionnement de manière similaire."]
["Le fonctionnement est présenté ci-dessous :"]
[]
[]
[]
[]
[]
[]
[]
[]
[]
[]
[]
[]
[]
[]
[]
[]
[]
[]
[]
[]
[]
[]
[]
[]
[]
[]
[]
[]
[]
["Inscription des relais :"]
[]
["Les onglets \"Relais_BE\" et \"Relais_MI\" permettent l'inscription des différents relais. Pour équip'athlé, il est possible d'inscrire plusieurs relais mixtes. Le relais rapportant le plus de points sera pris en compte pour l'équipe."]
["Les deux onglets fonctionnent de la même manière :"]
[]
[]
[]
[]
[]
[]
[]
[]
[]
[]
[]
[]
[]
[]
[]
[]
[]
[]
[]
[]
[]
[]
["Vérification du nombre d'athlète par catégorie et par sexe"]
["L'onglet \"verif_reglement\" permet d'un coup d'œil de savoir combien d'athlètes sont inscrit par épreuve, par catégorie et par sexe"]
["L'ensemble des compteurs se mettent automatiquement en jour en fonction des inscriptions réalisées dans les onglet \"MINIMES ESTIVAL\" et \"BENJAMINS ESTIVAL\""]
["S'il y a plus de 5 athlète par épreuve pour une même catégorie et un même sexe, le chiffre s'affichera en rouge. Cela indique que le règlement equip'athlé n'est pas respecté."]
["Dans ce cas, merci de revoir les inscriptions avant de les envoyer pour se mettre en confirmité avec le règlement."]
[]
[]
[]
[]
[]
[]
[]
[]
[]
[]
[]
[]
[]
[]
[]
[]
[]
[]
[]
[]
[]
[]
["Engagement du jury"]
["Remplir toutes les cellules, si un juge n'est pas licencié, marquer \"NL\" dans la colonne licence"]

{"sheet":"MINIMES ESTIVAL","index":1,"n_rows":70,"n_cols":26,"rows_kept":70,"cut":false,"hidden":false,"merged":[[3,13,3,16],[3,17,3,20],[0,0,0,1],[0,3,0,20],[1,3,1,20],[2,0,3,0],[2,5,2,20],[3,10,3,12],[3,6,3,7],[3,8,3,9]]}
[null,null,null,"Equipe Athlé Automne / Printemps Minime U16"]
["N° club :",null,"Club:",null,null,null,null,null,null,null,null,null,null,null,null,null,null,null,null,null,null,"NIVEAU"]
[null,"Nom","Prénom","Cat","Sexe","Familles"]
[null,null,null,null,null,"Juge","Sprint",null,"Haies",null,"1/2 Fond / Marche",null,null,"Sauts",null,null,null,"Lancers"]
["Licence",null,null,null,null,"Jeune Juge","80m","120m","80 / 100m haies","200m haies","1 000m","2 000m","3 000m Marche","Hauteur","Perche","Longueur","Triple saut","Poids","Disque","Marteau","Javelot","Validité du triathlon","Nombre d'épreuve hors relais","Vérification catégorie MI","Vérification athlète unique","Vérification si 2 épreuves"]
[null,{"$f":"IFERROR(INDEX(Licenciés!B:B,MATCH($A6,Licenciés!$A:$A,0)),\"\")","v":""},{"$f":"IFERROR(INDEX(Licenciés!C:C,MATCH($A6,Licenciés!$A:$A,0)),\"\")","v":""},{"$f":"IFERROR(INDEX(Licenciés!D:D,MATCH($A6,Licenciés!$A:$A,0)),\"\")","v":""},{"$f":"IFERROR(INDEX(Licenciés!E:E,MATCH($A6,Licenciés!$A:$A,0)),\"\")","v":""},null,null,null,null,null,null,null,null,null,null,null,null,null,null,null,null,{"$f":"IF(A6=\"\",\"\",IF(OR(AND(COUNTIF(N6:U6,\"X\")<2,COUNTIF(G6:H6,\"X\")<2,COUNTIF(I6:J6,\"X\")<2,COUNTIF(K6:M6,\"X\")<2,COUNTIF(G6:M6,\"X\")<3),AND(COUNTIF(N6:U6,\"X\")<3,COUNTIF(G6:M6,\"X\")<2))=TRUE,\"OK\",\"NON\"))","v":""},{"$f":"IF(A6=\"\",\"\",COUNTIF(G6:U6,\"X\"))","v":""},{"$f":"IF(D6=\"\",\"\",(IF(D6=\"MI\",\"OK\",\"NON\")))","v":""},{"$f":"IF(A6=\"\",\"\",IF(COUNTIF(A:A,A6)>1,\"athlète inscrit plusieurs fois\",\"OK\"))","v":""},{"$f":"IF(A6=\"\",\"\",IF(W6=2,IF(OR(COUNTIF(I6:J6,\"X\")>1,COUNTIF(K6:M6,\"X\")>1,COUNTIF(G6:H6,\"X\")>1),\"NON\",\"OK\"),\"\"))","v":""}]
[null,{"$f":"IFERROR(INDEX(Licenciés!B:B,MATCH($A7,Licenciés!$A:$A,0)),\"\")","v":""},{"$f":"IFERROR(INDEX(Licenciés!C:C,MATCH($A7,Licenciés!$A:$A,0)),\"\")","v":""},{"$f":"IFERROR(INDEX(Licenciés!D:D,MATCH($A7,Licenciés!$A:$A,0)),\"\")","v":""},{"$f":"IFERROR(INDEX(Licenciés!E:E,MATCH($A7,Licenciés!$A:$A,0)),\"\")","v":""},null,null,null,null,null,null,null,null,null,null,null,null,null,null,null,null,"","","","",""]
[null,{"$f":"IFERROR(INDEX(Licenciés!B:B,MATCH($A8,Licenciés!$A:$A,0)),\"\")","v":""},{"$f":"IFERROR(INDEX(Licenciés!C:C,MATCH($A8,Licenciés!$A:$A,0)),\"\")","v":""},{"$f":"IFERROR(INDEX(Licenciés!D:D,MATCH($A8,Licenciés!$A:$A,0)),\"\")","v":""},{"$f":"IFERROR(INDEX(Licenciés!E:E,MATCH($A8,Licenciés!$A:$A,0)),\"\")","v":""},null,null,null,null,null,null,null,null,null,null,null,null,null,null,null,null,"","","","",""]
[null,{"$f":"IFERROR(INDEX(Licenciés!B:B,MATCH($A9,Licenciés!$A:$A,0)),\"\")","v":""},{"$f":"IFERROR(INDEX(Licenciés!C:C,MATCH($A9,Licenciés!$A:$A,0)),\"\")","v":""},{"$f":"IFERROR(INDEX(Licenciés!D:D,MATCH($A9,Licenciés!$A:$A,0)),\"\")","v":""},{"$f":"IFERROR(INDEX(Licenciés!E:E,MATCH($A9,Licenciés!$A:$A,0)),\"\")","v":""},null,null,null,null,null,null,null,null,null,null,null,null,null,null,null,null,"","","","",""]
[null,{"$f":"IFERROR(INDEX(Licenciés!B:B,MATCH($A10,Licenciés!$A:$A,0)),\"\")","v":""},{"$f":"IFERROR(INDEX(Licenciés!C:C,MATCH($A10,Licenciés!$A:$A,0)),\"\")","v":""},{"$f":"IFERROR(INDEX(Licenciés!D:D,MATCH($A10,Licenciés!$A:$A,0)),\"\")","v":""},{"$f":"IFERROR(INDEX(Licenciés!E:E,MATCH($A10,Licenciés!$A:$A,0)),\"\")","v":""},null,null,null,null,null,null,null,null,null,null,null,null,null,null,null,null,"","","","",""]
[null,{"$f":"IFERROR(INDEX(Licenciés!B:B,MATCH($A11,Licenciés!$A:$A,0)),\"\")","v":""},{"$f":"IFERROR(INDEX(Licenciés!C:C,MATCH($A11,Licenciés!$A:$A,0)),\"\")","v":""},{"$f":"IFERROR(INDEX(Licenciés!D:D,MATCH($A11,Licenciés!$A:$A,0)),\"\")","v":""},{"$f":"IFERROR(INDEX(Licenciés!E:E,MATCH($A11,Licenciés!$A:$A,0)),\"\")","v":""},null,null,null,null,null,null,null,null,null,null,null,null,null,null,null,null,"","","","",""]
[null,{"$f":"IFERROR(INDEX(Licenciés!B:B,MATCH($A12,Licenciés!$A:$A,0)),\"\")","v":""},{"$f":"IFERROR(INDEX(Licenciés!C:C,MATCH($A12,Licenciés!$A:$A,0)),\"\")","v":""},{"$f":"IFERROR(INDEX(Licenciés!D:D,MATCH($A12,Licenciés!$A:$A,0)),\"\")","v":""},{"$f":"IFERROR(INDEX(Licenciés!E:E,MATCH($A12,Licenciés!$A:$A,0)),\"\")","v":""},null,null,null,null,null,null,null,null,null,null,null,null,null,null,null,null,"","","","",""]
[null,{"$f":"IFERROR(INDEX(Licenciés!B:B,MATCH($A13,Licenciés!$A:$A,0)),\"\")","v":""},{"$f":"IFERROR(INDEX(Licenciés!C:C,MATCH($A13,Licenciés!$A:$A,0)),\"\")","v":""},{"$f":"IFERROR(INDEX(Licenciés!D:D,MATCH($A13,Licenciés!$A:$A,0)),\"\")","v":""},{"$f":"IFERROR(INDEX(Licenciés!E:E,MATCH($A13,Licenciés!$A:$A,0)),\"\")","v":""},null,null,null,null,null,null,null,null,null,null,null,null,null,null,null,null,"","",null,null,""]
[null,{"$f":"IFERROR(INDEX(Licenciés!B:B,MATCH($A14,Licenciés!$A:$A,0)),\"\")","v":""},{"$f":"IFERROR(INDEX(Licenciés!C:C,MATCH($A14,Licenciés!$A:$A,0)),\"\")","v":""},{"$f":"IFERROR(INDEX(Licenciés!D:D,MATCH($A14,Licenciés!$A:$A,0)),\"\")","v":""},{"$f":"IFERROR(INDEX(Licenciés!E:E,MATCH($A14,Licenciés!$A:$A,0)),\"\")","v":""},null,null,null,null,null,null,null,null,null,null,null,null,null,null,null,null,"","",null,null,""]
[null,{"$f":"IFERROR(INDEX(Licenciés!B:B,MATCH($A15,Licenciés!$A:$A,0)),\"\")","v":""},{"$f":"IFERROR(INDEX(Licenciés!C:C,MATCH($A15,Licenciés!$A:$A,0)),\"\")","v":""},{"$f":"IFERROR(INDEX(Licenciés!D:D,MATCH($A15,Licenciés!$A:$A,0)),\"\")","v":""},{"$f":"IFERROR(INDEX(Licenciés!E:E,MATCH($A15,Licenciés!$A:$A,0)),\"\")","v":""},null,null,null,null,null,null,null,null,null,null,null,null,null,null,null,null,"","",{"$f":"IF(D15=\"\",\"\",(IF(D15=\"MI\",\"OK\",\"NON\")))","v":""},{"$f":"IF(A15=\"\",\"\",IF(COUNTIF(A:A,A15)>1,\"athlète inscrit plusieurs fois\",\"OK\"))","v":""},""]
[null,{"$f":"IFERROR(INDEX(Licenciés!B:B,MATCH($A16,Licenciés!$A:$A,0)),\"\")","v":""},{"$f":"IFERROR(INDEX(Licenciés!C:C,MATCH($A16,Licenciés!$A:$A,0)),\"\")","v":""},{"$f":"IFERROR(INDEX(Licenciés!D:D,MATCH($A16,Licenciés!$A:$A,0)),\"\")","v":""},{"$f":"IFERROR(INDEX(Licenciés!E:E,MATCH($A16,Licenciés!$A:$A,0)),\"\")","v":""},null,null,null,null,null,null,null,null,null,null,null,null,null,null,null,null,"",{"$f":"IF(A16=\"\",\"\",COUNTIF(G16:U16,\"X\"))","v":""},"","",""]
[null,{"$f":"IFERROR(INDEX(Licenciés!B:B,MATCH($A17,Licenciés!$A:$A,0)),\"\")","v":""},{"$f":"IFERROR(INDEX(Licenciés!C:C,MATCH($A17,Licenciés!$A:$A,0)),\"\")","v":""},{"$f":"IFERROR(INDEX(Licenciés!D:D,MATCH($A17,Licenciés!$A:$A,0)),\"\")","v":""},{"$f":"IFERROR(INDEX(Licenciés!E:E,MATCH($A17,Licenciés!$A:$A,0)),\"\")","v":""},null,null,null,null,null,null,null,null,null,null,null,null,null,null,null,null,"","","","",""]
[null,{"$f":"IFERROR(INDEX(Licenciés!B:B,MATCH($A18,Licenciés!$A:$A,0)),\"\")","v":""},{"$f":"IFERROR(INDEX(Licenciés!C:C,MATCH($A18,Licenciés!$A:$A,0)),\"\")","v":""},{"$f":"IFERROR(INDEX(Licenciés!D:D,MATCH($A18,Licenciés!$A:$A,0)),\"\")","v":""},{"$f":"IFERROR(INDEX(Licenciés!E:E,MATCH($A18,Licenciés!$A:$A,0)),\"\")","v":""},null,null,null,null,null,null,null,null,null,null,null,null,null,null,null,null,"","","","",""]
[null,{"$f":"IFERROR(INDEX(Licenciés!B:B,MATCH($A19,Licenciés!$A:$A,0)),\"\")","v":""},{"$f":"IFERROR(INDEX(Licenciés!C:C,MATCH($A19,Licenciés!$A:$A,0)),\"\")","v":""},{"$f":"IFERROR(INDEX(Licenciés!D:D,MATCH($A19,Licenciés!$A:$A,0)),\"\")","v":""},{"$f":"IFERROR(INDEX(Licenciés!E:E,MATCH($A19,Licenciés!$A:$A,0)),\"\")","v":""},null,null,null,null,null,null,null,null,null,null,null,null,null,null,null,null,"","","","",""]
[null,{"$f":"IFERROR(INDEX(Licenciés!B:B,MATCH($A20,Licenciés!$A:$A,0)),\"\")","v":""},{"$f":"IFERROR(INDEX(Licenciés!C:C,MATCH($A20,Licenciés!$A:$A,0)),\"\")","v":""},{"$f":"IFERROR(INDEX(Licenciés!D:D,MATCH($A20,Licenciés!$A:$A,0)),\"\")","v":""},{"$f":"IFERROR(INDEX(Licenciés!E:E,MATCH($A20,Licenciés!$A:$A,0)),\"\")","v":""},null,null,null,null,null,null,null,null,null,null,null,null,null,null,null,null,"","","","",""]
[null,{"$f":"IFERROR(INDEX(Licenciés!B:B,MATCH($A21,Licenciés!$A:$A,0)),\"\")","v":""},{"$f":"IFERROR(INDEX(Licenciés!C:C,MATCH($A21,Licenciés!$A:$A,0)),\"\")","v":""},{"$f":"IFERROR(INDEX(Licenciés!D:D,MATCH($A21,Licenciés!$A:$A,0)),\"\")","v":""},{"$f":"IFERROR(INDEX(Licenciés!E:E,MATCH($A21,Licenciés!$A:$A,0)),\"\")","v":""},null,null,null,null,null,null,null,null,null,null,null,null,null,null,null,null,"","","","",""]
[null,{"$f":"IFERROR(INDEX(Licenciés!B:B,MATCH($A22,Licenciés!$A:$A,0)),\"\")","v":""},{"$f":"IFERROR(INDEX(Licenciés!C:C,MATCH($A22,Licenciés!$A:$A,0)),\"\")","v":""},{"$f":"IFERROR(INDEX(Licenciés!D:D,MATCH($A22,Licenciés!$A:$A,0)),\"\")","v":""},{"$f":"IFERROR(INDEX(Licenciés!E:E,MATCH($A22,Licenciés!$A:$A,0)),\"\")","v":""},null,null,null,null,null,null,null,null,null,null,null,null,null,null,null,null,"","","","",""]
[null,{"$f":"IFERROR(INDEX(Licenciés!B:B,MATCH($A23,Licenciés!$A:$A,0)),\"\")","v":""},{"$f":"IFERROR(INDEX(Licenciés!C:C,MATCH($A23,Licenciés!$A:$A,0)),\"\")","v":""},{"$f":"IFERROR(INDEX(Licenciés!D:D,MATCH($A23,Licenciés!$A:$A,0)),\"\")","v":""},{"$f":"IFERROR(INDEX(Licenciés!E:E,MATCH($A23,Licenciés!$A:$A,0)),\"\")","v":""},null,null,null,null,null,null,null,null,null,null,null,null,null,null,null,null,"","","","",""]
[null,{"$f":"IFERROR(INDEX(Licenciés!B:B,MATCH($A24,Licenciés!$A:$A,0)),\"\")","v":""},{"$f":"IFERROR(INDEX(Licenciés!C:C,MATCH($A24,Licenciés!$A:$A,0)),\"\")","v":""},{"$f":"IFERROR(INDEX(Licenciés!D:D,MATCH($A24,Licenciés!$A:$A,0)),\"\")","v":""},{"$f":"IFERROR(INDEX(Licenciés!E:E,MATCH($A24,Licenciés!$A:$A,0)),\"\")","v":""},null,null,null,null,null,null,null,null,null,null,null,null,null,null,null,null,"","","","",""]
[null,{"$f":"IFERROR(INDEX(Licenciés!B:B,MATCH($A25,Licenciés!$A:$A,0)),\"\")","v":""},{"$f":"IFERROR(INDEX(Licenciés!C:C,MATCH($A25,Licenciés!$A:$A,0)),\"\")","v":""},{"$f":"IFERROR(INDEX(Licenciés!D:D,MATCH($A25,Licenciés!$A:$A,0)),\"\")","v":""},{"$f":"IFERROR(INDEX(Licenciés!E:E,MATCH($A25,Licenciés!$A:$A,0)),\"\")","v":""},null,null,null,null,null,null,null,null,null,null,null,null,null,null,null,null,"","","","",""]
[null,{"$f":"IFERROR(INDEX(Licenciés!B:B,MATCH($A26,Licenciés!$A:$A,0)),\"\")","v":""},{"$f":"IFERROR(INDEX(Licenciés!C:C,MATCH($A26,Licenciés!$A:$A,0)),\"\")","v":""},{"$f":"IFERROR(INDEX(Licenciés!D:D,MATCH($A26,Licenciés!$A:$A,0)),\"\")","v":""},{"$f":"IFERROR(INDEX(Licenciés!E:E,MATCH($A26,Licenciés!$A:$A,0)),\"\")","v":""},null,null,null,null,null,null,null,null,null,null,null,null,null,null,null,null,"","","","",""]
[null,{"$f":"IFERROR(INDEX(Licenciés!B:B,MATCH($A27,Licenciés!$A:$A,0)),\"\")","v":""},{"$f":"IFERROR(INDEX(Licenciés!C:C,MATCH($A27,Licenciés!$A:$A,0)),\"\")","v":""},{"$f":"IFERROR(INDEX(Licenciés!D:D,MATCH($A27,Licenciés!$A:$A,0)),\"\")","v":""},{"$f":"IFERROR(INDEX(Licenciés!E:E,MATCH($A27,Licenciés!$A:$A,0)),\"\")","v":""},null,null,null,null,null,null,null,null,null,null,null,null,null,null,null,null,"","","","",""]
[null,{"$f":"IFERROR(INDEX(Licenciés!B:B,MATCH($A28,Licenciés!$A:$A,0)),\"\")","v":""},{"$f":"IFERROR(INDEX(Licenciés!C:C,MATCH($A28,Licenciés!$A:$A,0)),\"\")","v":""},{"$f":"IFERROR(INDEX(Licenciés!D:D,MATCH($A28,Licenciés!$A:$A,0)),\"\")","v":""},{"$f":"IFERROR(INDEX(Licenciés!E:E,MATCH($A28,Licenciés!$A:$A,0)),\"\")","v":""},null,null,null,null,null,null,null,null,null,null,null,null,null,null,null,null,"","","","",""]
[null,{"$f":"IFERROR(INDEX(Licenciés!B:B,MATCH($A29,Licenciés!$A:$A,0)),\"\")","v":""},{"$f":"IFERROR(INDEX(Licenciés!C:C,MATCH($A29,Licenciés!$A:$A,0)),\"\")","v":""},{"$f":"IFERROR(INDEX(Licenciés!D:D,MATCH($A29,Licenciés!$A:$A,0)),\"\")","v":""},{"$f":"IFERROR(INDEX(Licenciés!E:E,MATCH($A29,Licenciés!$A:$A,0)),\"\")","v":""},null,null,null,null,null,null,null,null,null,null,null,null,null,null,null,null,"","","","",""]
[null,{"$f":"IFERROR(INDEX(Licenciés!B:B,MATCH($A30,Licenciés!$A:$A,0)),\"\")","v":""},{"$f":"IFERROR(INDEX(Licenciés!C:C,MATCH($A30,Licenciés!$A:$A,0)),\"\")","v":""},{"$f":"IFERROR(INDEX(Licenciés!D:D,MATCH($A30,Licenciés!$A:$A,0)),\"\")","v":""},{"$f":"IFERROR(INDEX(Licenciés!E:E,MATCH($A30,Licenciés!$A:$A,0)),\"\")","v":""},null,null,null,null,null,null,null,null,null,null,null,null,null,null,null,null,"","","","",""]
[null,{"$f":"IFERROR(INDEX(Licenciés!B:B,MATCH($A31,Licenciés!$A:$A,0)),\"\")","v":""},{"$f":"IFERROR(INDEX(Licenciés!C:C,MATCH($A31,Licenciés!$A:$A,0)),\"\")","v":""},{"$f":"IFERROR(INDEX(Licenciés!D:D,MATCH($A31,Licenciés!$A:$A,0)),\"\")","v":""},{"$f":"IFERROR(INDEX(Licenciés!E:E,MATCH($A31,Licenciés!$A:$A,0)),\"\")","v":""},null,null,null,null,null,null,null,null,null,null,null,null,null,null,null,null,"","","","",""]
[null,{"$f":"IFERROR(INDEX(Licenciés!B:B,MATCH($A32,Licenciés!$A:$A,0)),\"\")","v":""},{"$f":"IFERROR(INDEX(Licenciés!C:C,MATCH($A32,Licenciés!$A:$A,0)),\"\")","v":""},{"$f":"IFERROR(INDEX(Licenciés!D:D,MATCH($A32,Licenciés!$A:$A,0)),\"\")","v":""},{"$f":"IFERROR(INDEX(Licenciés!E:E,MATCH($A32,Licenciés!$A:$A,0)),\"\")","v":""},null,null,null,null,null,null,null,null,null,null,null,null,null,null,null,null,"","","","",""]
[null,{"$f":"IFERROR(INDEX(Licenciés!B:B,MATCH($A33,Licenciés!$A:$A,0)),\"\")","v":""},{"$f":"IFERROR(INDEX(Licenciés!C:C,MATCH($A33,Licenciés!$A:$A,0)),\"\")","v":""},{"$f":"IFERROR(INDEX(Licenciés!D:D,MATCH($A33,Licenciés!$A:$A,0)),\"\")","v":""},{"$f":"IFERROR(INDEX(Licenciés!E:E,MATCH($A33,Licenciés!$A:$A,0)),\"\")","v":""},null,null,null,null,null,null,null,null,null,null,null,null,null,null,null,null,"","","","",""]
[null,{"$f":"IFERROR(INDEX(Licenciés!B:B,MATCH($A34,Licenciés!$A:$A,0)),\"\")","v":""},{"$f":"IFERROR(INDEX(Licenciés!C:C,MATCH($A34,Licenciés!$A:$A,0)),\"\")","v":""},{"$f":"IFERROR(INDEX(Licenciés!D:D,MATCH($A34,Licenciés!$A:$A,0)),\"\")","v":""},{"$f":"IFERROR(INDEX(Licenciés!E:E,MATCH($A34,Licenciés!$A:$A,0)),\"\")","v":""},null,null,null,null,null,null,null,null,null,null,null,null,null,null,null,null,"","","","",""]
[null,{"$f":"IFERROR(INDEX(Licenciés!B:B,MATCH($A35,Licenciés!$A:$A,0)),\"\")","v":""},{"$f":"IFERROR(INDEX(Licenciés!C:C,MATCH($A35,Licenciés!$A:$A,0)),\"\")","v":""},{"$f":"IFERROR(INDEX(Licenciés!D:D,MATCH($A35,Licenciés!$A:$A,0)),\"\")","v":""},{"$f":"IFERROR(INDEX(Licenciés!E:E,MATCH($A35,Licenciés!$A:$A,0)),\"\")","v":""},null,null,null,null,null,null,null,null,null,null,null,null,null,null,null,null,"","","","",""]
[null,{"$f":"IFERROR(INDEX(Licenciés!B:B,MATCH($A36,Licenciés!$A:$A,0)),\"\")","v":""},{"$f":"IFERROR(INDEX(Licenciés!C:C,MATCH($A36,Licenciés!$A:$A,0)),\"\")","v":""},{"$f":"IFERROR(INDEX(Licenciés!D:D,MATCH($A36,Licenciés!$A:$A,0)),\"\")","v":""},{"$f":"IFERROR(INDEX(Licenciés!E:E,MATCH($A36,Licenciés!$A:$A,0)),\"\")","v":""},null,null,null,null,null,null,null,null,null,null,null,null,null,null,null,null,"","","","",""]
[null,{"$f":"IFERROR(INDEX(Licenciés!B:B,MATCH($A37,Licenciés!$A:$A,0)),\"\")","v":""},{"$f":"IFERROR(INDEX(Licenciés!C:C,MATCH($A37,Licenciés!$A:$A,0)),\"\")","v":""},{"$f":"IFERROR(INDEX(Licenciés!D:D,MATCH($A37,Licenciés!$A:$A,0)),\"\")","v":""},{"$f":"IFERROR(INDEX(Licenciés!E:E,MATCH($A37,Licenciés!$A:$A,0)),\"\")","v":""},null,null,null,null,null,null,null,null,null,null,null,null,null,null,null,null,"","","","",""]
[null,{"$f":"IFERROR(INDEX(Licenciés!B:B,MATCH($A38,Licenciés!$A:$A,0)),\"\")","v":""},{"$f":"IFERROR(INDEX(Licenciés!C:C,MATCH($A38,Licenciés!$A:$A,0)),\"\")","v":""},{"$f":"IFERROR(INDEX(Licenciés!D:D,MATCH($A38,Licenciés!$A:$A,0)),\"\")","v":""},{"$f":"IFERROR(INDEX(Licenciés!E:E,MATCH($A38,Licenciés!$A:$A,0)),\"\")","v":""},null,null,null,null,null,null,null,null,null,null,null,null,null,null,null,null,{"$f":"IF(A38=\"\",\"\",IF(OR(AND(COUNTIF(N38:U38,\"X\")<2,COUNTIF(G38:H38,\"X\")<2,COUNTIF(I38:J38,\"X\")<2,COUNTIF(K38:M38,\"X\")<2,COUNTIF(G38:M38,\"X\")<3),AND(COUNTIF(N38:U38,\"X\")<3,COUNTIF(G38:M38,\"X\")<2))=TRUE,\"OK\",\"NON\"))","v":""},"","","",{"$f":"IF(A38=\"\",\"\",IF(W38=2,IF(OR(COUNTIF(I38:J38,\"X\")>1,COUNTIF(K38:M38,\"X\")>1,COUNTIF(G38:H38,\"X\")>1),\"NON\",\"OK\"),\"\"))","v":""}]
[null,{"$f":"IFERROR(INDEX(Licenciés!B:B,MATCH($A39,Licenciés!$A:$A,0)),\"\")","v":""},{"$f":"IFERROR(INDEX(Licenciés!C:C,MATCH($A39,Licenciés!$A:$A,0)),\"\")","v":""},{"$f":"IFERROR(INDEX(Licenciés!D:D,MATCH($A39,Licenciés!$A:$A,0)),\"\")","v":""},{"$f":"IFERROR(INDEX(Licenciés!E:E,MATCH($A39,Licenciés!$A:$A,0)),\"\")","v":""},null,null,null,null,null,null,null,null,null,null,null,null,null,null,null,null,"","","","",""]
[null,{"$f":"IFERROR(INDEX(Licenciés!B:B,MATCH($A40,Licenciés!$A:$A,0)),\"\")","v":""},{"$f":"IFERROR(INDEX(Licenciés!C:C,MATCH($A40,Licenciés!$A:$A,0)),\"\")","v":""},{"$f":"IFERROR(INDEX(Licenciés!D:D,MATCH($A40,Licenciés!$A:$A,0)),\"\")","v":""},{"$f":"IFERROR(INDEX(Licenciés!E:E,MATCH($A40,Licenciés!$A:$A,0)),\"\")","v":""},null,null,null,null,null,null,null,null,null,null,null,null,null,null,null,null,"","","","",""]
[null,{"$f":"IFERROR(INDEX(Licenciés!B:B,MATCH($A41,Licenciés!$A:$A,0)),\"\")","v":""},{"$f":"IFERROR(INDEX(Licenciés!C:C,MATCH($A41,Licenciés!$A:$A,0)),\"\")","v":""},{"$f":"IFERROR(INDEX(Licenciés!D:D,MATCH($A41,Licenciés!$A:$A,0)),\"\")","v":""},{"$f":"IFERROR(INDEX(Licenciés!E:E,MATCH($A41,Licenciés!$A:$A,0)),\"\")","v":""},null,null,null,null,null,null,null,null,null,null,null,null,null,null,null,null,"","","","",""]
[null,{"$f":"IFERROR(INDEX(Licenciés!B:B,MATCH($A42,Licenciés!$A:$A,0)),\"\")","v":""},{"$f":"IFERROR(INDEX(Licenciés!C:C,MATCH($A42,Licenciés!$A:$A,0)),\"\")","v":""},{"$f":"IFERROR(INDEX(Licenciés!D:D,MATCH($A42,Licenciés!$A:$A,0)),\"\")","v":""},{"$f":"IFERROR(INDEX(Licenciés!E:E,MATCH($A42,Licenciés!$A:$A,0)),\"\")","v":""},null,null,null,null,null,null,null,null,null,null,null,null,null,null,null,null,"","","","",""]
[null,{"$f":"IFERROR(INDEX(Licenciés!B:B,MATCH($A43,Licenciés!$A:$A,0)),\"\")","v":""},{"$f":"IFERROR(INDEX(Licenciés!C:C,MATCH($A43,Licenciés!$A:$A,0)),\"\")","v":""},{"$f":"IFERROR(INDEX(Licenciés!D:D,MATCH($A43,Licenciés!$A:$A,0)),\"\")","v":""},{"$f":"IFERROR(INDEX(Licenciés!E:E,MATCH($A43,Licenciés!$A:$A,0)),\"\")","v":""},null,null,null,null,null,null,null,null,null,null,null,null,null,null,null,null,"","","","",""]
[null,{"$f":"IFERROR(INDEX(Licenciés!B:B,MATCH($A44,Licenciés!$A:$A,0)),\"\")","v":""},{"$f":"IFERROR(INDEX(Licenciés!C:C,MATCH($A44,Licenciés!$A:$A,0)),\"\")","v":""},{"$f":"IFERROR(INDEX(Licenciés!D:D,MATCH($A44,Licenciés!$A:$A,0)),\"\")","v":""},{"$f":"IFERROR(INDEX(Licenciés!E:E,MATCH($A44,Licenciés!$A:$A,0)),\"\")","v":""},null,null,null,null,null,null,null,null,null,null,null,null,null,null,null,null,"","","","",""]
[null,{"$f":"IFERROR(INDEX(Licenciés!B:B,MATCH($A45,Licenciés!$A:$A,0)),\"\")","v":""},{"$f":"IFERROR(INDEX(Licenciés!C:C,MATCH($A45,Licenciés!$A:$A,0)),\"\")","v":""},{"$f":"IFERROR(INDEX(Licenciés!D:D,MATCH($A45,Licenciés!$A:$A,0)),\"\")","v":""},{"$f":"IFERROR(INDEX(Licenciés!E:E,MATCH($A45,Licenciés!$A:$A,0)),\"\")","v":""},null,null,null,null,null,null,null,null,null,null,null,null,null,null,null,null,"","","","",""]
[null,{"$f":"IFERROR(INDEX(Licenciés!B:B,MATCH($A46,Licenciés!$A:$A,0)),\"\")","v":""},{"$f":"IFERROR(INDEX(Licenciés!C:C,MATCH($A46,Licenciés!$A:$A,0)),\"\")","v":""},{"$f":"IFERROR(INDEX(Licenciés!D:D,MATCH($A46,Licenciés!$A:$A,0)),\"\")","v":""},{"$f":"IFERROR(INDEX(Licenciés!E:E,MATCH($A46,Licenciés!$A:$A,0)),\"\")","v":""},null,null,null,null,null,null,null,null,null,null,null,null,null,null,null,null,"","","","",""]
[null,{"$f":"IFERROR(INDEX(Licenciés!B:B,MATCH($A47,Licenciés!$A:$A,0)),\"\")","v":""},{"$f":"IFERROR(INDEX(Licenciés!C:C,MATCH($A47,Licenciés!$A:$A,0)),\"\")","v":""},{"$f":"IFERROR(INDEX(Licenciés!D:D,MATCH($A47,Licenciés!$A:$A,0)),\"\")","v":""},{"$f":"IFERROR(INDEX(Licenciés!E:E,MATCH($A47,Licenciés!$A:$A,0)),\"\")","v":""},null,null,null,null,null,null,null,null,null,null,null,null,null,null,null,null,"","",{"$f":"IF(D47=\"\",\"\",(IF(D47=\"MI\",\"OK\",\"NON\")))","v":""},{"$f":"IF(A47=\"\",\"\",IF(COUNTIF(A:A,A47)>1,\"athlète inscrit plusieurs fois\",\"OK\"))","v":""},""]
[null,{"$f":"IFERROR(INDEX(Licenciés!B:B,MATCH($A48,Licenciés!$A:$A,0)),\"\")","v":""},{"$f":"IFERROR(INDEX(Licenciés!C:C,MATCH($A48,Licenciés!$A:$A,0)),\"\")","v":""},{"$f":"IFERROR(INDEX(Licenciés!D:D,MATCH($A48,Licenciés!$A:$A,0)),\"\")","v":""},{"$f":"IFERROR(INDEX(Licenciés!E:E,MATCH($A48,Licenciés!$A:$A,0)),\"\")","v":""},null,null,null,null,null,null,null,null,null,null,null,null,null,null,null,null,"","","","",""]
[null,{"$f":"IFERROR(INDEX(Licenciés!B:B,MATCH($A49,Licenciés!$A:$A,0)),\"\")","v":""},{"$f":"IFERROR(INDEX(Licenciés!C:C,MATCH($A49,Licenciés!$A:$A,0)),\"\")","v":""},{"$f":"IFERROR(INDEX(Licenciés!D:D,MATCH($A49,Licenciés!$A:$A,0)),\"\")","v":""},{"$f":"IFERROR(INDEX(Licenciés!E:E,MATCH($A49,Licenciés!$A:$A,0)),\"\")","v":""},null,null,null,null,null,null,null,null,null,null,null,null,null,null,null,null,"","","","",""]
[null,{"$f":"IFERROR(INDEX(Licenciés!B:B,MATCH($A50,Licenciés!$A:$A,0)),\"\")","v":""},{"$f":"IFERROR(INDEX(Licenciés!C:C,MATCH($A50,Licenciés!$A:$A,0)),\"\")","v":""},{"$f":"IFERROR(INDEX(Licenciés!D:D,MATCH($A50,Licenciés!$A:$A,0)),\"\")","v":""},{"$f":"IFERROR(INDEX(Licenciés!E:E,MATCH($A50,Licenciés!$A:$A,0)),\"\")","v":""},null,null,null,null,null,null,null,null,null,null,null,null,null,null,null,null,"","","","",""]
[null,{"$f":"IFERROR(INDEX(Licenciés!B:B,MATCH($A51,Licenciés!$A:$A,0)),\"\")","v":""},{"$f":"IFERROR(INDEX(Licenciés!C:C,MATCH($A51,Licenciés!$A:$A,0)),\"\")","v":""},{"$f":"IFERROR(INDEX(Licenciés!D:D,MATCH($A51,Licenciés!$A:$A,0)),\"\")","v":""},{"$f":"IFERROR(INDEX(Licenciés!E:E,MATCH($A51,Licenciés!$A:$A,0)),\"\")","v":""},null,null,null,null,null,null,null,null,null,null,null,null,null,null,null,null,"","","","",""]
[null,{"$f":"IFERROR(INDEX(Licenciés!B:B,MATCH($A52,Licenciés!$A:$A,0)),\"\")","v":""},{"$f":"IFERROR(INDEX(Licenciés!C:C,MATCH($A52,Licenciés!$A:$A,0)),\"\")","v":""},{"$f":"IFERROR(INDEX(Licenciés!D:D,MATCH($A52,Licenciés!$A:$A,0)),\"\")","v":""},{"$f":"IFERROR(INDEX(Licenciés!E:E,MATCH($A52,Licenciés!$A:$A,0)),\"\")","v":""},null,null,null,null,null,null,null,null,null,null,null,null,null,null,null,null,"","","","",""]
[null,{"$f":"IFERROR(INDEX(Licenciés!B:B,MATCH($A53,Licenciés!$A:$A,0)),\"\")","v":""},{"$f":"IFERROR(INDEX(Licenciés!C:C,MATCH($A53,Licenciés!$A:$A,0)),\"\")","v":""},{"$f":"IFERROR(INDEX(Licenciés!D:D,MATCH($A53,Licenciés!$A:$A,0)),\"\")","v":""},{"$f":"IFERROR(INDEX(Licenciés!E:E,MATCH($A53,Licenciés!$A:$A,0)),\"\")","v":""},null,null,null,null,null,null,null,null,null,null,null,null,null,null,null,null,"","","","",""]
[null,{"$f":"IFERROR(INDEX(Licenciés!B:B,MATCH($A54,Licenciés!$A:$A,0)),\"\")","v":""},{"$f":"IFERROR(INDEX(Licenciés!C:C,MATCH($A54,Licenciés!$A:$A,0)),\"\")","v":""},{"$f":"IFERROR(INDEX(Licenciés!D:D,MATCH($A54,Licenciés!$A:$A,0)),\"\")","v":""},{"$f":"IFERROR(INDEX(Licenciés!E:E,MATCH($A54,Licenciés!$A:$A,0)),\"\")","v":""},null,null,null,null,null,null,null,null,null,null,null,null,null,null,null,null,"","","","",""]
[null,{"$f":"IFERROR(INDEX(Licenciés!B:B,MATCH($A55,Licenciés!$A:$A,0)),\"\")","v":""},{"$f":"IFERROR(INDEX(Licenciés!C:C,MATCH($A55,Licenciés!$A:$A,0)),\"\")","v":""},{"$f":"IFERROR(INDEX(Licenciés!D:D,MATCH($A55,Licenciés!$A:$A,0)),\"\")","v":""},{"$f":"IFERROR(INDEX(Licenciés!E:E,MATCH($A55,Licenciés!$A:$A,0)),\"\")","v":""},null,null,null,null,null,null,null,null,null,null,null,null,null,null,null,null,"","","","",""]
[null,{"$f":"IFERROR(INDEX(Licenciés!B:B,MATCH($A56,Licenciés!$A:$A,0)),\"\")","v":""},{"$f":"IFERROR(INDEX(Licenciés!C:C,MATCH($A56,Licenciés!$A:$A,0)),\"\")","v":""},{"$f":"IFERROR(INDEX(Licenciés!D:D,MATCH($A56,Licenciés!$A:$A,0)),\"\")","v":""},{"$f":"IFERROR(INDEX(Licenciés!E:E,MATCH($A56,Licenciés!$A:$A,0)),\"\")","v":""},null,null,null,null,null,null,null,null,null,null,null,null,null,null,null,null,"","","","",""]
[null,{"$f":"IFERROR(INDEX(Licenciés!B:B,MATCH($A57,Licenciés!$A:$A,0)),\"\")","v":""},{"$f":"IFERROR(INDEX(Licenciés!C:C,MATCH($A57,Licenciés!$A:$A,0)),\"\")","v":""},{"$f":"IFERROR(INDEX(Licenciés!D:D,MATCH($A57,Licenciés!$A:$A,0)),\"\")","v":""},{"$f":"IFERROR(INDEX(Licenciés!E:E,MATCH($A57,Licenciés!$A:$A,0)),\"\")","v":""},null,null,null,null,null,null,null,null,null,null,null,null,null,null,null,null,"","","","",""]
[null,{"$f":"IFERROR(INDEX(Licenciés!B:B,MATCH($A58,Licenciés!$A:$A,0)),\"\")","v":""},{"$f":"IFERROR(INDEX(Licenciés!C:C,MATCH($A58,Licenciés!$A:$A,0)),\"\")","v":""},{"$f":"IFERROR(INDEX(Licenciés!D:D,MATCH($A58,Licenciés!$A:$A,0)),\"\")","v":""},{"$f":"IFERROR(INDEX(Licenciés!E:E,MATCH($A58,Licenciés!$A:$A,0)),\"\")","v":""},null,null,null,null,null,null,null,null,null,null,null,null,null,null,null,null,"","","","",""]
[null,{"$f":"IFERROR(INDEX(Licenciés!B:B,MATCH($A59,Licenciés!$A:$A,0)),\"\")","v":""},{"$f":"IFERROR(INDEX(Licenciés!C:C,MATCH($A59,Licenciés!$A:$A,0)),\"\")","v":""},{"$f":"IFERROR(INDEX(Licenciés!D:D,MATCH($A59,Licenciés!$A:$A,0)),\"\")","v":""},{"$f":"IFERROR(INDEX(Licenciés!E:E,MATCH($A59,Licenciés!$A:$A,0)),\"\")","v":""},null,null,null,null,null,null,null,null,null,null,null,null,null,null,null,null,"","","","",""]
[null,{"$f":"IFERROR(INDEX(Licenciés!B:B,MATCH($A60,Licenciés!$A:$A,0)),\"\")","v":""},{"$f":"IFERROR(INDEX(Licenciés!C:C,MATCH($A60,Licenciés!$A:$A,0)),\"\")","v":""},{"$f":"IFERROR(INDEX(Licenciés!D:D,MATCH($A60,Licenciés!$A:$A,0)),\"\")","v":""},{"$f":"IFERROR(INDEX(Licenciés!E:E,MATCH($A60,Licenciés!$A:$A,0)),\"\")","v":""},null,null,null,null,null,null,null,null,null,null,null,null,null,null,null,null,"","","","",""]
[null,{"$f":"IFERROR(INDEX(Licenciés!B:B,MATCH($A61,Licenciés!$A:$A,0)),\"\")","v":""},{"$f":"IFERROR(INDEX(Licenciés!C:C,MATCH($A61,Licenciés!$A:$A,0)),\"\")","v":""},{"$f":"IFERROR(INDEX(Licenciés!D:D,MATCH($A61,Licenciés!$A:$A,0)),\"\")","v":""},{"$f":"IFERROR(INDEX(Licenciés!E:E,MATCH($A61,Licenciés!$A:$A,0)),\"\")","v":""},null,null,null,null,null,null,null,null,null,null,null,null,null,null,null,null,"","","","",""]
[null,{"$f":"IFERROR(INDEX(Licenciés!B:B,MATCH($A62,Licenciés!$A:$A,0)),\"\")","v":""},{"$f":"IFERROR(INDEX(Licenciés!C:C,MATCH($A62,Licenciés!$A:$A,0)),\"\")","v":""},{"$f":"IFERROR(INDEX(Licenciés!D:D,MATCH($A62,Licenciés!$A:$A,0)),\"\")","v":""},{"$f":"IFERROR(INDEX(Licenciés!E:E,MATCH($A62,Licenciés!$A:$A,0)),\"\")","v":""},null,null,null,null,null,null,null,null,null,null,null,null,null,null,null,null,"","","","",""]
[null,{"$f":"IFERROR(INDEX(Licenciés!B:B,MATCH($A63,Licenciés!$A:$A,0)),\"\")","v":""},{"$f":"IFERROR(INDEX(Licenciés!C:C,MATCH($A63,Licenciés!$A:$A,0)),\"\")","v":""},{"$f":"IFERROR(INDEX(Licenciés!D:D,MATCH($A63,Licenciés!$A:$A,0)),\"\")","v":""},{"$f":"IFERROR(INDEX(Licenciés!E:E,MATCH($A63,Licenciés!$A:$A,0)),\"\")","v":""},null,null,null,null,null,null,null,null,null,null,null,null,null,null,null,null,"","","","",""]
[null,{"$f":"IFERROR(INDEX(Licenciés!B:B,MATCH($A64,Licenciés!$A:$A,0)),\"\")","v":""},{"$f":"IFERROR(INDEX(Licenciés!C:C,MATCH($A64,Licenciés!$A:$A,0)),\"\")","v":""},{"$f":"IFERROR(INDEX(Licenciés!D:D,MATCH($A64,Licenciés!$A:$A,0)),\"\")","v":""},{"$f":"IFERROR(INDEX(Licenciés!E:E,MATCH($A64,Licenciés!$A:$A,0)),\"\")","v":""},null,null,null,null,null,null,null,null,null,null,null,null,null,null,null,null,"","","","",""]
[null,{"$f":"IFERROR(INDEX(Licenciés!B:B,MATCH($A65,Licenciés!$A:$A,0)),\"\")","v":""},{"$f":"IFERROR(INDEX(Licenciés!C:C,MATCH($A65,Licenciés!$A:$A,0)),\"\")","v":""},{"$f":"IFERROR(INDEX(Licenciés!D:D,MATCH($A65,Licenciés!$A:$A,0)),\"\")","v":""},{"$f":"IFERROR(INDEX(Licenciés!E:E,MATCH($A65,Licenciés!$A:$A,0)),\"\")","v":""},null,null,null,null,null,null,null,null,null,null,null,null,null,null,null,null,"","","","",""]
[null,{"$f":"IFERROR(INDEX(Licenciés!B:B,MATCH($A66,Licenciés!$A:$A,0)),\"\")","v":""},{"$f":"IFERROR(INDEX(Licenciés!C:C,MATCH($A66,Licenciés!$A:$A,0)),\"\")","v":""},{"$f":"IFERROR(INDEX(Licenciés!D:D,MATCH($A66,Licenciés!$A:$A,0)),\"\")","v":""},{"$f":"IFERROR(INDEX(Licenciés!E:E,MATCH($A66,Licenciés!$A:$A,0)),\"\")","v":""},null,null,null,null,null,null,null,null,null,null,null,null,null,null,null,null,"","","","",""]
[null,{"$f":"IFERROR(INDEX(Licenciés!B:B,MATCH($A67,Licenciés!$A:$A,0)),\"\")","v":""},{"$f":"IFERROR(INDEX(Licenciés!C:C,MATCH($A67,Licenciés!$A:$A,0)),\"\")","v":""},{"$f":"IFERROR(INDEX(Licenciés!D:D,MATCH($A67,Licenciés!$A:$A,0)),\"\")","v":""},{"$f":"IFERROR(INDEX(Licenciés!E:E,MATCH($A67,Licenciés!$A:$A,0)),\"\")","v":""},null,null,null,null,null,null,null,null,null,null,null,null,null,null,null,null,"","","","",""]
[null,{"$f":"IFERROR(INDEX(Licenciés!B:B,MATCH($A68,Licenciés!$A:$A,0)),\"\")","v":""},{"$f":"IFERROR(INDEX(Licenciés!C:C,MATCH($A68,Licenciés!$A:$A,0)),\"\")","v":""},{"$f":"IFERROR(INDEX(Licenciés!D:D,MATCH($A68,Licenciés!$A:$A,0)),\"\")","v":""},{"$f":"IFERROR(INDEX(Licenciés!E:E,MATCH($A68,Licenciés!$A:$A,0)),\"\")","v":""},null,null,null,null,null,null,null,null,null,null,null,null,null,null,null,null,"","","","",""]
[null,{"$f":"IFERROR(INDEX(Licenciés!B:B,MATCH($A69,Licenciés!$A:$A,0)),\"\")","v":""},{"$f":"IFERROR(INDEX(Licenciés!C:C,MATCH($A69,Licenciés!$A:$A,0)),\"\")","v":""},{"$f":"IFERROR(INDEX(Licenciés!D:D,MATCH($A69,Licenciés!$A:$A,0)),\"\")","v":""},{"$f":"IFERROR(INDEX(Licenciés!E:E,MATCH($A69,Licenciés!$A:$A,0)),\"\")","v":""},null,null,null,null,null,null,null,null,null,null,null,null,null,null,null,null,"","","","",""]
[null,{"$f":"IFERROR(INDEX(Licenciés!B:B,MATCH($A70,Licenciés!$A:$A,0)),\"\")","v":""},{"$f":"IFERROR(INDEX(Licenciés!C:C,MATCH($A70,Licenciés!$A:$A,0)),\"\")","v":""},{"$f":"IFERROR(INDEX(Licenciés!D:D,MATCH($A70,Licenciés!$A:$A,0)),\"\")","v":""},{"$f":"IFERROR(INDEX(Licenciés!E:E,MATCH($A70,Licenciés!$A:$A,0)),\"\")","v":""},null,null,null,null,null,null,null,null,null,null,null,null,null,null,null,null,{"$f":"IF(A70=\"\",\"\",IF(OR(AND(COUNTIF(N70:U70,\"X\")<2,COUNTIF(G70:H70,\"X\")<2,COUNTIF(I70:J70,\"X\")<2,COUNTIF(K70:M70,\"X\")<2,COUNTIF(G70:M70,\"X\")<3),AND(COUNTIF(N70:U70,\"X\")<3,COUNTIF(G70:M70,\"X\")<2))=TRUE,\"OK\",\"NON\"))","v":""},"","","",""]

{"sheet":"BENJAMINS ESTIVAL","index":2,"n_rows":70,"n_cols":23,"rows_kept":70,"cut":false,"hidden":false,"merged":[[0,0,0,1],[0,3,0,17],[1,3,1,17],[2,5,2,17],[3,6,3,9],[3,10,3,13],[3,14,3,17]]}
[null,null,null,"Equipe Athlé Automne / Printemps Benjamins U14"]
["N° club :",null,"Club:",null,null,null,null,null,null,null,null,null,null,null,null,null,null,null,"NIVEAU"]
[null,"Nom","Prénom","Cat","Sexe","Familles"]
[null,null,null,null,null,"Juge","Courses",null,null,null,"Sauts",null,null,null,"Lancers"]
["Licence",null,null,null,null,"Jeune Juge","50m","50m haies","1000m","2 000m Marche","Hauteur","Perche","Longueur","Triple saut","Poids","Disque","Marteau","Javelot","Validité du triathlon","Nombre d'épreuve hors relais","Vérification catégorie BE","Vérification athlète unique","Vérification si 2 épreuves"]
[null,{"$f":"IFERROR(INDEX(Licenciés!B:B,MATCH($A6,Licenciés!$A:$A,0)),\"\")","v":""},{"$f":"IFERROR(INDEX(Licenciés!C:C,MATCH($A6,Licenciés!$A:$A,0)),\"\")","v":""},{"$f":"IFERROR(INDEX(Licenciés!D:D,MATCH($A6,Licenciés!$A:$A,0)),\"\")","v":""},{"$f":"IFERROR(INDEX(Licenciés!E:E,MATCH($A6,Licenciés!$A:$A,0)),\"\")","v":""},null,null,null,null,null,null,null,null,null,null,null,null,null,{"$f":"IF(A6=\"\",\"\",IF(T6=3,IF(AND(COUNTIF(G6:J6,\"X\")<2,COUNTIF(K6:N6,\"X\")<2,COUNTIF(O6:R6,\"X\")<2)=TRUE,\"OK\",\"NON\"),IF(T6>3,\"NON\",\"\")))","v":""},{"$f":"IF(A6=\"\",\"\",COUNTIF(G6:R6,\"X\"))","v":""},{"$f":"IF(D6=\"\",\"\",IF(D6=\"BE\",\"OK\",\"NON\"))","v":""},{"$f":"IF(A6=\"\",\"\",IF(COUNTIF(A:A,A6)>1,\"athlète inscrit plusieurs fois\",\"OK\"))","v":""},{"$f":"IF(T6=2,IF(OR(AND(COUNTIF(G6:J6,\"X\")=1,COUNTIF(K6:R6,\"X\")=1),AND(COUNTIF(G6:J6,\"X\")=0,COUNTIF(K6:N6,\"X\")=1,COUNTIF(O6:R6,\"X\")=1)),\"OK\",\"NON\"),\"\")","v":""}]
[null,{"$f":"IFERROR(INDEX(Licenciés!B:B,MATCH($A7,Licenciés!$A:$A,0)),\"\")","v":""},{"$f":"IFERROR(INDEX(Licenciés!C:C,MATCH($A7,Licenciés!$A:$A,0)),\"\")","v":""},{"$f":"IFERROR(INDEX(Licenciés!D:D,MATCH($A7,Licenciés!$A:$A,0)),\"\")","v":""},{"$f":"IFERROR(INDEX(Licenciés!E:E,MATCH($A7,Licenciés!$A:$A,0)),\"\")","v":""},null,null,null,null,null,null,null,null,null,null,null,null,null,{"$f":"IF(A7=\"\",\"\",IF(AND(COUNTIF(G7:J7,\"X\")<2,COUNTIF(K7:N7,\"X\")<2,COUNTIF(O7:R7,\"X\")<2)=TRUE,\"OK\",\"NON\"))","v":""},"","","",""]
[null,{"$f":"IFERROR(INDEX(Licenciés!B:B,MATCH($A8,Licenciés!$A:$A,0)),\"\")","v":""},{"$f":"IFERROR(INDEX(Licenciés!C:C,MATCH($A8,Licenciés!$A:$A,0)),\"\")","v":""},{"$f":"IFERROR(INDEX(Licenciés!D:D,MATCH($A8,Licenciés!$A:$A,0)),\"\")","v":""},{"$f":"IFERROR(INDEX(Licenciés!E:E,MATCH($A8,Licenciés!$A:$A,0)),\"\")","v":""},null,null,null,null,null,null,null,null,null,null,null,null,null,"","","","",""]
[null,{"$f":"IFERROR(INDEX(Licenciés!B:B,MATCH($A9,Licenciés!$A:$A,0)),\"\")","v":""},{"$f":"IFERROR(INDEX(Licenciés!C:C,MATCH($A9,Licenciés!$A:$A,0)),\"\")","v":""},{"$f":"IFERROR(INDEX(Licenciés!D:D,MATCH($A9,Licenciés!$A:$A,0)),\"\")","v":""},{"$f":"IFERROR(INDEX(Licenciés!E:E,MATCH($A9,Licenciés!$A:$A,0)),\"\")","v":""},null,null,null,null,null,null,null,null,null,null,null,null,null,"","","","",""]
[null,{"$f":"IFERROR(INDEX(Licenciés!B:B,MATCH($A10,Licenciés!$A:$A,0)),\"\")","v":""},{"$f":"IFERROR(INDEX(Licenciés!C:C,MATCH($A10,Licenciés!$A:$A,0)),\"\")","v":""},{"$f":"IFERROR(INDEX(Licenciés!D:D,MATCH($A10,Licenciés!$A:$A,0)),\"\")","v":""},{"$f":"IFERROR(INDEX(Licenciés!E:E,MATCH($A10,Licenciés!$A:$A,0)),\"\")","v":""},null,null,null,null,null,null,null,null,null,null,null,null,null,"","","","",""]
[null,{"$f":"IFERROR(INDEX(Licenciés!B:B,MATCH($A11,Licenciés!$A:$A,0)),\"\")","v":""},{"$f":"IFERROR(INDEX(Licenciés!C:C,MATCH($A11,Licenciés!$A:$A,0)),\"\")","v":""},{"$f":"IFERROR(INDEX(Licenciés!D:D,MATCH($A11,Licenciés!$A:$A,0)),\"\")","v":""},{"$f":"IFERROR(INDEX(Licenciés!E:E,MATCH($A11,Licenciés!$A:$A,0)),\"\")","v":""},null,null,null,null,null,null,null,null,null,null,null,null,null,"","","","",""]
[null,{"$f":"IFERROR(INDEX(Licenciés!B:B,MATCH($A12,Licenciés!$A:$A,0)),\"\")","v":""},{"$f":"IFERROR(INDEX(Licenciés!C:C,MATCH($A12,Licenciés!$A:$A,0)),\"\")","v":""},{"$f":"IFERROR(INDEX(Licenciés!D:D,MATCH($A12,Licenciés!$A:$A,0)),\"\")","v":""},{"$f":"IFERROR(INDEX(Licenciés!E:E,MATCH($A12,Licenciés!$A:$A,0)),\"\")","v":""},null,null,null,null,null,null,null,null,null,null,null,null,null,"","","","",""]
[null,{"$f":"IFERROR(INDEX(Licenciés!B:B,MATCH($A13,Licenciés!$A:$A,0)),\"\")","v":""},{"$f":"IFERROR(INDEX(Licenciés!C:C,MATCH($A13,Licenciés!$A:$A,0)),\"\")","v":""},{"$f":"IFERROR(INDEX(Licenciés!D:D,MATCH($A13,Licenciés!$A:$A,0)),\"\")","v":""},{"$f":"IFERROR(INDEX(Licenciés!E:E,MATCH($A13,Licenciés!$A:$A,0)),\"\")","v":""},null,null,null,null,null,null,null,null,null,null,null,null,null,"","","","",""]
[null,{"$f":"IFERROR(INDEX(Licenciés!B:B,MATCH($A14,Licenciés!$A:$A,0)),\"\")","v":""},{"$f":"IFERROR(INDEX(Licenciés!C:C,MATCH($A14,Licenciés!$A:$A,0)),\"\")","v":""},{"$f":"IFERROR(INDEX(Licenciés!D:D,MATCH($A14,Licenciés!$A:$A,0)),\"\")","v":""},{"$f":"IFERROR(INDEX(Licenciés!E:E,MATCH($A14,Licenciés!$A:$A,0)),\"\")","v":""},null,null,null,null,null,null,null,null,null,null,null,null,null,"","","","",""]
[null,{"$f":"IFERROR(INDEX(Licenciés!B:B,MATCH($A15,Licenciés!$A:$A,0)),\"\")","v":""},{"$f":"IFERROR(INDEX(Licenciés!C:C,MATCH($A15,Licenciés!$A:$A,0)),\"\")","v":""},{"$f":"IFERROR(INDEX(Licenciés!D:D,MATCH($A15,Licenciés!$A:$A,0)),\"\")","v":""},{"$f":"IFERROR(INDEX(Licenciés!E:E,MATCH($A15,Licenciés!$A:$A,0)),\"\")","v":""},null,null,null,null,null,null,null,null,null,null,null,null,null,"","","","",""]
[null,{"$f":"IFERROR(INDEX(Licenciés!B:B,MATCH($A16,Licenciés!$A:$A,0)),\"\")","v":""},{"$f":"IFERROR(INDEX(Licenciés!C:C,MATCH($A16,Licenciés!$A:$A,0)),\"\")","v":""},{"$f":"IFERROR(INDEX(Licenciés!D:D,MATCH($A16,Licenciés!$A:$A,0)),\"\")","v":""},{"$f":"IFERROR(INDEX(Licenciés!E:E,MATCH($A16,Licenciés!$A:$A,0)),\"\")","v":""},null,null,null,null,null,null,null,null,null,null,null,null,null,"","","","",""]
[null,{"$f":"IFERROR(INDEX(Licenciés!B:B,MATCH($A17,Licenciés!$A:$A,0)),\"\")","v":""},{"$f":"IFERROR(INDEX(Licenciés!C:C,MATCH($A17,Licenciés!$A:$A,0)),\"\")","v":""},{"$f":"IFERROR(INDEX(Licenciés!D:D,MATCH($A17,Licenciés!$A:$A,0)),\"\")","v":""},{"$f":"IFERROR(INDEX(Licenciés!E:E,MATCH($A17,Licenciés!$A:$A,0)),\"\")","v":""},null,null,null,null,null,null,null,null,null,null,null,null,null,"","","","",""]
[null,{"$f":"IFERROR(INDEX(Licenciés!B:B,MATCH($A18,Licenciés!$A:$A,0)),\"\")","v":""},{"$f":"IFERROR(INDEX(Licenciés!C:C,MATCH($A18,Licenciés!$A:$A,0)),\"\")","v":""},{"$f":"IFERROR(INDEX(Licenciés!D:D,MATCH($A18,Licenciés!$A:$A,0)),\"\")","v":""},{"$f":"IFERROR(INDEX(Licenciés!E:E,MATCH($A18,Licenciés!$A:$A,0)),\"\")","v":""},null,null,null,null,null,null,null,null,null,null,null,null,null,"","","","",""]
[null,{"$f":"IFERROR(INDEX(Licenciés!B:B,MATCH($A19,Licenciés!$A:$A,0)),\"\")","v":""},{"$f":"IFERROR(INDEX(Licenciés!C:C,MATCH($A19,Licenciés!$A:$A,0)),\"\")","v":""},{"$f":"IFERROR(INDEX(Licenciés!D:D,MATCH($A19,Licenciés!$A:$A,0)),\"\")","v":""},{"$f":"IFERROR(INDEX(Licenciés!E:E,MATCH($A19,Licenciés!$A:$A,0)),\"\")","v":""},null,null,null,null,null,null,null,null,null,null,null,null,null,"","","","",""]
[null,{"$f":"IFERROR(INDEX(Licenciés!B:B,MATCH($A20,Licenciés!$A:$A,0)),\"\")","v":""},{"$f":"IFERROR(INDEX(Licenciés!C:C,MATCH($A20,Licenciés!$A:$A,0)),\"\")","v":""},{"$f":"IFERROR(INDEX(Licenciés!D:D,MATCH($A20,Licenciés!$A:$A,0)),\"\")","v":""},{"$f":"IFERROR(INDEX(Licenciés!E:E,MATCH($A20,Licenciés!$A:$A,0)),\"\")","v":""},null,null,null,null,null,null,null,null,null,null,null,null,null,"","","","",""]
[null,{"$f":"IFERROR(INDEX(Licenciés!B:B,MATCH($A21,Licenciés!$A:$A,0)),\"\")","v":""},{"$f":"IFERROR(INDEX(Licenciés!C:C,MATCH($A21,Licenciés!$A:$A,0)),\"\")","v":""},{"$f":"IFERROR(INDEX(Licenciés!D:D,MATCH($A21,Licenciés!$A:$A,0)),\"\")","v":""},{"$f":"IFERROR(INDEX(Licenciés!E:E,MATCH($A21,Licenciés!$A:$A,0)),\"\")","v":""},null,null,null,null,null,null,null,null,null,null,null,null,null,"","","","",""]
[null,{"$f":"IFERROR(INDEX(Licenciés!B:B,MATCH($A22,Licenciés!$A:$A,0)),\"\")","v":""},{"$f":"IFERROR(INDEX(Licenciés!C:C,MATCH($A22,Licenciés!$A:$A,0)),\"\")","v":""},{"$f":"IFERROR(INDEX(Licenciés!D:D,MATCH($A22,Licenciés!$A:$A,0)),\"\")","v":""},{"$f":"IFERROR(INDEX(Licenciés!E:E,MATCH($A22,Licenciés!$A:$A,0)),\"\")","v":""},null,null,null,null,null,null,null,null,null,null,null,null,null,"","","","",""]
[null,{"$f":"IFERROR(INDEX(Licenciés!B:B,MATCH($A23,Licenciés!$A:$A,0)),\"\")","v":""},{"$f":"IFERROR(INDEX(Licenciés!C:C,MATCH($A23,Licenciés!$A:$A,0)),\"\")","v":""},{"$f":"IFERROR(INDEX(Licenciés!D:D,MATCH($A23,Licenciés!$A:$A,0)),\"\")","v":""},{"$f":"IFERROR(INDEX(Licenciés!E:E,MATCH($A23,Licenciés!$A:$A,0)),\"\")","v":""},null,null,null,null,null,null,null,null,null,null,null,null,null,"","","","",""]
[null,{"$f":"IFERROR(INDEX(Licenciés!B:B,MATCH($A24,Licenciés!$A:$A,0)),\"\")","v":""},{"$f":"IFERROR(INDEX(Licenciés!C:C,MATCH($A24,Licenciés!$A:$A,0)),\"\")","v":""},{"$f":"IFERROR(INDEX(Licenciés!D:D,MATCH($A24,Licenciés!$A:$A,0)),\"\")","v":""},{"$f":"IFERROR(INDEX(Licenciés!E:E,MATCH($A24,Licenciés!$A:$A,0)),\"\")","v":""},null,null,null,null,null,null,null,null,null,null,null,null,null,"","","","",""]
[null,{"$f":"IFERROR(INDEX(Licenciés!B:B,MATCH($A25,Licenciés!$A:$A,0)),\"\")","v":""},{"$f":"IFERROR(INDEX(Licenciés!C:C,MATCH($A25,Licenciés!$A:$A,0)),\"\")","v":""},{"$f":"IFERROR(INDEX(Licenciés!D:D,MATCH($A25,Licenciés!$A:$A,0)),\"\")","v":""},{"$f":"IFERROR(INDEX(Licenciés!E:E,MATCH($A25,Licenciés!$A:$A,0)),\"\")","v":""},null,null,null,null,null,null,null,null,null,null,null,null,null,"","","","",""]
[null,{"$f":"IFERROR(INDEX(Licenciés!B:B,MATCH($A26,Licenciés!$A:$A,0)),\"\")","v":""},{"$f":"IFERROR(INDEX(Licenciés!C:C,MATCH($A26,Licenciés!$A:$A,0)),\"\")","v":""},{"$f":"IFERROR(INDEX(Licenciés!D:D,MATCH($A26,Licenciés!$A:$A,0)),\"\")","v":""},{"$f":"IFERROR(INDEX(Licenciés!E:E,MATCH($A26,Licenciés!$A:$A,0)),\"\")","v":""},null,null,null,null,null,null,null,null,null,null,null,null,null,"","","","",""]
[null,{"$f":"IFERROR(INDEX(Licenciés!B:B,MATCH($A27,Licenciés!$A:$A,0)),\"\")","v":""},{"$f":"IFERROR(INDEX(Licenciés!C:C,MATCH($A27,Licenciés!$A:$A,0)),\"\")","v":""},{"$f":"IFERROR(INDEX(Licenciés!D:D,MATCH($A27,Licenciés!$A:$A,0)),\"\")","v":""},{"$f":"IFERROR(INDEX(Licenciés!E:E,MATCH($A27,Licenciés!$A:$A,0)),\"\")","v":""},null,null,null,null,null,null,null,null,null,null,null,null,null,"","","","",""]
[null,{"$f":"IFERROR(INDEX(Licenciés!B:B,MATCH($A28,Licenciés!$A:$A,0)),\"\")","v":""},{"$f":"IFERROR(INDEX(Licenciés!C:C,MATCH($A28,Licenciés!$A:$A,0)),\"\")","v":""},{"$f":"IFERROR(INDEX(Licenciés!D:D,MATCH($A28,Licenciés!$A:$A,0)),\"\")","v":""},{"$f":"IFERROR(INDEX(Licenciés!E:E,MATCH($A28,Licenciés!$A:$A,0)),\"\")","v":""},null,null,null,null,null,null,null,null,null,null,null,null,null,"","","","",""]
[null,{"$f":"IFERROR(INDEX(Licenciés!B:B,MATCH($A29,Licenciés!$A:$A,0)),\"\")","v":""},{"$f":"IFERROR(INDEX(Licenciés!C:C,MATCH($A29,Licenciés!$A:$A,0)),\"\")","v":""},{"$f":"IFERROR(INDEX(Licenciés!D:D,MATCH($A29,Licenciés!$A:$A,0)),\"\")","v":""},{"$f":"IFERROR(INDEX(Licenciés!E:E,MATCH($A29,Licenciés!$A:$A,0)),\"\")","v":""},null,null,null,null,null,null,null,null,null,null,null,null,null,"","","","",""]
[null,{"$f":"IFERROR(INDEX(Licenciés!B:B,MATCH($A30,Licenciés!$A:$A,0)),\"\")","v":""},{"$f":"IFERROR(INDEX(Licenciés!C:C,MATCH($A30,Licenciés!$A:$A,0)),\"\")","v":""},{"$f":"IFERROR(INDEX(Licenciés!D:D,MATCH($A30,Licenciés!$A:$A,0)),\"\")","v":""},{"$f":"IFERROR(INDEX(Licenciés!E:E,MATCH($A30,Licenciés!$A:$A,0)),\"\")","v":""},null,null,null,null,null,null,null,null,null,null,null,null,null,"","","","",""]
[null,{"$f":"IFERROR(INDEX(Licenciés!B:B,MATCH($A31,Licenciés!$A:$A,0)),\"\")","v":""},{"$f":"IFERROR(INDEX(Licenciés!C:C,MATCH($A31,Licenciés!$A:$A,0)),\"\")","v":""},{"$f":"IFERROR(INDEX(Licenciés!D:D,MATCH($A31,Licenciés!$A:$A,0)),\"\")","v":""},{"$f":"IFERROR(INDEX(Licenciés!E:E,MATCH($A31,Licenciés!$A:$A,0)),\"\")","v":""},null,null,null,null,null,null,null,null,null,null,null,null,null,"","","","",""]
[null,{"$f":"IFERROR(INDEX(Licenciés!B:B,MATCH($A32,Licenciés!$A:$A,0)),\"\")","v":""},{"$f":"IFERROR(INDEX(Licenciés!C:C,MATCH($A32,Licenciés!$A:$A,0)),\"\")","v":""},{"$f":"IFERROR(INDEX(Licenciés!D:D,MATCH($A32,Licenciés!$A:$A,0)),\"\")","v":""},{"$f":"IFERROR(INDEX(Licenciés!E:E,MATCH($A32,Licenciés!$A:$A,0)),\"\")","v":""},null,null,null,null,null,null,null,null,null,null,null,null,null,"","","","",""]
[null,{"$f":"IFERROR(INDEX(Licenciés!B:B,MATCH($A33,Licenciés!$A:$A,0)),\"\")","v":""},{"$f":"IFERROR(INDEX(Licenciés!C:C,MATCH($A33,Licenciés!$A:$A,0)),\"\")","v":""},{"$f":"IFERROR(INDEX(Licenciés!D:D,MATCH($A33,Licenciés!$A:$A,0)),\"\")","v":""},{"$f":"IFERROR(INDEX(Licenciés!E:E,MATCH($A33,Licenciés!$A:$A,0)),\"\")","v":""},null,null,null,null,null,null,null,null,null,null,null,null,null,"","","","",""]
[null,{"$f":"IFERROR(INDEX(Licenciés!B:B,MATCH($A34,Licenciés!$A:$A,0)),\"\")","v":""},{"$f":"IFERROR(INDEX(Licenciés!C:C,MATCH($A34,Licenciés!$A:$A,0)),\"\")","v":""},{"$f":"IFERROR(INDEX(Licenciés!D:D,MATCH($A34,Licenciés!$A:$A,0)),\"\")","v":""},{"$f":"IFERROR(INDEX(Licenciés!E:E,MATCH($A34,Licenciés!$A:$A,0)),\"\")","v":""},null,null,null,null,null,null,null,null,null,null,null,null,null,"","","","",""]
[null,{"$f":"IFERROR(INDEX(Licenciés!B:B,MATCH($A35,Licenciés!$A:$A,0)),\"\")","v":""},{"$f":"IFERROR(INDEX(Licenciés!C:C,MATCH($A35,Licenciés!$A:$A,0)),\"\")","v":""},{"$f":"IFERROR(INDEX(Licenciés!D:D,MATCH($A35,Licenciés!$A:$A,0)),\"\")","v":""},{"$f":"IFERROR(INDEX(Licenciés!E:E,MATCH($A35,Licenciés!$A:$A,0)),\"\")","v":""},null,null,null,null,null,null,null,null,null,null,null,null,null,"","","","",""]
[null,{"$f":"IFERROR(INDEX(Licenciés!B:B,MATCH($A36,Licenciés!$A:$A,0)),\"\")","v":""},{"$f":"IFERROR(INDEX(Licenciés!C:C,MATCH($A36,Licenciés!$A:$A,0)),\"\")","v":""},{"$f":"IFERROR(INDEX(Licenciés!D:D,MATCH($A36,Licenciés!$A:$A,0)),\"\")","v":""},{"$f":"IFERROR(INDEX(Licenciés!E:E,MATCH($A36,Licenciés!$A:$A,0)),\"\")","v":""},null,null,null,null,null,null,null,null,null,null,null,null,null,"","","","",""]
[null,{"$f":"IFERROR(INDEX(Licenciés!B:B,MATCH($A37,Licenciés!$A:$A,0)),\"\")","v":""},{"$f":"IFERROR(INDEX(Licenciés!C:C,MATCH($A37,Licenciés!$A:$A,0)),\"\")","v":""},{"$f":"IFERROR(INDEX(Licenciés!D:D,MATCH($A37,Licenciés!$A:$A,0)),\"\")","v":""},{"$f":"IFERROR(INDEX(Licenciés!E:E,MATCH($A37,Licenciés!$A:$A,0)),\"\")","v":""},null,null,null,null,null,null,null,null,null,null,null,null,null,"","","","",""]
[null,{"$f":"IFERROR(INDEX(Licenciés!B:B,MATCH($A38,Licenciés!$A:$A,0)),\"\")","v":""},{"$f":"IFERROR(INDEX(Licenciés!C:C,MATCH($A38,Licenciés!$A:$A,0)),\"\")","v":""},{"$f":"IFERROR(INDEX(Licenciés!D:D,MATCH($A38,Licenciés!$A:$A,0)),\"\")","v":""},{"$f":"IFERROR(INDEX(Licenciés!E:E,MATCH($A38,Licenciés!$A:$A,0)),\"\")","v":""},null,null,null,null,null,null,null,null,null,null,null,null,null,"",{"$f":"IF(A38=\"\",\"\",COUNTIF(G38:R38,\"X\"))","v":""},{"$f":"IF(D38=\"\",\"\",IF(D38=\"BE\",\"OK\",\"NON\"))","v":""},{"$f":"IF(A38=\"\",\"\",IF(COUNTIF(A:A,A38)>1,\"athlète inscrit plusieurs fois\",\"OK\"))","v":""},{"$f":"IF(T38=2,IF(OR(AND(COUNTIF(G38:J38,\"X\")=1,COUNTIF(K38:R38,\"X\")=1),AND(COUNTIF(G38:J38,\"X\")=0,COUNTIF(K38:N38,\"X\")=1,COUNTIF(O38:R38,\"X\")=1)),\"OK\",\"NON\"),\"\")","v":""}]
[null,{"$f":"IFERROR(INDEX(Licenciés!B:B,MATCH($A39,Licenciés!$A:$A,0)),\"\")","v":""},{"$f":"IFERROR(INDEX(Licenciés!C:C,MATCH($A39,Licenciés!$A:$A,0)),\"\")","v":""},{"$f":"IFERROR(INDEX(Licenciés!D:D,MATCH($A39,Licenciés!$A:$A,0)),\"\")","v":""},{"$f":"IFERROR(INDEX(Licenciés!E:E,MATCH($A39,Licenciés!$A:$A,0)),\"\")","v":""},null,null,null,null,null,null,null,null,null,null,null,null,null,{"$f":"IF(A39=\"\",\"\",IF(AND(COUNTIF(G39:J39,\"X\")<2,COUNTIF(K39:N39,\"X\")<2,COUNTIF(O39:R39,\"X\")<2)=TRUE,\"OK\",\"NON\"))","v":""},"","","",""]
[null,{"$f":"IFERROR(INDEX(Licenciés!B:B,MATCH($A40,Licenciés!$A:$A,0)),\"\")","v":""},{"$f":"IFERROR(INDEX(Licenciés!C:C,MATCH($A40,Licenciés!$A:$A,0)),\"\")","v":""},{"$f":"IFERROR(INDEX(Licenciés!D:D,MATCH($A40,Licenciés!$A:$A,0)),\"\")","v":""},{"$f":"IFERROR(INDEX(Licenciés!E:E,MATCH($A40,Licenciés!$A:$A,0)),\"\")","v":""},null,null,null,null,null,null,null,null,null,null,null,null,null,"","","","",""]
[null,{"$f":"IFERROR(INDEX(Licenciés!B:B,MATCH($A41,Licenciés!$A:$A,0)),\"\")","v":""},{"$f":"IFERROR(INDEX(Licenciés!C:C,MATCH($A41,Licenciés!$A:$A,0)),\"\")","v":""},{"$f":"IFERROR(INDEX(Licenciés!D:D,MATCH($A41,Licenciés!$A:$A,0)),\"\")","v":""},{"$f":"IFERROR(INDEX(Licenciés!E:E,MATCH($A41,Licenciés!$A:$A,0)),\"\")","v":""},null,null,null,null,null,null,null,null,null,null,null,null,null,"","","","",""]
[null,{"$f":"IFERROR(INDEX(Licenciés!B:B,MATCH($A42,Licenciés!$A:$A,0)),\"\")","v":""},{"$f":"IFERROR(INDEX(Licenciés!C:C,MATCH($A42,Licenciés!$A:$A,0)),\"\")","v":""},{"$f":"IFERROR(INDEX(Licenciés!D:D,MATCH($A42,Licenciés!$A:$A,0)),\"\")","v":""},{"$f":"IFERROR(INDEX(Licenciés!E:E,MATCH($A42,Licenciés!$A:$A,0)),\"\")","v":""},null,null,null,null,null,null,null,null,null,null,null,null,null,"","","","",""]
[null,{"$f":"IFERROR(INDEX(Licenciés!B:B,MATCH($A43,Licenciés!$A:$A,0)),\"\")","v":""},{"$f":"IFERROR(INDEX(Licenciés!C:C,MATCH($A43,Licenciés!$A:$A,0)),\"\")","v":""},{"$f":"IFERROR(INDEX(Licenciés!D:D,MATCH($A43,Licenciés!$A:$A,0)),\"\")","v":""},{"$f":"IFERROR(INDEX(Licenciés!E:E,MATCH($A43,Licenciés!$A:$A,0)),\"\")","v":""},null,null,null,null,null,null,null,null,null,null,null,null,null,"","","","",""]
[null,{"$f":"IFERROR(INDEX(Licenciés!B:B,MATCH($A44,Licenciés!$A:$A,0)),\"\")","v":""},{"$f":"IFERROR(INDEX(Licenciés!C:C,MATCH($A44,Licenciés!$A:$A,0)),\"\")","v":""},{"$f":"IFERROR(INDEX(Licenciés!D:D,MATCH($A44,Licenciés!$A:$A,0)),\"\")","v":""},{"$f":"IFERROR(INDEX(Licenciés!E:E,MATCH($A44,Licenciés!$A:$A,0)),\"\")","v":""},null,null,null,null,null,null,null,null,null,null,null,null,null,"","","","",""]
[null,{"$f":"IFERROR(INDEX(Licenciés!B:B,MATCH($A45,Licenciés!$A:$A,0)),\"\")","v":""},{"$f":"IFERROR(INDEX(Licenciés!C:C,MATCH($A45,Licenciés!$A:$A,0)),\"\")","v":""},{"$f":"IFERROR(INDEX(Licenciés!D:D,MATCH($A45,Licenciés!$A:$A,0)),\"\")","v":""},{"$f":"IFERROR(INDEX(Licenciés!E:E,MATCH($A45,Licenciés!$A:$A,0)),\"\")","v":""},null,null,null,null,null,null,null,null,null,null,null,null,null,"","","","",""]
[null,{"$f":"IFERROR(INDEX(Licenciés!B:B,MATCH($A46,Licenciés!$A:$A,0)),\"\")","v":""},{"$f":"IFERROR(INDEX(Licenciés!C:C,MATCH($A46,Licenciés!$A:$A,0)),\"\")","v":""},{"$f":"IFERROR(INDEX(Licenciés!D:D,MATCH($A46,Licenciés!$A:$A,0)),\"\")","v":""},{"$f":"IFERROR(INDEX(Licenciés!E:E,MATCH($A46,Licenciés!$A:$A,0)),\"\")","v":""},null,null,null,null,null,null,null,null,null,null,null,null,null,"","","","",""]
[null,{"$f":"IFERROR(INDEX(Licenciés!B:B,MATCH($A47,Licenciés!$A:$A,0)),\"\")","v":""},{"$f":"IFERROR(INDEX(Licenciés!C:C,MATCH($A47,Licenciés!$A:$A,0)),\"\")","v":""},{"$f":"IFERROR(INDEX(Licenciés!D:D,MATCH($A47,Licenciés!$A:$A,0)),\"\")","v":""},{"$f":"IFERROR(INDEX(Licenciés!E:E,MATCH($A47,Licenciés!$A:$A,0)),\"\")","v":""},null,null,null,null,null,null,null,null,null,null,null,null,null,"","","","",""]
[null,{"$f":"IFERROR(INDEX(Licenciés!B:B,MATCH($A48,Licenciés!$A:$A,0)),\"\")","v":""},{"$f":"IFERROR(INDEX(Licenciés!C:C,MATCH($A48,Licenciés!$A:$A,0)),\"\")","v":""},{"$f":"IFERROR(INDEX(Licenciés!D:D,MATCH($A48,Licenciés!$A:$A,0)),\"\")","v":""},{"$f":"IFERROR(INDEX(Licenciés!E:E,MATCH($A48,Licenciés!$A:$A,0)),\"\")","v":""},null,null,null,null,null,null,null,null,null,null,null,null,null,"","","","",""]
[null,{"$f":"IFERROR(INDEX(Licenciés!B:B,MATCH($A49,Licenciés!$A:$A,0)),\"\")","v":""},{"$f":"IFERROR(INDEX(Licenciés!C:C,MATCH($A49,Licenciés!$A:$A,0)),\"\")","v":""},{"$f":"IFERROR(INDEX(Licenciés!D:D,MATCH($A49,Licenciés!$A:$A,0)),\"\")","v":""},{"$f":"IFERROR(INDEX(Licenciés!E:E,MATCH($A49,Licenciés!$A:$A,0)),\"\")","v":""},null,null,null,null,null,null,null,null,null,null,null,null,null,"","","","",""]
[null,{"$f":"IFERROR(INDEX(Licenciés!B:B,MATCH($A50,Licenciés!$A:$A,0)),\"\")","v":""},{"$f":"IFERROR(INDEX(Licenciés!C:C,MATCH($A50,Licenciés!$A:$A,0)),\"\")","v":""},{"$f":"IFERROR(INDEX(Licenciés!D:D,MATCH($A50,Licenciés!$A:$A,0)),\"\")","v":""},{"$f":"IFERROR(INDEX(Licenciés!E:E,MATCH($A50,Licenciés!$A:$A,0)),\"\")","v":""},null,null,null,null,null,null,null,null,null,null,null,null,null,"","","","",""]
[null,{"$f":"IFERROR(INDEX(Licenciés!B:B,MATCH($A51,Licenciés!$A:$A,0)),\"\")","v":""},{"$f":"IFERROR(INDEX(Licenciés!C:C,MATCH($A51,Licenciés!$A:$A,0)),\"\")","v":""},{"$f":"IFERROR(INDEX(Licenciés!D:D,MATCH($A51,Licenciés!$A:$A,0)),\"\")","v":""},{"$f":"IFERROR(INDEX(Licenciés!E:E,MATCH($A51,Licenciés!$A:$A,0)),\"\")","v":""},null,null,null,null,null,null,null,null,null,null,null,null,null,"","","","",""]
[null,{"$f":"IFERROR(INDEX(Licenciés!B:B,MATCH($A52,Licenciés!$A:$A,0)),\"\")","v":""},{"$f":"IFERROR(INDEX(Licenciés!C:C,MATCH($A52,Licenciés!$A:$A,0)),\"\")","v":""},{"$f":"IFERROR(INDEX(Licenciés!D:D,MATCH($A52,Licenciés!$A:$A,0)),\"\")","v":""},{"$f":"IFERROR(INDEX(Licenciés!E:E,MATCH($A52,Licenciés!$A:$A,0)),\"\")","v":""},null,null,null,null,null,null,null,null,null,null,null,null,null,"","","","",""]
[null,{"$f":"IFERROR(INDEX(Licenciés!B:B,MATCH($A53,Licenciés!$A:$A,0)),\"\")","v":""},{"$f":"IFERROR(INDEX(Licenciés!C:C,MATCH($A53,Licenciés!$A:$A,0)),\"\")","v":""},{"$f":"IFERROR(INDEX(Licenciés!D:D,MATCH($A53,Licenciés!$A:$A,0)),\"\")","v":""},{"$f":"IFERROR(INDEX(Licenciés!E:E,MATCH($A53,Licenciés!$A:$A,0)),\"\")","v":""},null,null,null,null,null,null,null,null,null,null,null,null,null,"","","","",""]
[null,{"$f":"IFERROR(INDEX(Licenciés!B:B,MATCH($A54,Licenciés!$A:$A,0)),\"\")","v":""},{"$f":"IFERROR(INDEX(Licenciés!C:C,MATCH($A54,Licenciés!$A:$A,0)),\"\")","v":""},{"$f":"IFERROR(INDEX(Licenciés!D:D,MATCH($A54,Licenciés!$A:$A,0)),\"\")","v":""},{"$f":"IFERROR(INDEX(Licenciés!E:E,MATCH($A54,Licenciés!$A:$A,0)),\"\")","v":""},null,null,null,null,null,null,null,null,null,null,null,null,null,"","","","",""]
[null,{"$f":"IFERROR(INDEX(Licenciés!B:B,MATCH($A55,Licenciés!$A:$A,0)),\"\")","v":""},{"$f":"IFERROR(INDEX(Licenciés!C:C,MATCH($A55,Licenciés!$A:$A,0)),\"\")","v":""},{"$f":"IFERROR(INDEX(Licenciés!D:D,MATCH($A55,Licenciés!$A:$A,0)),\"\")","v":""},{"$f":"IFERROR(INDEX(Licenciés!E:E,MATCH($A55,Licenciés!$A:$A,0)),\"\")","v":""},null,null,null,null,null,null,null,null,null,null,null,null,null,"","","","",""]
[null,{"$f":"IFERROR(INDEX(Licenciés!B:B,MATCH($A56,Licenciés!$A:$A,0)),\"\")","v":""},{"$f":"IFERROR(INDEX(Licenciés!C:C,MATCH($A56,Licenciés!$A:$A,0)),\"\")","v":""},{"$f":"IFERROR(INDEX(Licenciés!D:D,MATCH($A56,Licenciés!$A:$A,0)),\"\")","v":""},{"$f":"IFERROR(INDEX(Licenciés!E:E,MATCH($A56,Licenciés!$A:$A,0)),\"\")","v":""},null,null,null,null,null,null,null,null,null,null,null,null,null,"","","","",""]
[null,{"$f":"IFERROR(INDEX(Licenciés!B:B,MATCH($A57,Licenciés!$A:$A,0)),\"\")","v":""},{"$f":"IFERROR(INDEX(Licenciés!C:C,MATCH($A57,Licenciés!$A:$A,0)),\"\")","v":""},{"$f":"IFERROR(INDEX(Licenciés!D:D,MATCH($A57,Licenciés!$A:$A,0)),\"\")","v":""},{"$f":"IFERROR(INDEX(Licenciés!E:E,MATCH($A57,Licenciés!$A:$A,0)),\"\")","v":""},null,null,null,null,null,null,null,null,null,null,null,null,null,"","","","",""]
[null,{"$f":"IFERROR(INDEX(Licenciés!B:B,MATCH($A58,Licenciés!$A:$A,0)),\"\")","v":""},{"$f":"IFERROR(INDEX(Licenciés!C:C,MATCH($A58,Licenciés!$A:$A,0)),\"\")","v":""},{"$f":"IFERROR(INDEX(Licenciés!D:D,MATCH($A58,Licenciés!$A:$A,0)),\"\")","v":""},{"$f":"IFERROR(INDEX(Licenciés!E:E,MATCH($A58,Licenciés!$A:$A,0)),\"\")","v":""},null,null,null,null,null,null,null,null,null,null,null,null,null,"","","","",""]
[null,{"$f":"IFERROR(INDEX(Licenciés!B:B,MATCH($A59,Licenciés!$A:$A,0)),\"\")","v":""},{"$f":"IFERROR(INDEX(Licenciés!C:C,MATCH($A59,Licenciés!$A:$A,0)),\"\")","v":""},{"$f":"IFERROR(INDEX(Licenciés!D:D,MATCH($A59,Licenciés!$A:$A,0)),\"\")","v":""},{"$f":"IFERROR(INDEX(Licenciés!E:E,MATCH($A59,Licenciés!$A:$A,0)),\"\")","v":""},null,null,null,null,null,null,null,null,null,null,null,null,null,"","","","",""]
[null,{"$f":"IFERROR(INDEX(Licenciés!B:B,MATCH($A60,Licenciés!$A:$A,0)),\"\")","v":""},{"$f":"IFERROR(INDEX(Licenciés!C:C,MATCH($A60,Licenciés!$A:$A,0)),\"\")","v":""},{"$f":"IFERROR(INDEX(Licenciés!D:D,MATCH($A60,Licenciés!$A:$A,0)),\"\")","v":""},{"$f":"IFERROR(INDEX(Licenciés!E:E,MATCH($A60,Licenciés!$A:$A,0)),\"\")","v":""},null,null,null,null,null,null,null,null,null,null,null,null,null,"","","","",""]
[null,{"$f":"IFERROR(INDEX(Licenciés!B:B,MATCH($A61,Licenciés!$A:$A,0)),\"\")","v":""},{"$f":"IFERROR(INDEX(Licenciés!C:C,MATCH($A61,Licenciés!$A:$A,0)),\"\")","v":""},{"$f":"IFERROR(INDEX(Licenciés!D:D,MATCH($A61,Licenciés!$A:$A,0)),\"\")","v":""},{"$f":"IFERROR(INDEX(Licenciés!E:E,MATCH($A61,Licenciés!$A:$A,0)),\"\")","v":""},null,null,null,null,null,null,null,null,null,null,null,null,null,"","","","",""]
[null,{"$f":"IFERROR(INDEX(Licenciés!B:B,MATCH($A62,Licenciés!$A:$A,0)),\"\")","v":""},{"$f":"IFERROR(INDEX(Licenciés!C:C,MATCH($A62,Licenciés!$A:$A,0)),\"\")","v":""},{"$f":"IFERROR(INDEX(Licenciés!D:D,MATCH($A62,Licenciés!$A:$A,0)),\"\")","v":""},{"$f":"IFERROR(INDEX(Licenciés!E:E,MATCH($A62,Licenciés!$A:$A,0)),\"\")","v":""},null,null,null,null,null,null,null,null,null,null,null,null,null,"","","","",""]
[null,{"$f":"IFERROR(INDEX(Licenciés!B:B,MATCH($A63,Licenciés!$A:$A,0)),\"\")","v":""},{"$f":"IFERROR(INDEX(Licenciés!C:C,MATCH($A63,Licenciés!$A:$A,0)),\"\")","v":""},{"$f":"IFERROR(INDEX(Licenciés!D:D,MATCH($A63,Licenciés!$A:$A,0)),\"\")","v":""},{"$f":"IFERROR(INDEX(Licenciés!E:E,MATCH($A63,Licenciés!$A:$A,0)),\"\")","v":""},null,null,null,null,null,null,null,null,null,null,null,null,null,"","","","",""]
[null,{"$f":"IFERROR(INDEX(Licenciés!B:B,MATCH($A64,Licenciés!$A:$A,0)),\"\")","v":""},{"$f":"IFERROR(INDEX(Licenciés!C:C,MATCH($A64,Licenciés!$A:$A,0)),\"\")","v":""},{"$f":"IFERROR(INDEX(Licenciés!D:D,MATCH($A64,Licenciés!$A:$A,0)),\"\")","v":""},{"$f":"IFERROR(INDEX(Licenciés!E:E,MATCH($A64,Licenciés!$A:$A,0)),\"\")","v":""},null,null,null,null,null,null,null,null,null,null,null,null,null,"","","","",""]
[null,{"$f":"IFERROR(INDEX(Licenciés!B:B,MATCH($A65,Licenciés!$A:$A,0)),\"\")","v":""},{"$f":"IFERROR(INDEX(Licenciés!C:C,MATCH($A65,Licenciés!$A:$A,0)),\"\")","v":""},{"$f":"IFERROR(INDEX(Licenciés!D:D,MATCH($A65,Licenciés!$A:$A,0)),\"\")","v":""},{"$f":"IFERROR(INDEX(Licenciés!E:E,MATCH($A65,Licenciés!$A:$A,0)),\"\")","v":""},null,null,null,null,null,null,null,null,null,null,null,null,null,"","","","",""]
[null,{"$f":"IFERROR(INDEX(Licenciés!B:B,MATCH($A66,Licenciés!$A:$A,0)),\"\")","v":""},{"$f":"IFERROR(INDEX(Licenciés!C:C,MATCH($A66,Licenciés!$A:$A,0)),\"\")","v":""},{"$f":"IFERROR(INDEX(Licenciés!D:D,MATCH($A66,Licenciés!$A:$A,0)),\"\")","v":""},{"$f":"IFERROR(INDEX(Licenciés!E:E,MATCH($A66,Licenciés!$A:$A,0)),\"\")","v":""},null,null,null,null,null,null,null,null,null,null,null,null,null,"","","","",""]
[null,{"$f":"IFERROR(INDEX(Licenciés!B:B,MATCH($A67,Licenciés!$A:$A,0)),\"\")","v":""},{"$f":"IFERROR(INDEX(Licenciés!C:C,MATCH($A67,Licenciés!$A:$A,0)),\"\")","v":""},{"$f":"IFERROR(INDEX(Licenciés!D:D,MATCH($A67,Licenciés!$A:$A,0)),\"\")","v":""},{"$f":"IFERROR(INDEX(Licenciés!E:E,MATCH($A67,Licenciés!$A:$A,0)),\"\")","v":""},null,null,null,null,null,null,null,null,null,null,null,null,null,"","","","",""]
[null,{"$f":"IFERROR(INDEX(Licenciés!B:B,MATCH($A68,Licenciés!$A:$A,0)),\"\")","v":""},{"$f":"IFERROR(INDEX(Licenciés!C:C,MATCH($A68,Licenciés!$A:$A,0)),\"\")","v":""},{"$f":"IFERROR(INDEX(Licenciés!D:D,MATCH($A68,Licenciés!$A:$A,0)),\"\")","v":""},{"$f":"IFERROR(INDEX(Licenciés!E:E,MATCH($A68,Licenciés!$A:$A,0)),\"\")","v":""},null,null,null,null,null,null,null,null,null,null,null,null,null,"","","","",""]
[null,{"$f":"IFERROR(INDEX(Licenciés!B:B,MATCH($A69,Licenciés!$A:$A,0)),\"\")","v":""},{"$f":"IFERROR(INDEX(Licenciés!C:C,MATCH($A69,Licenciés!$A:$A,0)),\"\")","v":""},{"$f":"IFERROR(INDEX(Licenciés!D:D,MATCH($A69,Licenciés!$A:$A,0)),\"\")","v":""},{"$f":"IFERROR(INDEX(Licenciés!E:E,MATCH($A69,Licenciés!$A:$A,0)),\"\")","v":""},null,null,null,null,null,null,null,null,null,null,null,null,null,"","","","",""]
[null,{"$f":"IFERROR(INDEX(Licenciés!B:B,MATCH($A70,Licenciés!$A:$A,0)),\"\")","v":""},{"$f":"IFERROR(INDEX(Licenciés!C:C,MATCH($A70,Licenciés!$A:$A,0)),\"\")","v":""},{"$f":"IFERROR(INDEX(Licenciés!D:D,MATCH($A70,Licenciés!$A:$A,0)),\"\")","v":""},{"$f":"IFERROR(INDEX(Licenciés!E:E,MATCH($A70,Licenciés!$A:$A,0)),\"\")","v":""},null,null,null,null,null,null,null,null,null,null,null,null,null,"","","","",""]

{"sheet":"MINIMES HIVERNAL","index":3,"n_rows":5,"n_cols":14,"rows_kept":5,"cut":false,"hidden":true,"merged":[[0,0,0,1],[0,3,0,13],[1,3,1,13],[2,5,2,13],[3,6,3,9],[3,10,3,13]]}
[null,null,null,"Equipe Athlé Hivernal Minime U16"]
["N° club :","moi","Club:"]
[null,"Nom","Prénom","Cat","Sexe","Familles"]
[null,null,null,null,null,"Juge","Course et Lancers",null,null,null,"Sauts"]
["Licence",null,null,null,null,"Jeune Juge","50m Salle","50m haies Salle","3 000m Marche Salle","Poids Salle","Hauteur Salle","Perche Salle","Longueur Salle","Triple saut Salle"]

{"sheet":"BENJAMINS HIVERNAL","index":4,"n_rows":5,"n_cols":14,"rows_kept":5,"cut":false,"hidden":true,"merged":[[2,5,2,13],[3,6,3,9],[3,10,3,13],[0,0,0,1],[0,3,0,13],[1,3,1,13],[2,1,4,1],[2,2,4,2],[2,3,4,3],[2,4,4,4]]}
[null,null,null,"Equipe Athlé Hivernal Benjamins U14"]
["N° club :",null,"Club:"]
[null,"Nom","Prénom","Cat","Sexe","Familles"]
[null,null,null,null,null,"Juge","Course et Lancers",null,null,null,"Sauts"]
["Licence",null,null,null,null,"Jeune Juge","50m Salle","50m haies Salle","2 000m Marche Salle","Poids Salle","Hauteur Salle","Perche Salle","Longueur Salle","Triple saut Salle"]

{"sheet":"Relais_BE","index":5,"n_rows":49,"n_cols":12,"rows_kept":49,"cut":false,"hidden":false,"merged":[[33,0,36,0],[37,0,40,0],[41,0,44,0],[45,0,48,0],[6,2,8,2],[9,0,12,0],[13,0,16,0],[17,0,20,0],[21,0,24,0],[25,0,28,0],[29,0,32,0],[9,10,12,10],[13,10,16,10],[17,10,20,10],[21,10,24,10],[25,10,28,10],[29,10,32,10],[33,10,36,10],[37,10,40,10],[41,10,44,10],[45,10,48,10],[6,7,8,7],[6,8,8,8],[0,2,0,11],[2,1,4,10],[6,3,8,3],[6,4,8,4],[6,5,8,5],[6,6,8,6],[6,11,8,11],[6,9,8,9],[6,10,8,10]]}
[null,null,"Equipe Athlé Automne / Printemps U16"]
[]
[null,"Benjamins U14"]
[]
[]
[]
[null,null,"Nom","Prénom","Cat","Sexe","nom club","nom equipe","ordre de relais","Vérif catégorie athlète","Vérif relais mixte","Vérif athlète dans un seul relais"]
[]
[null,"Licence"]
["BE 1",null,{"$f":"IFERROR(INDEX(Licenciés!B:B,MATCH($B10,Licenciés!$A:$A,0)),\"\")","v":""},{"$f":"IFERROR(INDEX(Licenciés!C:C,MATCH($B10,Licenciés!$A:$A,0)),\"\")","v":""},{"$f":"IFERROR(INDEX(Licenciés!D:D,MATCH($B10,Licenciés!$A:$A,0)),\"\")","v":""},{"$f":"IFERROR(INDEX(Licenciés!E:E,MATCH($B10,Licenciés!$A:$A,0)),\"\")","v":""},{"$f":"'BENJAMINS ESTIVAL'!$D$2&\" \"&'BENJAMINS ESTIVAL'!$T$2","v":" "},{"$f":"G10&\" \"&A10","v":"  BE 1"},1,{"$f":"IF(B10=\"\",\"\",IF(E10=\"BE\",\"OK\",\"NON\"))","v":""},{"$f":"IF(B10=\"\",\"\",IF(AND(OR(COUNTIF(E10:E13,\"BE\")=4,COUNTIF(E10:E13,\"MI\")=4),COUNTIF(F10:F13,\"F\")=2,COUNTIF(F10:F13,\"M\")=2),\"Mixte\",\"NON\"))","v":""},{"$f":"IF(B10=\"\",\"\",IF(COUNTIF(B:B,B10)>1,\"athlète dans plusieurs relais\",\"OK\"))","v":""}]
[null,null,{"$f":"IFERROR(INDEX(Licenciés!B:B,MATCH($B11,Licenciés!$A:$A,0)),\"\")","v":""},{"$f":"IFERROR(INDEX(Licenciés!C:C,MATCH($B11,Licenciés!$A:$A,0)),\"\")","v":""},{"$f":"IFERROR(INDEX(Licenciés!D:D,MATCH($B11,Licenciés!$A:$A,0)),\"\")","v":""},{"$f":"IFERROR(INDEX(Licenciés!E:E,MATCH($B11,Licenciés!$A:$A,0)),\"\")","v":""},{"$f":"G10","v":" "},"  BE 1",2,"",null,""]
[null,null,{"$f":"IFERROR(INDEX(Licenciés!B:B,MATCH($B12,Licenciés!$A:$A,0)),\"\")","v":""},{"$f":"IFERROR(INDEX(Licenciés!C:C,MATCH($B12,Licenciés!$A:$A,0)),\"\")","v":""},{"$f":"IFERROR(INDEX(Licenciés!D:D,MATCH($B12,Licenciés!$A:$A,0)),\"\")","v":""},{"$f":"IFERROR(INDEX(Licenciés!E:E,MATCH($B12,Licenciés!$A:$A,0)),\"\")","v":""},{"$f":"G11","v":" "},"  BE 1",3,"",null,""]
[null,null,{"$f":"IFERROR(INDEX(Licenciés!B:B,MATCH($B13,Licenciés!$A:$A,0)),\"\")","v":""},{"$f":"IFERROR(INDEX(Licenciés!C:C,MATCH($B13,Licenciés!$A:$A,0)),\"\")","v":""},{"$f":"IFERROR(INDEX(Licenciés!D:D,MATCH($B13,Licenciés!$A:$A,0)),\"\")","v":""},{"$f":"IFERROR(INDEX(Licenciés!E:E,MATCH($B13,Licenciés!$A:$A,0)),\"\")","v":""},{"$f":"G12","v":" "},"  BE 1",4,"",null,""]
["BE 2",null,{"$f":"IFERROR(INDEX(Licenciés!B:B,MATCH($B14,Licenciés!$A:$A,0)),\"\")","v":""},{"$f":"IFERROR(INDEX(Licenciés!C:C,MATCH($B14,Licenciés!$A:$A,0)),\"\")","v":""},{"$f":"IFERROR(INDEX(Licenciés!D:D,MATCH($B14,Licenciés!$A:$A,0)),\"\")","v":""},{"$f":"IFERROR(INDEX(Licenciés!E:E,MATCH($B14,Licenciés!$A:$A,0)),\"\")","v":""},{"$f":"'BENJAMINS ESTIVAL'!$D$2&\" \"&'BENJAMINS ESTIVAL'!$T$2","v":" "},{"$f":"G14&\" \"&A14","v":"  BE 2"},1,"",{"$f":"IF(B14=\"\",\"\",IF(AND(OR(COUNTIF(E14:E17,\"BE\")=4,COUNTIF(E14:E17,\"MI\")=4),COUNTIF(F14:F17,\"F\")=2,COUNTIF(F14:F17,\"M\")=2),\"Mixte\",\"NON\"))","v":""},""]
[null,null,{"$f":"IFERROR(INDEX(Licenciés!B:B,MATCH($B15,Licenciés!$A:$A,0)),\"\")","v":""},{"$f":"IFERROR(INDEX(Licenciés!C:C,MATCH($B15,Licenciés!$A:$A,0)),\"\")","v":""},{"$f":"IFERROR(INDEX(Licenciés!D:D,MATCH($B15,Licenciés!$A:$A,0)),\"\")","v":""},{"$f":"IFERROR(INDEX(Licenciés!E:E,MATCH($B15,Licenciés!$A:$A,0)),\"\")","v":""},{"$f":"G14","v":" "},{"$f":"H14","v":"  BE 2"},2,"",null,""]
[null,null,{"$f":"IFERROR(INDEX(Licenciés!B:B,MATCH($B16,Licenciés!$A:$A,0)),\"\")","v":""},{"$f":"IFERROR(INDEX(Licenciés!C:C,MATCH($B16,Licenciés!$A:$A,0)),\"\")","v":""},{"$f":"IFERROR(INDEX(Licenciés!D:D,MATCH($B16,Licenciés!$A:$A,0)),\"\")","v":""},{"$f":"IFERROR(INDEX(Licenciés!E:E,MATCH($B16,Licenciés!$A:$A,0)),\"\")","v":""},{"$f":"G15","v":" "},{"$f":"H15","v":"  BE 2"},3,"",null,""]
[null,null,{"$f":"IFERROR(INDEX(Licenciés!B:B,MATCH($B17,Licenciés!$A:$A,0)),\"\")","v":""},{"$f":"IFERROR(INDEX(Licenciés!C:C,MATCH($B17,Licenciés!$A:$A,0)),\"\")","v":""},{"$f":"IFERROR(INDEX(Licenciés!D:D,MATCH($B17,Licenciés!$A:$A,0)),\"\")","v":""},{"$f":"IFERROR(INDEX(Licenciés!E:E,MATCH($B17,Licenciés!$A:$A,0)),\"\")","v":""},{"$f":"G16","v":" "},{"$f":"H16","v":"  BE 2"},4,"",null,""]
["BE 3",null,{"$f":"IFERROR(INDEX(Licenciés!B:B,MATCH($B18,Licenciés!$A:$A,0)),\"\")","v":""},{"$f":"IFERROR(INDEX(Licenciés!C:C,MATCH($B18,Licenciés!$A:$A,0)),\"\")","v":""},{"$f":"IFERROR(INDEX(Licenciés!D:D,MATCH($B18,Licenciés!$A:$A,0)),\"\")","v":""},{"$f":"IFERROR(INDEX(Licenciés!E:E,MATCH($B18,Licenciés!$A:$A,0)),\"\")","v":""},{"$f":"'BENJAMINS ESTIVAL'!$D$2&\" \"&'BENJAMINS ESTIVAL'!$T$2","v":" "},{"$f":"G18&\" \"&A18","v":"  BE 3"},1,"",{"$f":"IF(B18=\"\",\"\",IF(AND(OR(COUNTIF(E18:E21,\"BE\")=4,COUNTIF(E18:E21,\"MI\")=4),COUNTIF(F18:F21,\"F\")=2,COUNTIF(F18:F21,\"M\")=2),\"Mixte\",\"NON\"))","v":""},""]
[null,null,{"$f":"IFERROR(INDEX(Licenciés!B:B,MATCH($B19,Licenciés!$A:$A,0)),\"\")","v":""},{"$f":"IFERROR(INDEX(Licenciés!C:C,MATCH($B19,Licenciés!$A:$A,0)),\"\")","v":""},{"$f":"IFERROR(INDEX(Licenciés!D:D,MATCH($B19,Licenciés!$A:$A,0)),\"\")","v":""},{"$f":"IFERROR(INDEX(Licenciés!E:E,MATCH($B19,Licenciés!$A:$A,0)),\"\")","v":""},{"$f":"G18","v":" "},{"$f":"H18","v":"  BE 3"},2,"",null,""]
[null,null,{"$f":"IFERROR(INDEX(Licenciés!B:B,MATCH($B20,Licenciés!$A:$A,0)),\"\")","v":""},{"$f":"IFERROR(INDEX(Licenciés!C:C,MATCH($B20,Licenciés!$A:$A,0)),\"\")","v":""},{"$f":"IFERROR(INDEX(Licenciés!D:D,MATCH($B20,Licenciés!$A:$A,0)),\"\")","v":""},{"$f":"IFERROR(INDEX(Licenciés!E:E,MATCH($B20,Licenciés!$A:$A,0)),\"\")","v":""},{"$f":"G19","v":" "},{"$f":"H19","v":"  BE 3"},3,"",null,""]
[null,null,{"$f":"IFERROR(INDEX(Licenciés!B:B,MATCH($B21,Licenciés!$A:$A,0)),\"\")","v":""},{"$f":"IFERROR(INDEX(Licenciés!C:C,MATCH($B21,Licenciés!$A:$A,0)),\"\")","v":""},{"$f":"IFERROR(INDEX(Licenciés!D:D,MATCH($B21,Licenciés!$A:$A,0)),\"\")","v":""},{"$f":"IFERROR(INDEX(Licenciés!E:E,MATCH($B21,Licenciés!$A:$A,0)),\"\")","v":""},{"$f":"G20","v":" "},{"$f":"H20","v":"  BE 3"},4,"",null,""]
["BE 4",null,{"$f":"IFERROR(INDEX(Licenciés!B:B,MATCH($B22,Licenciés!$A:$A,0)),\"\")","v":""},{"$f":"IFERROR(INDEX(Licenciés!C:C,MATCH($B22,Licenciés!$A:$A,0)),\"\")","v":""},{"$f":"IFERROR(INDEX(Licenciés!D:D,MATCH($B22,Licenciés!$A:$A,0)),\"\")","v":""},{"$f":"IFERROR(INDEX(Licenciés!E:E,MATCH($B22,Licenciés!$A:$A,0)),\"\")","v":""},{"$f":"'BENJAMINS ESTIVAL'!$D$2&\" \"&'BENJAMINS ESTIVAL'!$T$2","v":" "},{"$f":"G22&\" \"&A22","v":"  BE 4"},1,"",{"$f":"IF(B22=\"\",\"\",IF(AND(OR(COUNTIF(E22:E25,\"BE\")=4,COUNTIF(E22:E25,\"MI\")=4),COUNTIF(F22:F25,\"F\")=2,COUNTIF(F22:F25,\"M\")=2),\"Mixte\",\"NON\"))","v":""},""]
[null,null,{"$f":"IFERROR(INDEX(Licenciés!B:B,MATCH($B23,Licenciés!$A:$A,0)),\"\")","v":""},{"$f":"IFERROR(INDEX(Licenciés!C:C,MATCH($B23,Licenciés!$A:$A,0)),\"\")","v":""},{"$f":"IFERROR(INDEX(Licenciés!D:D,MATCH($B23,Licenciés!$A:$A,0)),\"\")","v":""},{"$f":"IFERROR(INDEX(Licenciés!E:E,MATCH($B23,Licenciés!$A:$A,0)),\"\")","v":""},{"$f":"G22","v":" "},{"$f":"H22","v":"  BE 4"},2,"",null,""]
[null,null,{"$f":"IFERROR(INDEX(Licenciés!B:B,MATCH($B24,Licenciés!$A:$A,0)),\"\")","v":""},{"$f":"IFERROR(INDEX(Licenciés!C:C,MATCH($B24,Licenciés!$A:$A,0)),\"\")","v":""},{"$f":"IFERROR(INDEX(Licenciés!D:D,MATCH($B24,Licenciés!$A:$A,0)),\"\")","v":""},{"$f":"IFERROR(INDEX(Licenciés!E:E,MATCH($B24,Licenciés!$A:$A,0)),\"\")","v":""},{"$f":"G23","v":" "},{"$f":"H23","v":"  BE 4"},3,"",null,""]
[null,null,{"$f":"IFERROR(INDEX(Licenciés!B:B,MATCH($B25,Licenciés!$A:$A,0)),\"\")","v":""},{"$f":"IFERROR(INDEX(Licenciés!C:C,MATCH($B25,Licenciés!$A:$A,0)),\"\")","v":""},{"$f":"IFERROR(INDEX(Licenciés!D:D,MATCH($B25,Licenciés!$A:$A,0)),\"\")","v":""},{"$f":"IFERROR(INDEX(Licenciés!E:E,MATCH($B25,Licenciés!$A:$A,0)),\"\")","v":""},{"$f":"G24","v":" "},{"$f":"H24","v":"  BE 4"},4,"",null,""]
["BE 5",null,{"$f":"IFERROR(INDEX(Licenciés!B:B,MATCH($B26,Licenciés!$A:$A,0)),\"\")","v":""},{"$f":"IFERROR(INDEX(Licenciés!C:C,MATCH($B26,Licenciés!$A:$A,0)),\"\")","v":""},{"$f":"IFERROR(INDEX(Licenciés!D:D,MATCH($B26,Licenciés!$A:$A,0)),\"\")","v":""},{"$f":"IFERROR(INDEX(Licenciés!E:E,MATCH($B26,Licenciés!$A:$A,0)),\"\")","v":""},{"$f":"'BENJAMINS ESTIVAL'!$D$2&\" \"&'BENJAMINS ESTIVAL'!$T$2","v":" "},{"$f":"G26&\" \"&A26","v":"  BE 5"},1,"",{"$f":"IF(B26=\"\",\"\",IF(AND(OR(COUNTIF(E26:E29,\"BE\")=4,COUNTIF(E26:E29,\"MI\")=4),COUNTIF(F26:F29,\"F\")=2,COUNTIF(F26:F29,\"M\")=2),\"Mixte\",\"NON\"))","v":""},""]
[null,null,{"$f":"IFERROR(INDEX(Licenciés!B:B,MATCH($B27,Licenciés!$A:$A,0)),\"\")","v":""},{"$f":"IFERROR(INDEX(Licenciés!C:C,MATCH($B27,Licenciés!$A:$A,0)),\"\")","v":""},{"$f":"IFERROR(INDEX(Licenciés!D:D,MATCH($B27,Licenciés!$A:$A,0)),\"\")","v":""},{"$f":"IFERROR(INDEX(Licenciés!E:E,MATCH($B27,Licenciés!$A:$A,0)),\"\")","v":""},{"$f":"G26","v":" "},{"$f":"H26","v":"  BE 5"},2,"",null,""]
[null,null,{"$f":"IFERROR(INDEX(Licenciés!B:B,MATCH($B28,Licenciés!$A:$A,0)),\"\")","v":""},{"$f":"IFERROR(INDEX(Licenciés!C:C,MATCH($B28,Licenciés!$A:$A,0)),\"\")","v":""},{"$f":"IFERROR(INDEX(Licenciés!D:D,MATCH($B28,Licenciés!$A:$A,0)),\"\")","v":""},{"$f":"IFERROR(INDEX(Licenciés!E:E,MATCH($B28,Licenciés!$A:$A,0)),\"\")","v":""},{"$f":"G27","v":" "},{"$f":"H27","v":"  BE 5"},3,"",null,""]
[null,null,{"$f":"IFERROR(INDEX(Licenciés!B:B,MATCH($B29,Licenciés!$A:$A,0)),\"\")","v":""},{"$f":"IFERROR(INDEX(Licenciés!C:C,MATCH($B29,Licenciés!$A:$A,0)),\"\")","v":""},{"$f":"IFERROR(INDEX(Licenciés!D:D,MATCH($B29,Licenciés!$A:$A,0)),\"\")","v":""},{"$f":"IFERROR(INDEX(Licenciés!E:E,MATCH($B29,Licenciés!$A:$A,0)),\"\")","v":""},{"$f":"G28","v":" "},{"$f":"H28","v":"  BE 5"},4,"",null,""]
["BE 6",null,{"$f":"IFERROR(INDEX(Licenciés!B:B,MATCH($B30,Licenciés!$A:$A,0)),\"\")","v":""},{"$f":"IFERROR(INDEX(Licenciés!C:C,MATCH($B30,Licenciés!$A:$A,0)),\"\")","v":""},{"$f":"IFERROR(INDEX(Licenciés!D:D,MATCH($B30,Licenciés!$A:$A,0)),\"\")","v":""},{"$f":"IFERROR(INDEX(Licenciés!E:E,MATCH($B30,Licenciés!$A:$A,0)),\"\")","v":""},{"$f":"'BENJAMINS ESTIVAL'!$D$2&\" \"&'BENJAMINS ESTIVAL'!$T$2","v":" "},{"$f":"G30&\" \"&A30","v":"  BE 6"},1,"","",""]
[null,null,{"$f":"IFERROR(INDEX(Licenciés!B:B,MATCH($B31,Licenciés!$A:$A,0)),\"\")","v":""},{"$f":"IFERROR(INDEX(Licenciés!C:C,MATCH($B31,Licenciés!$A:$A,0)),\"\")","v":""},{"$f":"IFERROR(INDEX(Licenciés!D:D,MATCH($B31,Licenciés!$A:$A,0)),\"\")","v":""},{"$f":"IFERROR(INDEX(Licenciés!E:E,MATCH($B31,Licenciés!$A:$A,0)),\"\")","v":""},{"$f":"G30","v":" "},{"$f":"H30","v":"  BE 6"},2,"",null,""]
[null,null,{"$f":"IFERROR(INDEX(Licenciés!B:B,MATCH($B32,Licenciés!$A:$A,0)),\"\")","v":""},{"$f":"IFERROR(INDEX(Licenciés!C:C,MATCH($B32,Licenciés!$A:$A,0)),\"\")","v":""},{"$f":"IFERROR(INDEX(Licenciés!D:D,MATCH($B32,Licenciés!$A:$A,0)),\"\")","v":""},{"$f":"IFERROR(INDEX(Licenciés!E:E,MATCH($B32,Licenciés!$A:$A,0)),\"\")","v":""},{"$f":"G31","v":" "},{"$f":"H31","v":"  BE 6"},3,"",null,""]
[null,null,{"$f":"IFERROR(INDEX(Licenciés!B:B,MATCH($B33,Licenciés!$A:$A,0)),\"\")","v":""},{"$f":"IFERROR(INDEX(Licenciés!C:C,MATCH($B33,Licenciés!$A:$A,0)),\"\")","v":""},{"$f":"IFERROR(INDEX(Licenciés!D:D,MATCH($B33,Licenciés!$A:$A,0)),\"\")","v":""},{"$f":"IFERROR(INDEX(Licenciés!E:E,MATCH($B33,Licenciés!$A:$A,0)),\"\")","v":""},{"$f":"G32","v":" "},{"$f":"H32","v":"  BE 6"},4,"",null,""]
["BE 7",null,{"$f":"IFERROR(INDEX(Licenciés!B:B,MATCH($B34,Licenciés!$A:$A,0)),\"\")","v":""},{"$f":"IFERROR(INDEX(Licenciés!C:C,MATCH($B34,Licenciés!$A:$A,0)),\"\")","v":""},{"$f":"IFERROR(INDEX(Licenciés!D:D,MATCH($B34,Licenciés!$A:$A,0)),\"\")","v":""},{"$f":"IFERROR(INDEX(Licenciés!E:E,MATCH($B34,Licenciés!$A:$A,0)),\"\")","v":""},{"$f":"'BENJAMINS ESTIVAL'!$D$2&\" \"&'BENJAMINS ESTIVAL'!$T$2","v":" "},{"$f":"G34&\" \"&A34","v":"  BE 7"},1,"","",""]
[null,null,{"$f":"IFERROR(INDEX(Licenciés!B:B,MATCH($B35,Licenciés!$A:$A,0)),\"\")","v":""},{"$f":"IFERROR(INDEX(Licenciés!C:C,MATCH($B35,Licenciés!$A:$A,0)),\"\")","v":""},{"$f":"IFERROR(INDEX(Licenciés!D:D,MATCH($B35,Licenciés!$A:$A,0)),\"\")","v":""},{"$f":"IFERROR(INDEX(Licenciés!E:E,MATCH($B35,Licenciés!$A:$A,0)),\"\")","v":""},{"$f":"G34","v":" "},{"$f":"H34","v":"  BE 7"},2,"",null,""]
[null,null,{"$f":"IFERROR(INDEX(Licenciés!B:B,MATCH($B36,Licenciés!$A:$A,0)),\"\")","v":""},{"$f":"IFERROR(INDEX(Licenciés!C:C,MATCH($B36,Licenciés!$A:$A,0)),\"\")","v":""},{"$f":"IFERROR(INDEX(Licenciés!D:D,MATCH($B36,Licenciés!$A:$A,0)),\"\")","v":""},{"$f":"IFERROR(INDEX(Licenciés!E:E,MATCH($B36,Licenciés!$A:$A,0)),\"\")","v":""},{"$f":"G35","v":" "},{"$f":"H35","v":"  BE 7"},3,"",null,""]
[null,null,{"$f":"IFERROR(INDEX(Licenciés!B:B,MATCH($B37,Licenciés!$A:$A,0)),\"\")","v":""},{"$f":"IFERROR(INDEX(Licenciés!C:C,MATCH($B37,Licenciés!$A:$A,0)),\"\")","v":""},{"$f":"IFERROR(INDEX(Licenciés!D:D,MATCH($B37,Licenciés!$A:$A,0)),\"\")","v":""},{"$f":"IFERROR(INDEX(Licenciés!E:E,MATCH($B37,Licenciés!$A:$A,0)),\"\")","v":""},{"$f":"G36","v":" "},{"$f":"H36","v":"  BE 7"},4,"",null,""]
["BE 8",null,{"$f":"IFERROR(INDEX(Licenciés!B:B,MATCH($B38,Licenciés!$A:$A,0)),\"\")","v":""},{"$f":"IFERROR(INDEX(Licenciés!C:C,MATCH($B38,Licenciés!$A:$A,0)),\"\")","v":""},{"$f":"IFERROR(INDEX(Licenciés!D:D,MATCH($B38,Licenciés!$A:$A,0)),\"\")","v":""},{"$f":"IFERROR(INDEX(Licenciés!E:E,MATCH($B38,Licenciés!$A:$A,0)),\"\")","v":""},{"$f":"'BENJAMINS ESTIVAL'!$D$2&\" \"&'BENJAMINS ESTIVAL'!$T$2","v":" "},{"$f":"G38&\" \"&A38","v":"  BE 8"},1,"","",""]
[null,null,{"$f":"IFERROR(INDEX(Licenciés!B:B,MATCH($B39,Licenciés!$A:$A,0)),\"\")","v":""},{"$f":"IFERROR(INDEX(Licenciés!C:C,MATCH($B39,Licenciés!$A:$A,0)),\"\")","v":""},{"$f":"IFERROR(INDEX(Licenciés!D:D,MATCH($B39,Licenciés!$A:$A,0)),\"\")","v":""},{"$f":"IFERROR(INDEX(Licenciés!E:E,MATCH($B39,Licenciés!$A:$A,0)),\"\")","v":""},{"$f":"G38","v":" "},{"$f":"H38","v":"  BE 8"},2,"",null,""]
[null,null,{"$f":"IFERROR(INDEX(Licenciés!B:B,MATCH($B40,Licenciés!$A:$A,0)),\"\")","v":""},{"$f":"IFERROR(INDEX(Licenciés!C:C,MATCH($B40,Licenciés!$A:$A,0)),\"\")","v":""},{"$f":"IFERROR(INDEX(Licenciés!D:D,MATCH($B40,Licenciés!$A:$A,0)),\"\")","v":""},{"$f":"IFERROR(INDEX(Licenciés!E:E,MATCH($B40,Licenciés!$A:$A,0)),\"\")","v":""},{"$f":"G39","v":" "},{"$f":"H39","v":"  BE 8"},3,"",null,""]
[null,null,{"$f":"IFERROR(INDEX(Licenciés!B:B,MATCH($B41,Licenciés!$A:$A,0)),\"\")","v":""},{"$f":"IFERROR(INDEX(Licenciés!C:C,MATCH($B41,Licenciés!$A:$A,0)),\"\")","v":""},{"$f":"IFERROR(INDEX(Licenciés!D:D,MATCH($B41,Licenciés!$A:$A,0)),\"\")","v":""},{"$f":"IFERROR(INDEX(Licenciés!E:E,MATCH($B41,Licenciés!$A:$A,0)),\"\")","v":""},{"$f":"G40","v":" "},{"$f":"H40","v":"  BE 8"},4,"",null,""]
["BE 9",null,{"$f":"IFERROR(INDEX(Licenciés!B:B,MATCH($B42,Licenciés!$A:$A,0)),\"\")","v":""},{"$f":"IFERROR(INDEX(Licenciés!C:C,MATCH($B42,Licenciés!$A:$A,0)),\"\")","v":""},{"$f":"IFERROR(INDEX(Licenciés!D:D,MATCH($B42,Licenciés!$A:$A,0)),\"\")","v":""},{"$f":"IFERROR(INDEX(Licenciés!E:E,MATCH($B42,Licenciés!$A:$A,0)),\"\")","v":""},{"$f":"'BENJAMINS ESTIVAL'!$D$2&\" \"&'BENJAMINS ESTIVAL'!$T$2","v":" "},{"$f":"G42&\" \"&A42","v":"  BE 9"},1,"",{"$f":"IF(B42=\"\",\"\",IF(AND(OR(COUNTIF(E42:E45,\"BE\")=4,COUNTIF(E42:E45,\"MI\")=4),COUNTIF(F42:F45,\"F\")=2,COUNTIF(F42:F45,\"M\")=2),\"Mixte\",\"NON\"))","v":""},""]
[null,null,{"$f":"IFERROR(INDEX(Licenciés!B:B,MATCH($B43,Licenciés!$A:$A,0)),\"\")","v":""},{"$f":"IFERROR(INDEX(Licenciés!C:C,MATCH($B43,Licenciés!$A:$A,0)),\"\")","v":""},{"$f":"IFERROR(INDEX(Licenciés!D:D,MATCH($B43,Licenciés!$A:$A,0)),\"\")","v":""},{"$f":"IFERROR(INDEX(Licenciés!E:E,MATCH($B43,Licenciés!$A:$A,0)),\"\")","v":""},{"$f":"G42","v":" "},{"$f":"H42","v":"  BE 9"},2,"",null,""]
[null,null,{"$f":"IFERROR(INDEX(Licenciés!B:B,MATCH($B44,Licenciés!$A:$A,0)),\"\")","v":""},{"$f":"IFERROR(INDEX(Licenciés!C:C,MATCH($B44,Licenciés!$A:$A,0)),\"\")","v":""},{"$f":"IFERROR(INDEX(Licenciés!D:D,MATCH($B44,Licenciés!$A:$A,0)),\"\")","v":""},{"$f":"IFERROR(INDEX(Licenciés!E:E,MATCH($B44,Licenciés!$A:$A,0)),\"\")","v":""},{"$f":"G43","v":" "},{"$f":"H43","v":"  BE 9"},3,"",null,""]
[null,null,{"$f":"IFERROR(INDEX(Licenciés!B:B,MATCH($B45,Licenciés!$A:$A,0)),\"\")","v":""},{"$f":"IFERROR(INDEX(Licenciés!C:C,MATCH($B45,Licenciés!$A:$A,0)),\"\")","v":""},{"$f":"IFERROR(INDEX(Licenciés!D:D,MATCH($B45,Licenciés!$A:$A,0)),\"\")","v":""},{"$f":"IFERROR(INDEX(Licenciés!E:E,MATCH($B45,Licenciés!$A:$A,0)),\"\")","v":""},{"$f":"G44","v":" "},{"$f":"H44","v":"  BE 9"},4,"",null,""]
["BE 10",null,{"$f":"IFERROR(INDEX(Licenciés!B:B,MATCH($B46,Licenciés!$A:$A,0)),\"\")","v":""},{"$f":"IFERROR(INDEX(Licenciés!C:C,MATCH($B46,Licenciés!$A:$A,0)),\"\")","v":""},{"$f":"IFERROR(INDEX(Licenciés!D:D,MATCH($B46,Licenciés!$A:$A,0)),\"\")","v":""},{"$f":"IFERROR(INDEX(Licenciés!E:E,MATCH($B46,Licenciés!$A:$A,0)),\"\")","v":""},{"$f":"'BENJAMINS ESTIVAL'!$D$2&\" \"&'BENJAMINS ESTIVAL'!$T$2","v":" "},{"$f":"G46&\" \"&A46","v":"  BE 10"},1,"",{"$f":"IF(B46=\"\",\"\",IF(AND(OR(COUNTIF(E46:E49,\"BE\")=4,COUNTIF(E46:E49,\"MI\")=4),COUNTIF(F46:F49,\"F\")=2,COUNTIF(F46:F49,\"M\")=2),\"Mixte\",\"NON\"))","v":""},""]
[null,null,{"$f":"IFERROR(INDEX(Licenciés!B:B,MATCH($B47,Licenciés!$A:$A,0)),\"\")","v":""},{"$f":"IFERROR(INDEX(Licenciés!C:C,MATCH($B47,Licenciés!$A:$A,0)),\"\")","v":""},{"$f":"IFERROR(INDEX(Licenciés!D:D,MATCH($B47,Licenciés!$A:$A,0)),\"\")","v":""},{"$f":"IFERROR(INDEX(Licenciés!E:E,MATCH($B47,Licenciés!$A:$A,0)),\"\")","v":""},{"$f":"G46","v":" "},{"$f":"H46","v":"  BE 10"},2,"",null,""]
[null,null,{"$f":"IFERROR(INDEX(Licenciés!B:B,MATCH($B48,Licenciés!$A:$A,0)),\"\")","v":""},{"$f":"IFERROR(INDEX(Licenciés!C:C,MATCH($B48,Licenciés!$A:$A,0)),\"\")","v":""},{"$f":"IFERROR(INDEX(Licenciés!D:D,MATCH($B48,Licenciés!$A:$A,0)),\"\")","v":""},{"$f":"IFERROR(INDEX(Licenciés!E:E,MATCH($B48,Licenciés!$A:$A,0)),\"\")","v":""},{"$f":"G47","v":" "},{"$f":"H47","v":"  BE 10"},3,"",null,""]
[null,null,{"$f":"IFERROR(INDEX(Licenciés!B:B,MATCH($B49,Licenciés!$A:$A,0)),\"\")","v":""},{"$f":"IFERROR(INDEX(Licenciés!C:C,MATCH($B49,Licenciés!$A:$A,0)),\"\")","v":""},{"$f":"IFERROR(INDEX(Licenciés!D:D,MATCH($B49,Licenciés!$A:$A,0)),\"\")","v":""},{"$f":"IFERROR(INDEX(Licenciés!E:E,MATCH($B49,Licenciés!$A:$A,0)),\"\")","v":""},{"$f":"G48","v":" "},{"$f":"H48","v":"  BE 10"},4,"",null,""]

{"sheet":"Relais_MI","index":6,"n_rows":49,"n_cols":12,"rows_kept":49,"cut":false,"hidden":false,"merged":[[33,0,36,0],[37,0,40,0],[41,0,44,0],[45,0,48,0],[6,2,8,2],[9,0,12,0],[13,0,16,0],[17,0,20,0],[21,0,24,0],[25,0,28,0],[29,0,32,0],[9,10,12,10],[13,10,16,10],[17,10,20,10],[21,10,24,10],[25,10,28,10],[29,10,32,10],[33,10,36,10],[37,10,40,10],[41,10,44,10],[45,10,48,10],[6,7,8,7],[6,8,8,8],[0,2,0,11],[2,1,4,10],[6,3,8,3],[6,4,8,4],[6,5,8,5],[6,6,8,6],[6,11,8,11],[6,9,8,9],[6,10,8,10]]}
[null,null,"Equipe Athlé Automne / Printemps U16"]
[]
[null,"Minimes U16"]
[]
[]
[]
[null,null,"Nom","Prénom","Cat","Sexe","nom club","nom equipe","ordre de relais","Vérif catégorie athlète","Vérif relais mixte","Vérif athlète dans un seul relais"]
[]
[null,"Licence"]
["MI 1",null,{"$f":"IFERROR(INDEX(Licenciés!B:B,MATCH($B10,Licenciés!$A:$A,0)),\"\")","v":""},{"$f":"IFERROR(INDEX(Licenciés!C:C,MATCH($B10,Licenciés!$A:$A,0)),\"\")","v":""},{"$f":"IFERROR(INDEX(Licenciés!D:D,MATCH($B10,Licenciés!$A:$A,0)),\"\")","v":""},{"$f":"IFERROR(INDEX(Licenciés!E:E,MATCH($B10,Licenciés!$A:$A,0)),\"\")","v":""},{"$f":"'MINIMES ESTIVAL'!$D$2&\" \"&'MINIMES ESTIVAL'!$W$2","v":" "},{"$f":"G10&\" \"&A10","v":"  MI 1"},1,{"$f":"IF(B10=\"\",\"\",IF(E10=\"MI\",\"OK\",\"NON\"))","v":""},{"$f":"IF(B10=\"\",\"\",IF(AND(OR(COUNTIF(E10:E13,\"BE\")=4,COUNTIF(E10:E13,\"MI\")=4),COUNTIF(F10:F13,\"F\")=2,COUNTIF(F10:F13,\"M\")=2),\"Mixte\",\"NON\"))","v":""},{"$f":"IF(B10=\"\",\"\",IF(COUNTIF(B:B,B10)>1,\"athlète dans plusieurs relais\",\"OK\"))","v":""}]
[null,null,{"$f":"IFERROR(INDEX(Licenciés!B:B,MATCH($B11,Licenciés!$A:$A,0)),\"\")","v":""},{"$f":"IFERROR(INDEX(Licenciés!C:C,MATCH($B11,Licenciés!$A:$A,0)),\"\")","v":""},{"$f":"IFERROR(INDEX(Licenciés!D:D,MATCH($B11,Licenciés!$A:$A,0)),\"\")","v":""},{"$f":"IFERROR(INDEX(Licenciés!E:E,MATCH($B11,Licenciés!$A:$A,0)),\"\")","v":""},{"$f":"G10","v":" "},"  MI 1",2,"",null,""]
[null,null,{"$f":"IFERROR(INDEX(Licenciés!B:B,MATCH($B12,Licenciés!$A:$A,0)),\"\")","v":""},{"$f":"IFERROR(INDEX(Licenciés!C:C,MATCH($B12,Licenciés!$A:$A,0)),\"\")","v":""},{"$f":"IFERROR(INDEX(Licenciés!D:D,MATCH($B12,Licenciés!$A:$A,0)),\"\")","v":""},{"$f":"IFERROR(INDEX(Licenciés!E:E,MATCH($B12,Licenciés!$A:$A,0)),\"\")","v":""},{"$f":"G11","v":" "},"  MI 1",3,"",null,""]
[null,null,{"$f":"IFERROR(INDEX(Licenciés!B:B,MATCH($B13,Licenciés!$A:$A,0)),\"\")","v":""},{"$f":"IFERROR(INDEX(Licenciés!C:C,MATCH($B13,Licenciés!$A:$A,0)),\"\")","v":""},{"$f":"IFERROR(INDEX(Licenciés!D:D,MATCH($B13,Licenciés!$A:$A,0)),\"\")","v":""},{"$f":"IFERROR(INDEX(Licenciés!E:E,MATCH($B13,Licenciés!$A:$A,0)),\"\")","v":""},{"$f":"G12","v":" "},"  MI 1",4,"",null,""]
["MI 2",null,{"$f":"IFERROR(INDEX(Licenciés!B:B,MATCH($B14,Licenciés!$A:$A,0)),\"\")","v":""},{"$f":"IFERROR(INDEX(Licenciés!C:C,MATCH($B14,Licenciés!$A:$A,0)),\"\")","v":""},{"$f":"IFERROR(INDEX(Licenciés!D:D,MATCH($B14,Licenciés!$A:$A,0)),\"\")","v":""},{"$f":"IFERROR(INDEX(Licenciés!E:E,MATCH($B14,Licenciés!$A:$A,0)),\"\")","v":""},{"$f":"'MINIMES ESTIVAL'!$D$2&\" \"&'MINIMES ESTIVAL'!$W$2","v":" "},{"$f":"G14&\" \"&A14","v":"  MI 2"},1,"",{"$f":"IF(B14=\"\",\"\",IF(AND(OR(COUNTIF(E14:E17,\"BE\")=4,COUNTIF(E14:E17,\"MI\")=4),COUNTIF(F14:F17,\"F\")=2,COUNTIF(F14:F17,\"M\")=2),\"Mixte\",\"NON\"))","v":""},""]
[null,null,{"$f":"IFERROR(INDEX(Licenciés!B:B,MATCH($B15,Licenciés!$A:$A,0)),\"\")","v":""},{"$f":"IFERROR(INDEX(Licenciés!C:C,MATCH($B15,Licenciés!$A:$A,0)),\"\")","v":""},{"$f":"IFERROR(INDEX(Licenciés!D:D,MATCH($B15,Licenciés!$A:$A,0)),\"\")","v":""},{"$f":"IFERROR(INDEX(Licenciés!E:E,MATCH($B15,Licenciés!$A:$A,0)),\"\")","v":""},{"$f":"G14","v":" "},{"$f":"H14","v":"  MI 2"},2,"",null,""]
[null,null,{"$f":"IFERROR(INDEX(Licenciés!B:B,MATCH($B16,Licenciés!$A:$A,0)),\"\")","v":""},{"$f":"IFERROR(INDEX(Licenciés!C:C,MATCH($B16,Licenciés!$A:$A,0)),\"\")","v":""},{"$f":"IFERROR(INDEX(Licenciés!D:D,MATCH($B16,Licenciés!$A:$A,0)),\"\")","v":""},{"$f":"IFERROR(INDEX(Licenciés!E:E,MATCH($B16,Licenciés!$A:$A,0)),\"\")","v":""},{"$f":"G15","v":" "},{"$f":"H15","v":"  MI 2"},3,"",null,""]
[null,null,{"$f":"IFERROR(INDEX(Licenciés!B:B,MATCH($B17,Licenciés!$A:$A,0)),\"\")","v":""},{"$f":"IFERROR(INDEX(Licenciés!C:C,MATCH($B17,Licenciés!$A:$A,0)),\"\")","v":""},{"$f":"IFERROR(INDEX(Licenciés!D:D,MATCH($B17,Licenciés!$A:$A,0)),\"\")","v":""},{"$f":"IFERROR(INDEX(Licenciés!E:E,MATCH($B17,Licenciés!$A:$A,0)),\"\")","v":""},{"$f":"G16","v":" "},{"$f":"H16","v":"  MI 2"},4,"",null,""]
["MI 3",null,{"$f":"IFERROR(INDEX(Licenciés!B:B,MATCH($B18,Licenciés!$A:$A,0)),\"\")","v":""},{"$f":"IFERROR(INDEX(Licenciés!C:C,MATCH($B18,Licenciés!$A:$A,0)),\"\")","v":""},{"$f":"IFERROR(INDEX(Licenciés!D:D,MATCH($B18,Licenciés!$A:$A,0)),\"\")","v":""},{"$f":"IFERROR(INDEX(Licenciés!E:E,MATCH($B18,Licenciés!$A:$A,0)),\"\")","v":""},{"$f":"'MINIMES ESTIVAL'!$D$2&\" \"&'MINIMES ESTIVAL'!$W$2","v":" "},{"$f":"G18&\" \"&A18","v":"  MI 3"},1,"",{"$f":"IF(B18=\"\",\"\",IF(AND(OR(COUNTIF(E18:E21,\"BE\")=4,COUNTIF(E18:E21,\"MI\")=4),COUNTIF(F18:F21,\"F\")=2,COUNTIF(F18:F21,\"M\")=2),\"Mixte\",\"NON\"))","v":""},""]
[null,null,{"$f":"IFERROR(INDEX(Licenciés!B:B,MATCH($B19,Licenciés!$A:$A,0)),\"\")","v":""},{"$f":"IFERROR(INDEX(Licenciés!C:C,MATCH($B19,Licenciés!$A:$A,0)),\"\")","v":""},{"$f":"IFERROR(INDEX(Licenciés!D:D,MATCH($B19,Licenciés!$A:$A,0)),\"\")","v":""},{"$f":"IFERROR(INDEX(Licenciés!E:E,MATCH($B19,Licenciés!$A:$A,0)),\"\")","v":""},{"$f":"G18","v":" "},{"$f":"H18","v":"  MI 3"},2,"",null,""]
[null,null,{"$f":"IFERROR(INDEX(Licenciés!B:B,MATCH($B20,Licenciés!$A:$A,0)),\"\")","v":""},{"$f":"IFERROR(INDEX(Licenciés!C:C,MATCH($B20,Licenciés!$A:$A,0)),\"\")","v":""},{"$f":"IFERROR(INDEX(Licenciés!D:D,MATCH($B20,Licenciés!$A:$A,0)),\"\")","v":""},{"$f":"IFERROR(INDEX(Licenciés!E:E,MATCH($B20,Licenciés!$A:$A,0)),\"\")","v":""},{"$f":"G19","v":" "},{"$f":"H19","v":"  MI 3"},3,"",null,""]
[null,null,{"$f":"IFERROR(INDEX(Licenciés!B:B,MATCH($B21,Licenciés!$A:$A,0)),\"\")","v":""},{"$f":"IFERROR(INDEX(Licenciés!C:C,MATCH($B21,Licenciés!$A:$A,0)),\"\")","v":""},{"$f":"IFERROR(INDEX(Licenciés!D:D,MATCH($B21,Licenciés!$A:$A,0)),\"\")","v":""},{"$f":"IFERROR(INDEX(Licenciés!E:E,MATCH($B21,Licenciés!$A:$A,0)),\"\")","v":""},{"$f":"G20","v":" "},{"$f":"H20","v":"  MI 3"},4,"",null,""]
["MI 4",null,{"$f":"IFERROR(INDEX(Licenciés!B:B,MATCH($B22,Licenciés!$A:$A,0)),\"\")","v":""},{"$f":"IFERROR(INDEX(Licenciés!C:C,MATCH($B22,Licenciés!$A:$A,0)),\"\")","v":""},{"$f":"IFERROR(INDEX(Licenciés!D:D,MATCH($B22,Licenciés!$A:$A,0)),\"\")","v":""},{"$f":"IFERROR(INDEX(Licenciés!E:E,MATCH($B22,Licenciés!$A:$A,0)),\"\")","v":""},{"$f":"'MINIMES ESTIVAL'!$D$2&\" \"&'MINIMES ESTIVAL'!$W$2","v":" "},{"$f":"G22&\" \"&A22","v":"  MI 4"},1,"","",""]
[null,null,{"$f":"IFERROR(INDEX(Licenciés!B:B,MATCH($B23,Licenciés!$A:$A,0)),\"\")","v":""},{"$f":"IFERROR(INDEX(Licenciés!C:C,MATCH($B23,Licenciés!$A:$A,0)),\"\")","v":""},{"$f":"IFERROR(INDEX(Licenciés!D:D,MATCH($B23,Licenciés!$A:$A,0)),\"\")","v":""},{"$f":"IFERROR(INDEX(Licenciés!E:E,MATCH($B23,Licenciés!$A:$A,0)),\"\")","v":""},{"$f":"G22","v":" "},{"$f":"H22","v":"  MI 4"},2,"",null,""]
[null,null,{"$f":"IFERROR(INDEX(Licenciés!B:B,MATCH($B24,Licenciés!$A:$A,0)),\"\")","v":""},{"$f":"IFERROR(INDEX(Licenciés!C:C,MATCH($B24,Licenciés!$A:$A,0)),\"\")","v":""},{"$f":"IFERROR(INDEX(Licenciés!D:D,MATCH($B24,Licenciés!$A:$A,0)),\"\")","v":""},{"$f":"IFERROR(INDEX(Licenciés!E:E,MATCH($B24,Licenciés!$A:$A,0)),\"\")","v":""},{"$f":"G23","v":" "},{"$f":"H23","v":"  MI 4"},3,"",null,""]
[null,null,{"$f":"IFERROR(INDEX(Licenciés!B:B,MATCH($B25,Licenciés!$A:$A,0)),\"\")","v":""},{"$f":"IFERROR(INDEX(Licenciés!C:C,MATCH($B25,Licenciés!$A:$A,0)),\"\")","v":""},{"$f":"IFERROR(INDEX(Licenciés!D:D,MATCH($B25,Licenciés!$A:$A,0)),\"\")","v":""},{"$f":"IFERROR(INDEX(Licenciés!E:E,MATCH($B25,Licenciés!$A:$A,0)),\"\")","v":""},{"$f":"G24","v":" "},{"$f":"H24","v":"  MI 4"},4,"",null,""]
["MI 5",null,{"$f":"IFERROR(INDEX(Licenciés!B:B,MATCH($B26,Licenciés!$A:$A,0)),\"\")","v":""},{"$f":"IFERROR(INDEX(Licenciés!C:C,MATCH($B26,Licenciés!$A:$A,0)),\"\")","v":""},{"$f":"IFERROR(INDEX(Licenciés!D:D,MATCH($B26,Licenciés!$A:$A,0)),\"\")","v":""},{"$f":"IFERROR(INDEX(Licenciés!E:E,MATCH($B26,Licenciés!$A:$A,0)),\"\")","v":""},{"$f":"'MINIMES ESTIVAL'!$D$2&\" \"&'MINIMES ESTIVAL'!$W$2","v":" "},{"$f":"G26&\" \"&A26","v":"  MI 5"},1,"","",""]
[null,null,{"$f":"IFERROR(INDEX(Licenciés!B:B,MATCH($B27,Licenciés!$A:$A,0)),\"\")","v":""},{"$f":"IFERROR(INDEX(Licenciés!C:C,MATCH($B27,Licenciés!$A:$A,0)),\"\")","v":""},{"$f":"IFERROR(INDEX(Licenciés!D:D,MATCH($B27,Licenciés!$A:$A,0)),\"\")","v":""},{"$f":"IFERROR(INDEX(Licenciés!E:E,MATCH($B27,Licenciés!$A:$A,0)),\"\")","v":""},{"$f":"G26","v":" "},{"$f":"H26","v":"  MI 5"},2,"",null,""]
[null,null,{"$f":"IFERROR(INDEX(Licenciés!B:B,MATCH($B28,Licenciés!$A:$A,0)),\"\")","v":""},{"$f":"IFERROR(INDEX(Licenciés!C:C,MATCH($B28,Licenciés!$A:$A,0)),\"\")","v":""},{"$f":"IFERROR(INDEX(Licenciés!D:D,MATCH($B28,Licenciés!$A:$A,0)),\"\")","v":""},{"$f":"IFERROR(INDEX(Licenciés!E:E,MATCH($B28,Licenciés!$A:$A,0)),\"\")","v":""},{"$f":"G27","v":" "},{"$f":"H27","v":"  MI 5"},3,"",null,""]
[null,null,{"$f":"IFERROR(INDEX(Licenciés!B:B,MATCH($B29,Licenciés!$A:$A,0)),\"\")","v":""},{"$f":"IFERROR(INDEX(Licenciés!C:C,MATCH($B29,Licenciés!$A:$A,0)),\"\")","v":""},{"$f":"IFERROR(INDEX(Licenciés!D:D,MATCH($B29,Licenciés!$A:$A,0)),\"\")","v":""},{"$f":"IFERROR(INDEX(Licenciés!E:E,MATCH($B29,Licenciés!$A:$A,0)),\"\")","v":""},{"$f":"G28","v":" "},{"$f":"H28","v":"  MI 5"},4,"",null,""]
["MI 6",null,{"$f":"IFERROR(INDEX(Licenciés!B:B,MATCH($B30,Licenciés!$A:$A,0)),\"\")","v":""},{"$f":"IFERROR(INDEX(Licenciés!C:C,MATCH($B30,Licenciés!$A:$A,0)),\"\")","v":""},{"$f":"IFERROR(INDEX(Licenciés!D:D,MATCH($B30,Licenciés!$A:$A,0)),\"\")","v":""},{"$f":"IFERROR(INDEX(Licenciés!E:E,MATCH($B30,Licenciés!$A:$A,0)),\"\")","v":""},{"$f":"'MINIMES ESTIVAL'!$D$2&\" \"&'MINIMES ESTIVAL'!$W$2","v":" "},{"$f":"G30&\" \"&A30","v":"  MI 6"},1,"","",""]
[null,null,{"$f":"IFERROR(INDEX(Licenciés!B:B,MATCH($B31,Licenciés!$A:$A,0)),\"\")","v":""},{"$f":"IFERROR(INDEX(Licenciés!C:C,MATCH($B31,Licenciés!$A:$A,0)),\"\")","v":""},{"$f":"IFERROR(INDEX(Licenciés!D:D,MATCH($B31,Licenciés!$A:$A,0)),\"\")","v":""},{"$f":"IFERROR(INDEX(Licenciés!E:E,MATCH($B31,Licenciés!$A:$A,0)),\"\")","v":""},{"$f":"G30","v":" "},{"$f":"H30","v":"  MI 6"},2,"",null,""]
[null,null,{"$f":"IFERROR(INDEX(Licenciés!B:B,MATCH($B32,Licenciés!$A:$A,0)),\"\")","v":""},{"$f":"IFERROR(INDEX(Licenciés!C:C,MATCH($B32,Licenciés!$A:$A,0)),\"\")","v":""},{"$f":"IFERROR(INDEX(Licenciés!D:D,MATCH($B32,Licenciés!$A:$A,0)),\"\")","v":""},{"$f":"IFERROR(INDEX(Licenciés!E:E,MATCH($B32,Licenciés!$A:$A,0)),\"\")","v":""},{"$f":"G31","v":" "},{"$f":"H31","v":"  MI 6"},3,"",null,""]
[null,null,{"$f":"IFERROR(INDEX(Licenciés!B:B,MATCH($B33,Licenciés!$A:$A,0)),\"\")","v":""},{"$f":"IFERROR(INDEX(Licenciés!C:C,MATCH($B33,Licenciés!$A:$A,0)),\"\")","v":""},{"$f":"IFERROR(INDEX(Licenciés!D:D,MATCH($B33,Licenciés!$A:$A,0)),\"\")","v":""},{"$f":"IFERROR(INDEX(Licenciés!E:E,MATCH($B33,Licenciés!$A:$A,0)),\"\")","v":""},{"$f":"G32","v":" "},{"$f":"H32","v":"  MI 6"},4,"",null,""]
["MI 7",null,{"$f":"IFERROR(INDEX(Licenciés!B:B,MATCH($B34,Licenciés!$A:$A,0)),\"\")","v":""},{"$f":"IFERROR(INDEX(Licenciés!C:C,MATCH($B34,Licenciés!$A:$A,0)),\"\")","v":""},{"$f":"IFERROR(INDEX(Licenciés!D:D,MATCH($B34,Licenciés!$A:$A,0)),\"\")","v":""},{"$f":"IFERROR(INDEX(Licenciés!E:E,MATCH($B34,Licenciés!$A:$A,0)),\"\")","v":""},{"$f":"'MINIMES ESTIVAL'!$D$2&\" \"&'MINIMES ESTIVAL'!$W$2","v":" "},{"$f":"G34&\" \"&A34","v":"  MI 7"},1,"",{"$f":"IF(B34=\"\",\"\",IF(AND(OR(COUNTIF(E34:E37,\"BE\")=4,COUNTIF(E34:E37,\"MI\")=4),COUNTIF(F34:F37,\"F\")=2,COUNTIF(F34:F37,\"M\")=2),\"Mixte\",\"NON\"))","v":""},""]
[null,null,{"$f":"IFERROR(INDEX(Licenciés!B:B,MATCH($B35,Licenciés!$A:$A,0)),\"\")","v":""},{"$f":"IFERROR(INDEX(Licenciés!C:C,MATCH($B35,Licenciés!$A:$A,0)),\"\")","v":""},{"$f":"IFERROR(INDEX(Licenciés!D:D,MATCH($B35,Licenciés!$A:$A,0)),\"\")","v":""},{"$f":"IFERROR(INDEX(Licenciés!E:E,MATCH($B35,Licenciés!$A:$A,0)),\"\")","v":""},{"$f":"G34","v":" "},{"$f":"H34","v":"  MI 7"},2,"",null,""]
[null,null,{"$f":"IFERROR(INDEX(Licenciés!B:B,MATCH($B36,Licenciés!$A:$A,0)),\"\")","v":""},{"$f":"IFERROR(INDEX(Licenciés!C:C,MATCH($B36,Licenciés!$A:$A,0)),\"\")","v":""},{"$f":"IFERROR(INDEX(Licenciés!D:D,MATCH($B36,Licenciés!$A:$A,0)),\"\")","v":""},{"$f":"IFERROR(INDEX(Licenciés!E:E,MATCH($B36,Licenciés!$A:$A,0)),\"\")","v":""},{"$f":"G35","v":" "},{"$f":"H35","v":"  MI 7"},3,"",null,""]
[null,null,{"$f":"IFERROR(INDEX(Licenciés!B:B,MATCH($B37,Licenciés!$A:$A,0)),\"\")","v":""},{"$f":"IFERROR(INDEX(Licenciés!C:C,MATCH($B37,Licenciés!$A:$A,0)),\"\")","v":""},{"$f":"IFERROR(INDEX(Licenciés!D:D,MATCH($B37,Licenciés!$A:$A,0)),\"\")","v":""},{"$f":"IFERROR(INDEX(Licenciés!E:E,MATCH($B37,Licenciés!$A:$A,0)),\"\")","v":""},{"$f":"G36","v":" "},{"$f":"H36","v":"  MI 7"},4,"",null,""]
["MI 8",null,{"$f":"IFERROR(INDEX(Licenciés!B:B,MATCH($B38,Licenciés!$A:$A,0)),\"\")","v":""},{"$f":"IFERROR(INDEX(Licenciés!C:C,MATCH($B38,Licenciés!$A:$A,0)),\"\")","v":""},{"$f":"IFERROR(INDEX(Licenciés!D:D,MATCH($B38,Licenciés!$A:$A,0)),\"\")","v":""},{"$f":"IFERROR(INDEX(Licenciés!E:E,MATCH($B38,Licenciés!$A:$A,0)),\"\")","v":""},{"$f":"'MINIMES ESTIVAL'!$D$2&\" \"&'MINIMES ESTIVAL'!$W$2","v":" "},{"$f":"G38&\" \"&A38","v":"  MI 8"},1,"","",""]
[null,null,{"$f":"IFERROR(INDEX(Licenciés!B:B,MATCH($B39,Licenciés!$A:$A,0)),\"\")","v":""},{"$f":"IFERROR(INDEX(Licenciés!C:C,MATCH($B39,Licenciés!$A:$A,0)),\"\")","v":""},{"$f":"IFERROR(INDEX(Licenciés!D:D,MATCH($B39,Licenciés!$A:$A,0)),\"\")","v":""},{"$f":"IFERROR(INDEX(Licenciés!E:E,MATCH($B39,Licenciés!$A:$A,0)),\"\")","v":""},{"$f":"G38","v":" "},{"$f":"H38","v":"  MI 8"},2,"",null,""]
[null,null,{"$f":"IFERROR(INDEX(Licenciés!B:B,MATCH($B40,Licenciés!$A:$A,0)),\"\")","v":""},{"$f":"IFERROR(INDEX(Licenciés!C:C,MATCH($B40,Licenciés!$A:$A,0)),\"\")","v":""},{"$f":"IFERROR(INDEX(Licenciés!D:D,MATCH($B40,Licenciés!$A:$A,0)),\"\")","v":""},{"$f":"IFERROR(INDEX(Licenciés!E:E,MATCH($B40,Licenciés!$A:$A,0)),\"\")","v":""},{"$f":"G39","v":" "},{"$f":"H39","v":"  MI 8"},3,"",null,""]
[null,null,{"$f":"IFERROR(INDEX(Licenciés!B:B,MATCH($B41,Licenciés!$A:$A,0)),\"\")","v":""},{"$f":"IFERROR(INDEX(Licenciés!C:C,MATCH($B41,Licenciés!$A:$A,0)),\"\")","v":""},{"$f":"IFERROR(INDEX(Licenciés!D:D,MATCH($B41,Licenciés!$A:$A,0)),\"\")","v":""},{"$f":"IFERROR(INDEX(Licenciés!E:E,MATCH($B41,Licenciés!$A:$A,0)),\"\")","v":""},{"$f":"G40","v":" "},{"$f":"H40","v":"  MI 8"},4,"",null,""]
["MI 9",null,{"$f":"IFERROR(INDEX(Licenciés!B:B,MATCH($B42,Licenciés!$A:$A,0)),\"\")","v":""},{"$f":"IFERROR(INDEX(Licenciés!C:C,MATCH($B42,Licenciés!$A:$A,0)),\"\")","v":""},{"$f":"IFERROR(INDEX(Licenciés!D:D,MATCH($B42,Licenciés!$A:$A,0)),\"\")","v":""},{"$f":"IFERROR(INDEX(Licenciés!E:E,MATCH($B42,Licenciés!$A:$A,0)),\"\")","v":""},{"$f":"'MINIMES ESTIVAL'!$D$2&\" \"&'MINIMES ESTIVAL'!$W$2","v":" "},{"$f":"G42&\" \"&A42","v":"  MI 9"},1,"","",""]
[null,null,{"$f":"IFERROR(INDEX(Licenciés!B:B,MATCH($B43,Licenciés!$A:$A,0)),\"\")","v":""},{"$f":"IFERROR(INDEX(Licenciés!C:C,MATCH($B43,Licenciés!$A:$A,0)),\"\")","v":""},{"$f":"IFERROR(INDEX(Licenciés!D:D,MATCH($B43,Licenciés!$A:$A,0)),\"\")","v":""},{"$f":"IFERROR(INDEX(Licenciés!E:E,MATCH($B43,Licenciés!$A:$A,0)),\"\")","v":""},{"$f":"G42","v":" "},{"$f":"H42","v":"  MI 9"},2,"",null,""]
[null,null,{"$f":"IFERROR(INDEX(Licenciés!B:B,MATCH($B44,Licenciés!$A:$A,0)),\"\")","v":""},{"$f":"IFERROR(INDEX(Licenciés!C:C,MATCH($B44,Licenciés!$A:$A,0)),\"\")","v":""},{"$f":"IFERROR(INDEX(Licenciés!D:D,MATCH($B44,Licenciés!$A:$A,0)),\"\")","v":""},{"$f":"IFERROR(INDEX(Licenciés!E:E,MATCH($B44,Licenciés!$A:$A,0)),\"\")","v":""},{"$f":"G43","v":" "},{"$f":"H43","v":"  MI 9"},3,"",null,""]
[null,null,{"$f":"IFERROR(INDEX(Licenciés!B:B,MATCH($B45,Licenciés!$A:$A,0)),\"\")","v":""},{"$f":"IFERROR(INDEX(Licenciés!C:C,MATCH($B45,Licenciés!$A:$A,0)),\"\")","v":""},{"$f":"IFERROR(INDEX(Licenciés!D:D,MATCH($B45,Licenciés!$A:$A,0)),\"\")","v":""},{"$f":"IFERROR(INDEX(Licenciés!E:E,MATCH($B45,Licenciés!$A:$A,0)),\"\")","v":""},{"$f":"G44","v":" "},{"$f":"H44","v":"  MI 9"},4,"",null,""]
["MI 10",null,{"$f":"IFERROR(INDEX(Licenciés!B:B,MATCH($B46,Licenciés!$A:$A,0)),\"\")","v":""},{"$f":"IFERROR(INDEX(Licenciés!C:C,MATCH($B46,Licenciés!$A:$A,0)),\"\")","v":""},{"$f":"IFERROR(INDEX(Licenciés!D:D,MATCH($B46,Licenciés!$A:$A,0)),\"\")","v":""},{"$f":"IFERROR(INDEX(Licenciés!E:E,MATCH($B46,Licenciés!$A:$A,0)),\"\")","v":""},{"$f":"'MINIMES ESTIVAL'!$D$2&\" \"&'MINIMES ESTIVAL'!$W$2","v":" "},{"$f":"G46&\" \"&A46","v":"  MI 10"},1,"","",""]
[null,null,{"$f":"IFERROR(INDEX(Licenciés!B:B,MATCH($B47,Licenciés!$A:$A,0)),\"\")","v":""},{"$f":"IFERROR(INDEX(Licenciés!C:C,MATCH($B47,Licenciés!$A:$A,0)),\"\")","v":""},{"$f":"IFERROR(INDEX(Licenciés!D:D,MATCH($B47,Licenciés!$A:$A,0)),\"\")","v":""},{"$f":"IFERROR(INDEX(Licenciés!E:E,MATCH($B47,Licenciés!$A:$A,0)),\"\")","v":""},{"$f":"G46","v":" "},{"$f":"H46","v":"  MI 10"},2,"",null,""]
[null,null,{"$f":"IFERROR(INDEX(Licenciés!B:B,MATCH($B48,Licenciés!$A:$A,0)),\"\")","v":""},{"$f":"IFERROR(INDEX(Licenciés!C:C,MATCH($B48,Licenciés!$A:$A,0)),\"\")","v":""},{"$f":"IFERROR(INDEX(Licenciés!D:D,MATCH($B48,Licenciés!$A:$A,0)),\"\")","v":""},{"$f":"IFERROR(INDEX(Licenciés!E:E,MATCH($B48,Licenciés!$A:$A,0)),\"\")","v":""},{"$f":"G47","v":" "},{"$f":"H47","v":"  MI 10"},3,"",null,""]
[null,null,{"$f":"IFERROR(INDEX(Licenciés!B:B,MATCH($B49,Licenciés!$A:$A,0)),\"\")","v":""},{"$f":"IFERROR(INDEX(Licenciés!C:C,MATCH($B49,Licenciés!$A:$A,0)),\"\")","v":""},{"$f":"IFERROR(INDEX(Licenciés!D:D,MATCH($B49,Licenciés!$A:$A,0)),\"\")","v":""},{"$f":"IFERROR(INDEX(Licenciés!E:E,MATCH($B49,Licenciés!$A:$A,0)),\"\")","v":""},{"$f":"G48","v":" "},{"$f":"H48","v":"  MI 10"},4,"",null,""]

{"sheet":"engagement jury","index":7,"n_rows":1,"n_cols":4,"rows_kept":1,"cut":false,"hidden":false,"merged":[]}
["Licence","Nom","Prenom","Fonction, concours souhaité"]

{"sheet":"verif_reglement","index":8,"n_rows":21,"n_cols":8,"rows_kept":21,"cut":false,"hidden":false,"merged":[[1,1,1,7],[3,2,3,3],[3,6,3,7]]}
[]
[null,"Rappel règlement : 5 athlètes maximum par épreuve et par sexe\nLes tableaux ci-dessous montrent le nombre d'athlètes inscrits sur une même épreuve par catégorie et par sexe. \nLes anomalies sont détectées en rouge"]
[]
[null,null,"nombre d'engagés par épreuve (max 5 par sexe)",null,null,null,"nombre d'engagés par épreuve (max 5 par sexe)"]
[null,null,"MI","MI",null,null,"BE","BE"]
[null,null,"F","M",null,null,"F","M"]
[null,"80m",{"$f":"COUNTIFS('MINIMES ESTIVAL'!G$6:G$130,\"X\",'MINIMES ESTIVAL'!$D$6:$D$130,verif_reglement!C$5,'MINIMES ESTIVAL'!$E$6:$E$130,verif_reglement!C$6)","v":0},{"$f":"COUNTIFS('MINIMES ESTIVAL'!G$6:G$130,\"X\",'MINIMES ESTIVAL'!$D$6:$D$130,verif_reglement!D$5,'MINIMES ESTIVAL'!$E$6:$E$130,verif_reglement!D$6)","v":0},null,"50m",{"$f":"COUNTIFS('BENJAMINS ESTIVAL'!G$6:G$130,\"X\",'BENJAMINS ESTIVAL'!$D$6:$D$130,verif_reglement!G$5,'BENJAMINS ESTIVAL'!$E$6:$E$130,verif_reglement!G$6)","v":0},{"$f":"COUNTIFS('BENJAMINS ESTIVAL'!G$6:G$130,\"X\",'BENJAMINS ESTIVAL'!$D$6:$D$130,verif_reglement!H$5,'BENJAMINS ESTIVAL'!$E$6:$E$130,verif_reglement!H$6)","v":0}]
[null,"120m",{"$f":"COUNTIFS('MINIMES ESTIVAL'!H$6:H$130,\"X\",'MINIMES ESTIVAL'!$D$6:$D$130,verif_reglement!C$5,'MINIMES ESTIVAL'!$E$6:$E$130,verif_reglement!C$6)","v":0},{"$f":"COUNTIFS('MINIMES ESTIVAL'!H$6:H$130,\"X\",'MINIMES ESTIVAL'!$D$6:$D$130,verif_reglement!D$5,'MINIMES ESTIVAL'!$E$6:$E$130,verif_reglement!D$6)","v":0},null,"50m haies",{"$f":"COUNTIFS('BENJAMINS ESTIVAL'!H$6:H$130,\"X\",'BENJAMINS ESTIVAL'!$D$6:$D$130,verif_reglement!G$5,'BENJAMINS ESTIVAL'!$E$6:$E$130,verif_reglement!G$6)","v":0},{"$f":"COUNTIFS('BENJAMINS ESTIVAL'!H$6:H$130,\"X\",'BENJAMINS ESTIVAL'!$D$6:$D$130,verif_reglement!H$5,'BENJAMINS ESTIVAL'!$E$6:$E$130,verif_reglement!H$6)","v":0}]
[null,"80 / 100m haies",{"$f":"COUNTIFS('MINIMES ESTIVAL'!I$6:I$130,\"X\",'MINIMES ESTIVAL'!$D$6:$D$130,verif_reglement!C$5,'MINIMES ESTIVAL'!$E$6:$E$130,verif_reglement!C$6)","v":0},{"$f":"COUNTIFS('MINIMES ESTIVAL'!I$6:I$130,\"X\",'MINIMES ESTIVAL'!$D$6:$D$130,verif_reglement!D$5,'MINIMES ESTIVAL'!$E$6:$E$130,verif_reglement!D$6)","v":0},null,"1000m",{"$f":"COUNTIFS('BENJAMINS ESTIVAL'!I$6:I$130,\"X\",'BENJAMINS ESTIVAL'!$D$6:$D$130,verif_reglement!G$5,'BENJAMINS ESTIVAL'!$E$6:$E$130,verif_reglement!G$6)","v":0},{"$f":"COUNTIFS('BENJAMINS ESTIVAL'!I$6:I$130,\"X\",'BENJAMINS ESTIVAL'!$D$6:$D$130,verif_reglement!H$5,'BENJAMINS ESTIVAL'!$E$6:$E$130,verif_reglement!H$6)","v":0}]
[null,"200m haies",{"$f":"COUNTIFS('MINIMES ESTIVAL'!J$6:J$130,\"X\",'MINIMES ESTIVAL'!$D$6:$D$130,verif_reglement!C$5,'MINIMES ESTIVAL'!$E$6:$E$130,verif_reglement!C$6)","v":0},{"$f":"COUNTIFS('MINIMES ESTIVAL'!J$6:J$130,\"X\",'MINIMES ESTIVAL'!$D$6:$D$130,verif_reglement!D$5,'MINIMES ESTIVAL'!$E$6:$E$130,verif_reglement!D$6)","v":0},null,"2 000m Marche",{"$f":"COUNTIFS('BENJAMINS ESTIVAL'!J$6:J$130,\"X\",'BENJAMINS ESTIVAL'!$D$6:$D$130,verif_reglement!G$5,'BENJAMINS ESTIVAL'!$E$6:$E$130,verif_reglement!G$6)","v":0},{"$f":"COUNTIFS('BENJAMINS ESTIVAL'!J$6:J$130,\"X\",'BENJAMINS ESTIVAL'!$D$6:$D$130,verif_reglement!H$5,'BENJAMINS ESTIVAL'!$E$6:$E$130,verif_reglement!H$6)","v":0}]
[null,"1 000m",{"$f":"COUNTIFS('MINIMES ESTIVAL'!K$6:K$130,\"X\",'MINIMES ESTIVAL'!$D$6:$D$130,verif_reglement!C$5,'MINIMES ESTIVAL'!$E$6:$E$130,verif_reglement!C$6)","v":0},{"$f":"COUNTIFS('MINIMES ESTIVAL'!K$6:K$130,\"X\",'MINIMES ESTIVAL'!$D$6:$D$130,verif_reglement!D$5,'MINIMES ESTIVAL'!$E$6:$E$130,verif_reglement!D$6)","v":0},null,"Hauteur",{"$f":"COUNTIFS('BENJAMINS ESTIVAL'!K$6:K$130,\"X\",'BENJAMINS ESTIVAL'!$D$6:$D$130,verif_reglement!G$5,'BENJAMINS ESTIVAL'!$E$6:$E$130,verif_reglement!G$6)","v":0},{"$f":"COUNTIFS('BENJAMINS ESTIVAL'!K$6:K$130,\"X\",'BENJAMINS ESTIVAL'!$D$6:$D$130,verif_reglement!H$5,'BENJAMINS ESTIVAL'!$E$6:$E$130,verif_reglement!H$6)","v":0}]
[null,"2 000m",{"$f":"COUNTIFS('MINIMES ESTIVAL'!L$6:L$130,\"X\",'MINIMES ESTIVAL'!$D$6:$D$130,verif_reglement!C$5,'MINIMES ESTIVAL'!$E$6:$E$130,verif_reglement!C$6)","v":0},{"$f":"COUNTIFS('MINIMES ESTIVAL'!L$6:L$130,\"X\",'MINIMES ESTIVAL'!$D$6:$D$130,verif_reglement!D$5,'MINIMES ESTIVAL'!$E$6:$E$130,verif_reglement!D$6)","v":0},null,"Perche",{"$f":"COUNTIFS('BENJAMINS ESTIVAL'!L$6:L$130,\"X\",'BENJAMINS ESTIVAL'!$D$6:$D$130,verif_reglement!G$5,'BENJAMINS ESTIVAL'!$E$6:$E$130,verif_reglement!G$6)","v":0},{"$f":"COUNTIFS('BENJAMINS ESTIVAL'!L$6:L$130,\"X\",'BENJAMINS ESTIVAL'!$D$6:$D$130,verif_reglement!H$5,'BENJAMINS ESTIVAL'!$E$6:$E$130,verif_reglement!H$6)","v":0}]
[null,"3 000m Marche",{"$f":"COUNTIFS('MINIMES ESTIVAL'!M$6:M$130,\"X\",'MINIMES ESTIVAL'!$D$6:$D$130,verif_reglement!C$5,'MINIMES ESTIVAL'!$E$6:$E$130,verif_reglement!C$6)","v":0},{"$f":"COUNTIFS('MINIMES ESTIVAL'!M$6:M$130,\"X\",'MINIMES ESTIVAL'!$D$6:$D$130,verif_reglement!D$5,'MINIMES ESTIVAL'!$E$6:$E$130,verif_reglement!D$6)","v":0},null,"Longueur",{"$f":"COUNTIFS('BENJAMINS ESTIVAL'!M$6:M$130,\"X\",'BENJAMINS ESTIVAL'!$D$6:$D$130,verif_reglement!G$5,'BENJAMINS ESTIVAL'!$E$6:$E$130,verif_reglement!G$6)","v":0},{"$f":"COUNTIFS('BENJAMINS ESTIVAL'!M$6:M$130,\"X\",'BENJAMINS ESTIVAL'!$D$6:$D$130,verif_reglement!H$5,'BENJAMINS ESTIVAL'!$E$6:$E$130,verif_reglement!H$6)","v":0}]
[null,"Hauteur",{"$f":"COUNTIFS('MINIMES ESTIVAL'!N$6:N$130,\"X\",'MINIMES ESTIVAL'!$D$6:$D$130,verif_reglement!C$5,'MINIMES ESTIVAL'!$E$6:$E$130,verif_reglement!C$6)","v":0},{"$f":"COUNTIFS('MINIMES ESTIVAL'!N$6:N$130,\"X\",'MINIMES ESTIVAL'!$D$6:$D$130,verif_reglement!D$5,'MINIMES ESTIVAL'!$E$6:$E$130,verif_reglement!D$6)","v":0},null,"Triple saut",{"$f":"COUNTIFS('BENJAMINS ESTIVAL'!N$6:N$130,\"X\",'BENJAMINS ESTIVAL'!$D$6:$D$130,verif_reglement!G$5,'BENJAMINS ESTIVAL'!$E$6:$E$130,verif_reglement!G$6)","v":0},{"$f":"COUNTIFS('BENJAMINS ESTIVAL'!N$6:N$130,\"X\",'BENJAMINS ESTIVAL'!$D$6:$D$130,verif_reglement!H$5,'BENJAMINS ESTIVAL'!$E$6:$E$130,verif_reglement!H$6)","v":0}]
[null,"Perche",{"$f":"COUNTIFS('MINIMES ESTIVAL'!O$6:O$130,\"X\",'MINIMES ESTIVAL'!$D$6:$D$130,verif_reglement!C$5,'MINIMES ESTIVAL'!$E$6:$E$130,verif_reglement!C$6)","v":0},{"$f":"COUNTIFS('MINIMES ESTIVAL'!O$6:O$130,\"X\",'MINIMES ESTIVAL'!$D$6:$D$130,verif_reglement!D$5,'MINIMES ESTIVAL'!$E$6:$E$130,verif_reglement!D$6)","v":0},null,"Poids",{"$f":"COUNTIFS('BENJAMINS ESTIVAL'!O$6:O$130,\"X\",'BENJAMINS ESTIVAL'!$D$6:$D$130,verif_reglement!G$5,'BENJAMINS ESTIVAL'!$E$6:$E$130,verif_reglement!G$6)","v":0},{"$f":"COUNTIFS('BENJAMINS ESTIVAL'!O$6:O$130,\"X\",'BENJAMINS ESTIVAL'!$D$6:$D$130,verif_reglement!H$5,'BENJAMINS ESTIVAL'!$E$6:$E$130,verif_reglement!H$6)","v":0}]
[null,"Longueur",{"$f":"COUNTIFS('MINIMES ESTIVAL'!P$6:P$130,\"X\",'MINIMES ESTIVAL'!$D$6:$D$130,verif_reglement!C$5,'MINIMES ESTIVAL'!$E$6:$E$130,verif_reglement!C$6)","v":0},{"$f":"COUNTIFS('MINIMES ESTIVAL'!P$6:P$130,\"X\",'MINIMES ESTIVAL'!$D$6:$D$130,verif_reglement!D$5,'MINIMES ESTIVAL'!$E$6:$E$130,verif_reglement!D$6)","v":0},null,"Disque",{"$f":"COUNTIFS('BENJAMINS ESTIVAL'!P$6:P$130,\"X\",'BENJAMINS ESTIVAL'!$D$6:$D$130,verif_reglement!G$5,'BENJAMINS ESTIVAL'!$E$6:$E$130,verif_reglement!G$6)","v":0},{"$f":"COUNTIFS('BENJAMINS ESTIVAL'!P$6:P$130,\"X\",'BENJAMINS ESTIVAL'!$D$6:$D$130,verif_reglement!H$5,'BENJAMINS ESTIVAL'!$E$6:$E$130,verif_reglement!H$6)","v":0}]
[null,"Triple saut",{"$f":"COUNTIFS('MINIMES ESTIVAL'!Q$6:Q$130,\"X\",'MINIMES ESTIVAL'!$D$6:$D$130,verif_reglement!C$5,'MINIMES ESTIVAL'!$E$6:$E$130,verif_reglement!C$6)","v":0},{"$f":"COUNTIFS('MINIMES ESTIVAL'!Q$6:Q$130,\"X\",'MINIMES ESTIVAL'!$D$6:$D$130,verif_reglement!D$5,'MINIMES ESTIVAL'!$E$6:$E$130,verif_reglement!D$6)","v":0},null,"Marteau",{"$f":"COUNTIFS('BENJAMINS ESTIVAL'!Q$6:Q$130,\"X\",'BENJAMINS ESTIVAL'!$D$6:$D$130,verif_reglement!G$5,'BENJAMINS ESTIVAL'!$E$6:$E$130,verif_reglement!G$6)","v":0},{"$f":"COUNTIFS('BENJAMINS ESTIVAL'!Q$6:Q$130,\"X\",'BENJAMINS ESTIVAL'!$D$6:$D$130,verif_reglement!H$5,'BENJAMINS ESTIVAL'!$E$6:$E$130,verif_reglement!H$6)","v":0}]
[null,"Poids",{"$f":"COUNTIFS('MINIMES ESTIVAL'!R$6:R$130,\"X\",'MINIMES ESTIVAL'!$D$6:$D$130,verif_reglement!C$5,'MINIMES ESTIVAL'!$E$6:$E$130,verif_reglement!C$6)","v":0},{"$f":"COUNTIFS('MINIMES ESTIVAL'!R$6:R$130,\"X\",'MINIMES ESTIVAL'!$D$6:$D$130,verif_reglement!D$5,'MINIMES ESTIVAL'!$E$6:$E$130,verif_reglement!D$6)","v":0},null,"Javelot",{"$f":"COUNTIFS('BENJAMINS ESTIVAL'!R$6:R$130,\"X\",'BENJAMINS ESTIVAL'!$D$6:$D$130,verif_reglement!G$5,'BENJAMINS ESTIVAL'!$E$6:$E$130,verif_reglement!G$6)","v":0},{"$f":"COUNTIFS('BENJAMINS ESTIVAL'!R$6:R$130,\"X\",'BENJAMINS ESTIVAL'!$D$6:$D$130,verif_reglement!H$5,'BENJAMINS ESTIVAL'!$E$6:$E$130,verif_reglement!H$6)","v":0}]
[null,"Disque",{"$f":"COUNTIFS('MINIMES ESTIVAL'!S$6:S$130,\"X\",'MINIMES ESTIVAL'!$D$6:$D$130,verif_reglement!C$5,'MINIMES ESTIVAL'!$E$6:$E$130,verif_reglement!C$6)","v":0},{"$f":"COUNTIFS('MINIMES ESTIVAL'!S$6:S$130,\"X\",'MINIMES ESTIVAL'!$D$6:$D$130,verif_reglement!D$5,'MINIMES ESTIVAL'!$E$6:$E$130,verif_reglement!D$6)","v":0}]
[null,"Marteau",{"$f":"COUNTIFS('MINIMES ESTIVAL'!T$6:T$130,\"X\",'MINIMES ESTIVAL'!$D$6:$D$130,verif_reglement!C$5,'MINIMES ESTIVAL'!$E$6:$E$130,verif_reglement!C$6)","v":0},{"$f":"COUNTIFS('MINIMES ESTIVAL'!T$6:T$130,\"X\",'MINIMES ESTIVAL'!$D$6:$D$130,verif_reglement!D$5,'MINIMES ESTIVAL'!$E$6:$E$130,verif_reglement!D$6)","v":0}]
[null,"Javelot",{"$f":"COUNTIFS('MINIMES ESTIVAL'!U$6:U$130,\"X\",'MINIMES ESTIVAL'!$D$6:$D$130,verif_reglement!C$5,'MINIMES ESTIVAL'!$E$6:$E$130,verif_reglement!C$6)","v":0},{"$f":"COUNTIFS('MINIMES ESTIVAL'!U$6:U$130,\"X\",'MINIMES ESTIVAL'!$D$6:$D$130,verif_reglement!D$5,'MINIMES ESTIVAL'!$E$6:$E$130,verif_reglement!D$6)","v":0}]

{"sheet":"Licenciés","index":9,"n_rows":3654,"n_cols":9,"rows_kept":3654,"cut":false,"hidden":true,"merged":[]}
["Licence","NOM","PRENOM","Cat.","S.","Club","Code club",null,"Listing au 14/05/2024"]
[1289998,"JOBARD","EMILIEN","MI","M","011001","011001","COMP"]
[1466530,"GIL","PAULINE","MI","F","066003","066003","COMP"]
[1488945,"DIAZ","LOUNA","MI","F","082014","082014","COMP"]
[1488960,"DIAITE","AMINATA","MI","F","082014","082014","COMP"]
[1565562,"RICHARD","NOE","MI","M","046008","046008","COMP"]
[1651027,"LAZZAROTTO","ALICIA","MI","F","034038","034038","COMP"]
[1651512,"BEN-BAHOU","NORAINE","MI","M","031004","031004","COMP"]
[1651974,"GRAUGNARD","ISAURE","MI","F","031056","031056","COMP"]
[1655786,"FROMENTEAU","GABRIEL","MI","M","081048","081048","COMP"]
[1658462,"GOMEZ","LISA","MI","F","066003","066003","COMP"]
[1661540,"LAZZARA","FABIO","MI","M","034038","034038","COMP"]
[1665324,"MISTRAL","JUSTINE","MI","F","030060","030060","COMP"]
[1671899,"GONZALEZ","STELLA","MI","F","032006","032006","COMP"]
[1672021,"MUTEAUD","LEA","MI","F","030040","030040","COMP"]
[1683352,"DUTHIL-BAUDEAN","ACHILLE","MI","M","032006","032006","COMP"]
[1683849,"CAVALIE","AUDREY","MI","F","012018","012018","COMP"]
[1685497,"KOFFI","LIAM-EVAN","MI","M","011016","011016","COMP"]
[1687667,"DJELILI","ANAS","MI","M","065006","065006","COMP"]
[1688593,"LACORT","FLORIAN","MI","M","011022","011022","COMP"]
[1693441,"RANGER","GATIEN","MI","M","081017","081017","COMP"]
[1698233,"GUIGON","LUCIE","MI","F","034065","034065","COMP"]
[1704849,"BREUIL-CARREL","PAUL","MI","M","048007","048007","COMP"]
[1708124,"ROUSSEL","ADELAIS","MI","F","034073","034073","COMP"]
[1708386,"CONJUNGO","MELISSA","BE","F","081048","081048","COMP"]
[1708588,"FLORES","ELAIA","MI","F","031039","031039","COMP"]
[1730666,"MIGNOT","NAMAO","MI","M","081017","081017","COMP"]
[1733263,"COUBERIS","NAYAN","MI","M","066003","066003","COMP"]
[1734083,"LEJEUNE","LINA","BE","F","034036","034036","COMP"]
[1750770,"DUFOURNEAU","MAELIAN","MI","M","011020","011020","COMP"]
[1755066,"TISSERAND","EMMY","MI","F","082017","082017","COMP"]
[1755322,"MARTINEAU","ANTOINE","MI","M","031015","031015","COMP"]
[1756247,"MUNOZ","LEO","MI","M","031015","031015","COMP"]
[1756684,"LOPEZ","MANON","BE","F","066003","066003","COMP"]
[1756769,"LUANGKHOT-BONNECAZE","MATTHIEU","MI","M","031004","031004","COMP"]
[1756929,"AUSSARESSES","CELIA","MI","F","034038","034038","COMP"]
[1759353,"BARDOU","DORIAN","MI","M","034038","034038","COMP"]
[1759625,"SENTOST","HUGO","MI","M","031039","031039","COMP"]
[1759960,"BESNIER","LOUIS","MI","M","031034","031034","COMP"]
[1767726,"DELHOMME","MAXIME","MI","M","031035","031035","COMP"]
[1767850,"BOUR","MAXENCE","MI","F","082017","082017","COMP"]
[1768158,"BERGER","MARGOT","MI","F","065012","065012","COMP"]
[1768917,"PAYRAT","ELENA","MI","F","031043","031043","COMP"]
[1769126,"DELLUS","GUILLAUME","MI","M","034072","034072","COMP"]
[1770897,"GASPARIN","CLARYS","MI","F","034038","034038","COMP"]
[1772011,"VIGNES","JULES","MI","M","082018","082018","COMP"]
[1773804,"NOTE","ALEXANDRE","MI","M","065006","065006","COMP"]
[1778544,"LE ROLLE","GABIN","MI","M","048004","048004","COMP"]
[1778559,"BORDREUIL","ALIXE","MI","F","034038","034038","COMP"]
[1780414,"BOUAITA","MELLINA","MI","F","066003","066003","COMP"]
[1780679,"LABKER","AYA","BE","F","066006","066006","COMP"]
[1782439,"AZEMA","ARTUS","MI","M","048008","048008","COMP"]
[1783934,"MONDOT","MARIE","MI","F","065019","065019","COMP"]
[1784703,"ALBOUY","LEONIE","MI","F","012018","012018","COMP"]
[1786298,"LAFARGE","LILOU","BE","F","034065","034065","COMP"]
[1786314,"CHABERT","NAHIA","MI","F","012003","012003","COMP"]
[1786346,"CASAMAYOU","BAPTISTE","MI","M","031004","031004","COMP"]
[1786555,"CABROL","AURELIEN","MI","M","034065","034065","COMP"]
[1786570,"AVRIL","ROBIN","MI","M","030018","030018","COMP"]
[1787319,"GARCON","ELENA","BE","F","030008","030008","COMP"]
[1787364,"GALEA","NOEMIE","MI","F","030003","030003","COMP"]
[1787370,"GALEA","NAIS","MI","F","030003","030003","COMP"]
[1787537,"MEXE","EMMA","MI","F","081017","081017","COMP"]
[1791414,"MILAN-BASTIDE","ELISA","MI","F","034038","034038","COMP"]
[1792071,"MONDOT","JEANNE","MI","F","065019","065019","COMP"]
[1793781,"BIZOIRRE","SWANN","MI","M","082014","082014","COMP"]
[1794619,"CASASSUS-BUILHE","MAXIME","MI","M","032002","032002","COMP"]
[1798492,"GAUDIN","MAELYS","MI","F","031004","031004","COMP"]
[1800589,"LAGUNA","ALIZEE","BE","F","034065","034065","COMP"]
[1802146,"GRAILLE","AMAIA","MI","F","030003","030003","COMP"]
[1806742,"RANET","WAFA","MI","F","030008","030008","COMP"]
[1810415,"RIBES","ELLIE","MI","F","066006","066006","COMP"]
[1811972,"MORRISSEY","LYNA","BE","F","030060","030060","COMP"]
[1813346,"ROCHER","GASPARD","MI","M","030003","030003","COMP"]
[1813437,"PASTOR","JULES","MI","M","066040","066040","COMP"]
[1813838,"CAVAGNAC","MILO","MI","M","031022","031022","COMP"]
[1813968,"RABEAU","MALOE","MI","F","034038","034038","COMP"]
[1815161,"VASSEUR TERRISSE","ILIANA","MI","F","012002","012002","COMP"]
[1816446,"MARTY","ARTHUR","MI","M","046014","046014","COMP"]
[1816610,"OUDDI","ELYAS","MI","M","034062","034062","COMP"]
[1817970,"ROUGIE","LOUISE","MI","F","046008","046008","COMP"]
[1819006,"AMRANI-AMBROISE","MAELYS","MI","F","034064","034064","COMP"]
[1822665,"TOURNIER","MYRTILLE","MI","F","034066","034066","COMP"]
[1822694,"KOSTEK","ANTOINE","MI","M","081056","081056","COMP"]
[1831168,"BELHOUL","ILYANA","MI","F","030060","030060","COMP"]
[1831418,"CHOQUET-FOUDA","MARIE-ALIX","MI","F","034066","034066","COMP"]
[1832029,"BERTRAND","MARIUS","MI","M","046014","046014","COMP"]
[1832030,"BERTRAND","GARANCE","BE","F","046014","046014","COMP"]
[1836512,"NAVARRO-ANZANELLO","YLIAN","MI","M","081052","081052","COMP"]
[1841267,"CRESCENCE","LORIS","MI","M","034066","034066","COMP"]
[1842946,"ELMAAZOUZI","NEYLA","MI","F","034012","034012","COMP"]
[1843287,"SALEILLES","PAUL","MI","M","030018","030018","COMP"]
[1848975,"LELEU","VICTOR","MI","M","011020","011020","COMP"]
[1850990,"BADIN","AXELLE","MI","F","031063","031063","COMP"]
[1858713,"TAPASU","LEILANI","MI","F","032002","032002","COMP"]
[1860677,"BARBIE","ANALENA","MI","F","034069","034069","COMP"]
[1861858,"LAJARA","ELSA","MI","F","034068","034068","COMP"]
[1862204,"VIGUIE","MATHIS","MI","M","082017","082017","COMP"]
[1863463,"CAPEL","SHADEY","MI","F","065006","065006","COMP"]
[1863871,"SELI","JEREMY","MI","M","031015","031015","COMP"]
[1864147,"BION","LANA","MI","F","011001","011001","COMP"]
[1864238,"DUTERTRE","HUGO","MI","M","031015","031015","COMP"]
[1865045,"CROZET-CHENIVESSE","ILONA","MI","F","034058","034058","COMP"]
[1866026,"CAURET","AMBRE","MI","F","031042","031042","COMP"]
[1866237,"MONLONG","JOANA","MI","F","031003","031003","COMP"]
[1866371,"LIMERAT","ARTHUR","MI","M","031004","031004","COMP"]
[1867067,"THENEGAL","ELOUAN","MI","M","081051","081051","COMP"]
[1867082,"ALBENGE","EMMA","MI","F","081051","081051","COMP"]
[1868299,"MIALHE","FABIEN","MI","M","031042","031042","COMP"]
[1868889,"BREDA","JULES","MI","M","081021","081021","COMP"]
[1870010,"IMHOFF","MAXIME","MI","M","031003","031003","COMP"]
[1870199,"BEDEL","CANDICE","MI","F","030018","030018","COMP"]
[1870431,"MARTIN-CHAMPETIER","CELIA","MI","F","034068","034068","COMP"]
[1870657,"VIEIRA","TIMEO","MI","M","031046","031046","COMP"]
[1872404,"FERTON","GABRIEL","MI","M","066027","066027","COMP"]
[1873752,"GUILLET","JULES","MI","M","031034","031034","COMP"]
[1874380,"DEILHES","HUGO","MI","M","082018","082018","COMP"]
[1875528,"ROSSETTO","CAPUCINE","MI","F","034072","034072","COMP"]
[1875637,"BOURDEAU","BAPTISTE","MI","M","034038","034038","COMP"]
[1875689,"MARTIN","RADIA","MI","F","034038","034038","COMP"]
[1875762,"RAYNAUD","CLEMENT","MI","M","034038","034038","COMP"]
[1876594,"ROUZIES","LUCILE","BE","F","012018","012018","COMP"]
[1876620,"GILABERT","AURELIEN","MI","M","034062","034062","COMP"]
[1876920,"ALIPS","CALIXTE","MI","M","030067","030067","COMP"]
[1878254,"CHASSAIN","CHARLIE","MI","M","031015","031015","COMP"]
[1878604,"PIQUEMAL","ALICE","MI","F","031034","031034","COMP"]
[1879300,"INDJIRDJIAN","ANAELLE","MI","F","034064","034064","COMP"]
[1879788,"RIOUX","ENEA","MI","F","031012","031012","COMP"]
[1880598,"BAZER-BACHI","CHLOE","MI","F","030004","030004","COMP"]
[1880830,"BONFANTI","FRANCESCO","MI","M","031009","031009","COMP"]
[1881953,"FOISSAC","ELIO","BE","M","012018","012018","COMP"]
[1882117,"SURJUS","SOFIA","MI","F","066006","066006","COMP"]
[1882191,"BAUDRELOT","MAXIME","MI","M","031050","031050","COMP"]
[1882193,"VALENTIN","LOAN","MI","M","030003","030003","COMP"]
[1882202,"BAUDRELOT","JEANNE","MI","F","031025","031025","COMP"]
[1882478,"JOSEPH","CAMILLE","MI","F","082018","082018","COMP"]
[1883479,"ALES","TYANNA","MI","F","046012","046012","COMP"]
[1884140,"HENNEGUEZ-REBEYROL","JOSEPHINE","MI","F","031003","031003","COMP"]
[1884178,"BOURGET","MAEL","MI","M","065012","065012","COMP"]
[1884673,"COURTAUD","ISMAEL","MI","M","082017","082017","COMP"]
[1885721,"ESVA","LAETITIA","MI","F","031004","031004","COMP"]
[1886106,"BABY","JEAN-BAPTISTE","MI","M","009001","009001","COMP"]
[1886483,"BOUOPDAZOCK","JESSY","BE","M","030008","030008","COMP"]
[1887449,"SOUBEYRE","CLARA","MI","F","012003","012003","COMP"]
[1888625,"ANICET","NELSON","MI","M","031034","031034","COMP"]
[1888645,"JOHN","EMMA","MI","F","031034","031034","COMP"]
[1889094,"FAURE","ANGELINA","BE","F","081055","081055","COMP"]
[1889228,"TAUPENOT-JEANJEAN","ANAIS","MI","F","034072","034072","COMP"]
[1890499,"MUNIER","HECTOR","MI","M","034066","034066","COMP"]
[1890628,"THOYER","TILIO","MI","M","034066","034066","COMP"]
[1892050,"LASSALLE","ELLA","MI","F","030008","030008","COMP"]
[1892447,"DEBROSSE JAMON","SAONA","MI","F","030003","030003","COMP"]
[1892943,"MARLIC","LINDY","MI","F","081056","081056","COMP"]
[1893682,"BOIRON-BORDELAIS","CAMILLE","BE","F","011016","011016","COMP"]
[1893946,"DICANOT","MELINA","MI","F","081048","081048","COMP"]
[1895298,"BARBER","CORENTIN","MI","M","032014","032014","COMP"]
[1895498,"CAPERAN","MARTHE","MI","F","030021","030021","COMP"]
[1896118,"BIAL","ELOISE","BE","F","066006","066006","COMP"]
[1897614,"RIVES","LOU","MI","F","034069","034069","COMP"]
[1898542,"BOISARD","EMI","BE","F","081017","081017","COMP"]
[1899283,"WALTER","CLARISSE","BE","F","081048","081048","COMP"]
[1899380,"ROUHIER","TIMEO","MI","M","034062","034062","COMP"]
[1900733,"ROUMI","AVA","MI","F","034072","034072","COMP"]
[1902633,"GAUBERT","ELISA","MI","F","034064","034064","COMP"]
[1903586,"BEY","LIAM","BE","M","030003","030003","COMP"]
[1903620,"GRUDET","NOEMIE","MI","F","030003","030003","COMP"]
[1903648,"ALLARD","LOUIS","BE","M","030003","030003","COMP"]
[1903658,"FOURNIER","LILOU","MI","F","031056","031056","COMP"]
[1903744,"SION","LOHANE","BE","F","030040","030040","COMP"]
[1903760,"TRABUCCO","CLOTILDE","MI","F","030040","030040","COMP"]
[1904728,"DOS SANTOS","JULES","MI","M","046004","046004","COMP"]
[1905233,"GRUPPI","LIZA","BE","F","066027","066027","COMP"]
[1905639,"LASSERE","PAOLA","MI","F","034066","034066","COMP"]
[1905709,"DA COSTA","CESAR","MI","M","034066","034066","COMP"]
[1905923,"JEFFERY","FELIX","MI","M","046014","046014","COMP"]
[1906624,"MESSAOUDI","YANIS","MI","M","082014","082014","COMP"]
[1906634,"MESSAOUDI","ILYES","MI","M","082014","082014","COMP"]
[1907373,"ARJALLIEZ","HEIDI","MI","F","012002","012002","COMP"]
[1907896,"ABIDA","NISSRINE","MI","F","030018","030018","COMP"]
[1908028,"LERWILL","SOPHIE","BE","F","011022","011022","COMP"]
[1908963,"NAVARRO","MARGAUX","MI","F","066028","066028","COMP"]
[1909641,"PIN","LYSEA","MI","F","030059","030059","COMP"]
[1909751,"PORTALIER","ANTOINE","MI","M","030059","030059","COMP"]
[1911186,"BOUTIC","GUILLAUME","MI","M","031022","031022","COMP"]
[1912372,"LARRIBEAU","SOLENE","MI","F","032006","032006","COMP"]
[1913288,"JULES-MARTHE","MATHYS","MI","M","009001","009001","COMP"]
[1913933,"FERRELI","ELIO","MI","M","030004","030004","COMP"]
[1914116,"LAGARDE-BRUCHET","MARGAUX","MI","F","032002","032002","COMP"]
[1914209,"BERQACH","IMRANE","MI","M","032002","032002","COMP"]
[1914366,"BOUDASSOU","JULIETTE","BE","F","032002","032002","COMP"]
[1914444,"TARAN","ROMANE","MI","F","032002","032002","COMP"]
[1915751,"JOFFRE","AMANDINE","MI","F","012003","012003","COMP"]
[1915843,"ROUBIEU","LEA","MI","F","034066","034066","COMP"]
[1916704,"LE CAM","EMILIE","MI","F","081048","081048","COMP"]
[1916971,"JUMERE SAMERE","AINOA","MI","F","065005","065005","COMP"]
[1918884,"FRAYSSI","COLINE","BE","F","046014","046014","COMP"]
[1919129,"DE OLIVEIRA","MATIS","MI","M","031015","031015","COMP"]
[1919154,"GOULET","MARGAUX","MI","F","031004","031004","COMP"]
[1920306,"BRU","NINA","MI","F","046004","046004","COMP"]
[1920310,"TANGUY","SIMON","MI","M","031043","031043","COMP"]
[1920729,"PIVERT","MAYA","BE","F","034072","034072","COMP"]
[1921092,"CAPUANO","ALESSANDRO","MI","M","034069","034069","COMP"]
[1922063,"ROMAN","CRYSTAL","MI","F","030060","030060","COMP"]
[1923135,"JEAN","JAROD","MI","M","034058","034058","COMP"]
[1923245,"SAHNOUN","CLEMENT","MI","M","012008","012008","COMP"]
[1923401,"SOULIER","MARIE","BE","F","082014","082014","COMP"]
[1925692,"MARTIN","SORAYA","BE","F","034038","034038","COMP"]
[1925832,"BERNARD","LUCIE","MI","F","030074","030074","COMP"]
[1926539,"SANCHEZ","ELINA","MI","F","034069","034069","COMP"]
[1928368,"LABORDE","SELMA","MI","F","066003","066003","COMP"]
[1928490,"TOURNIER","JULIETTE","MI","F","012003","012003","COMP"]
[1928819,"TRAUCHESSEC","JUSTINE","MI","F","048004","048004","COMP"]
[1929470,"GILLES","STELLA","MI","F","030018","030018","COMP"]
[1932289,"BOBE","AARON","MI","M","066027","066027","COMP"]
[1932695,"MESSALIER","RAPHAEL","BE","M","030018","030018","COMP"]
[1932993,"MAIMONE","TAMARA","MI","F","030060","030060","COMP"]
[1933635,"CLAISSE","VICTOR","MI","M","030074","030074","COMP"]
[1934092,"RAYNAUD","MARTIN","MI","M","034012","034012","COMP"]
[1937861,"BERGHE","NINON","MI","F","030008","030008","COMP"]
[1940610,"BONAL","JULES","MI","M","012002","012002","COMP"]
[1942141,"HORNUS","CONSTANTIN","MI","M","031025","031025","COMP"]
[1942720,"VAISSIERE","EMMA","MI","F","011022","011022","COMP"]
[1943881,"BERNIER","ANAELE","MI","F","034055","034055","COMP"]
[1944478,"BOURG-ARTIGUES","CLEMENT","MI","M","031022","031022","COMP"]
[1948004,"VIDAUD","JASMINE","MI","F","034038","034038","COMP"]
[1948986,"RAGEL","MATHIS","MI","M","081048","081048","COMP"]
[1951782,"DUBECQ","ESTEBAN","MI","M","011022","011022","COMP"]
[1952428,"DESBARATS","MATHILDE","MI","F","031025","031025","COMP"]
[1953028,"HIERONIMUS","LOU","MI","F","034073","034073","COMP"]
[1953725,"LAHITTE","NOE","MI","M","031062","031062","COMP"]
[1957492,"VADANT","NOA","BE","M","030074","030074","COMP"]
[1958190,"IDRAME","LOUNA-DIARA","BE","F","009011","009011","COMP"]
[1958773,"CAPERAN","ERNEST","BE","M","030021","030021","COMP"]
[1960338,"MARTINET GAMBAROTTO","CAMILLE","MI","F","081017","081017","COMP"]
[1960342,"ROUQUETTE","NOELIE","MI","F","081062","081062","COMP"]
[1961187,"FUSS","NATHAN","MI","M","081052","081052","COMP"]
[1963213,"JIMENEZ","IRINA","MI","F","066006","066006","COMP"]
[1967822,"DALLE","ETHAN","BE","M","065006","065006","COMP"]
[1968209,"MARTIN DAVIET","ILEANA","MI","F","031004","031004","COMP"]
[1969052,"SERVANT","SARAH","MI","F","031004","031004","COMP"]
[1969167,"MOULIN","AUGUSTIN","MI","M","082017","082017","COMP"]
[1969864,"CESTERE-BRUNELLO","JEAN-YVES","MI","M","031003","031003","COMP"]
[1970034,"BAUDOUI","JEANNE","BE","F","012008","012008","COMP"]
[1970199,"DONGAL","ELIJAH","BE","M","031004","031004","COMP"]
[1971404,"LAPLAUD","LOUISE","MI","F","066003","066003","COMP"]
[1971659,"SOLA","LISA","MI","F","031022","031022","COMP"]
[1971706,"GODART","LEA","MI","F","031039","031039","COMP"]
[1972530,"LAFFONT","VINCENT","MI","M","031056","031056","COMP"]
[1972983,"BORDREUIL","ALEXANDRE","BE","M","034038","034038","COMP"]
[1973356,"OGNIER","MAEVA","MI","F","031046","031046","COMP"]
[1973897,"BAJOL","OLIVIA","MI","F","065003","065003","COMP"]
[1974480,"BRU","JANNE","MI","F","081051","081051","COMP"]
[1974492,"VIEILLEDENT","ELI","MI","M","081051","081051","COMP"]
[1974558,"AYACHE","MARGOT","MI","F","031003","031003","COMP"]
[1974640,"METGE","GAEL","MI","M","031003","031003","COMP"]
[1974713,"HUC-LAUFFENBURGER","ANAIS","MI","F","081017","081017","COMP"]
[1975239,"FAITOUT","MELINA","MI","F","031003","031003","COMP"]
[1975457,"DA SILVA","SANDRO","BE","M","081048","081048","COMP"]
[1975543,"BOURNANE","SOHAIB","BE","M","082017","082017","COMP"]
[1975918,"GAVACH","TOMAS","BE","M","030040","030040","COMP"]
[1976508,"PAPON","CLOE","MI","F","065019","065019","COMP"]
[1976791,"GRES","ALEXANDRE","MI","M","030004","030004","COMP"]
[1976804,"CRESPO MAINARD","IBAN","BE","M","065027","065027","COMP"]
[1976841,"THEIL","LEONIE","MI","F","065019","065019","COMP"]
[1977417,"PAYRAU","CYPRIEN","MI","M","031063","031063","COMP"]
[1977811,"DURAND","LISA","MI","F","081051","081051","COMP"]
[1977832,"COUTOULY","EVA","MI","F","081051","081051","COMP"]
[1978034,"TRUC","RAPHAEL","BE","M","065003","065003","COMP"]
[1978484,"MARCHAND","CLEMENTINE","MI","F","031056","031056","COMP"]
[1978668,"CHALIES","EMILIEN","MI","M","034062","034062","COMP"]
[1978701,"RAINAUD","PAULINE","MI","F","034012","034012","COMP"]
[1978795,"AZAM","ELI","MI","M","046012","046012","COMP"]
[1978824,"RUDZINSKI","QUENTIN","MI","M","046012","046012","COMP"]
[1978890,"SINDOU FABRE","CLOTHILDE","MI","F","046012","046012","COMP"]
[1979266,"MBONGO","NAILA","MI","F","031004","031004","COMP"]
[1979375,"KHERRAR","INES","MI","F","031034","031034","COMP"]
[1979800,"DE NOBLET D ANGLURE","INES","BE","F","081055","081055","COMP"]
[1979949,"BOUMEDIENNE","INES","MI","F","081017","081017","COMP"]
[1980018,"BEAUMONT","JUSTIN","MI","M","081017","081017","COMP"]
[1980034,"BARRAU","ABYGAELLE","MI","F","081017","081017","COMP"]
[1980189,"AZOUGHLI","ZIYAD","BE","M","031012","031012","COMP"]
[1980193,"BOUSQUET","THOMAS","BE","M","031034","031034","COMP"]
[1980208,"LESCOUZERES","NAYAH","BE","F","031034","031034","COMP"]
[1980856,"DUPRAT","CHLOE","BE","F","031034","031034","COMP"]
[1981790,"QUEROL","LALY","MI","F","034012","034012","COMP"]
[1981807,"CLET","HAYDEN","BE","M","066037","066037","COMP"]
[1982174,"CARASSUS","YOAN","BE","M","031015","031015","COMP"]
[1982960,"ICHARD","QUENTIN","MI","M","081051","081051","COMP"]
[1983305,"KHARROU","MAEL","MI","M","081051","081051","COMP"]
[1983516,"NOEL","MELYSSA","MI","F","030008","030008","COMP"]
[1983548,"MAUNOURY","JOLAN","BE","M","031012","031012","COMP"]
[1984384,"GAILLAC","ELOI","MI","M","031001","031001","COMP"]
[1984749,"BASTIENNE-BANCO","ALIZEE","MI","F","031015","031015","COMP"]
[1984874,"BARDOU","LUCAS","MI","M","081043","081043","COMP"]
[1985191,"AUBRY","CORENTIN","MI","M","034064","034064","COMP"]
[1985450,"AUSSET","ZELIE","BE","F","030059","030059","COMP"]
[1985536,"RODRIGUEZ HEBERT","SAMUEL","MI","M","034062","034062","COMP"]
[1985864,"EL YOUSSFI","IMAD","MI","M","081048","081048","COMP"]
[1985870,"CURVALE","THOMAS","BE","M","081048","081048","COMP"]
[1985873,"EL YOUSSFI","ADAM","BE","M","081048","081048","COMP"]
[1985910,"HUGOY","MAYLIS","BE","F","034066","034066","COMP"]
[1986294,"MIQUEL FLASSAYER","LOUISE","MI","F","031042","031042","COMP"]
[1986511,"MONIN","TIMOTHEE","MI","M","031050","031050","COMP"]
[1986739,"MIALHE","THOMAS","MI","M","034069","034069","COMP"]
[1986750,"JULIAN","ELISE","MI","F","034069","034069","COMP"]
[1986827,"SURROCA","PAUL","MI","M","066003","066003","COMP"]
[1988161,"ROPERS","EMMA","MI","F","031039","031039","COMP"]
[1988208,"AZOUGHLI","MARWA","MI","F","031012","031012","COMP"]
[1988212,"BUERBA","SOLENE","MI","F","065012","065012","COMP"]
[1988458,"RICHARD","OSCAR","MI","M","065012","065012","COMP"]
[1989093,"GUITON","TESS","MI","F","034073","034073","COMP"]
[1989441,"ANDRIEUX MALVEZIN","LUCY","BE","F","012005","012005","COMP"]
[1989558,"SEVE","MATHIS","MI","M","031056","031056","COMP"]
[1989610,"GUENIN","MANON","MI","F","066027","066027","COMP"]
[1989641,"GHALAYINI","LOUNA","MI","F","066027","066027","COMP"]
[1989672,"BERTHE-CLOFENT","INAYA","MI","F","066027","066027","COMP"]
[1990535,"LEJEUNE","TIMEO","BE","M","034036","034036","COMP"]
[1991017,"NGUYEN","LEA","MI","F","031063","031063","COMP"]
[1991037,"TEIXEIRA","LEO","MI","M","012003","012003","COMP"]
[1991042,"TEIXEIRA","MAXIME","MI","M","012003","012003","COMP"]
[1991052,"LABORDE","LOU","BE","F","066003","066003","COMP"]
[1991291,"GOVINDIN-ROUX","LEA","MI","F","034066","034066","COMP"]
[1991595,"BAIN","CYRIEL","BE","M","011016","011016","COMP"]
[1991881,"DUMONT","CLEMENT","MI","M","031025","031025","COMP"]
[1992281,"BORJON PIRON","GABRIEL","MI","M","034068","034068","COMP"]
[1992496,"FRIZOT","LUCILE","MI","F","034066","034066","COMP"]
[1992723,"AURIFEILLE","ALIX","MI","F","081044","081044","COMP"]
[1992996,"KANSTEINER","HENRIETTE","MI","F","030059","030059","COMP"]
[1993002,"CASTANET","JULIEN","MI","M","030059","030059","COMP"]
[1993099,"BLIN","ALICIA","BE","F","030067","030067","COMP"]
[1993147,"JOUANIN","EVANN","MI","M","034064","034064","COMP"]
[1993295,"POMPEL","TITOUAN","MI","M","034021","034021","COMP"]
[1994261,"BATALLE","LEANIE","BE","F","011022","011022","COMP"]
[1994315,"JACQUEMIN","LENA","MI","F","032014","032014","COMP"]
[1995804,"TOURNIER","CESAR","BE","M","034066","034066","COMP"]
[1995956,"YILDIZ","MATHIEU","BE","M","034066","034066","COMP"]
[1995991,"ZARQANE","DALIL","BE","M","034066","034066","COMP"]
[1995993,"ZARQANE","NASSIM","MI","M","034066","034066","COMP"]
[1996426,"MULLER","OCTAVE","MI","M","031004","031004","COMP"]
[1996674,"GENTILE","CHARLOTTE","BE","F","034066","034066","COMP"]
[1996741,"BOSC","ALEXANDRE","MI","M","034066","034066","COMP"]
[1997184,"FONVIEILLE","MATHIS","MI","M","081048","081048","COMP"]
[1997212,"LAUTHIER","MANON","MI","F","081048","081048","COMP"]
[1997220,"LOBRY-AMAR","LENNAIA","MI","F","081048","081048","COMP"]
[1997266,"HENKINET","REMI","BE","M","081048","081048","COMP"]
[1997339,"FOURNES","FELIX","MI","M","081043","081043","COMP"]
[1998287,"LAPORTE","INAYA","BE","F","030004","030004","COMP"]
[1998327,"SALANOVA","JADE","MI","F","030067","030067","COMP"]
[1998544,"BENOIT","SEBASTIEN","MI","M","030059","030059","COMP"]
[1998778,"ROBIN","LYLA","MI","F","032006","032006","COMP"]
[2000047,"EFFALA ABESSOLO","RAOUL-YANNE","BE","M","011001","011001","COMP"]
[2000063,"LOZANO","GABIN","BE","M","034069","034069","COMP"]
[2001379,"VALLET","PACOME","MI","M","082017","082017","COMP"]
[2001471,"BARDIN","MAELLE","MI","F","009001","009001","COMP"]
[2001809,"CHAINAS","ANTOINE","MI","M","030021","030021","COMP"]
[2001912,"BENDJILALI","NINA","BE","F","034072","034072","COMP"]
[2002080,"BLANC","NOELIEN","MI","M","031035","031035","COMP"]
[2002196,"BOUZAT-JOULIA","LOUANNE","MI","F","012003","012003","COMP"]
[2003086,"ESCUDIE","JUSTIN","BE","M","011022","011022","COMP"]
[2003347,"EL MALOUKI","MANEL","MI","F","034065","034065","COMP"]
[2003441,"TISSOT","LOU","MI","F","030008","030008","COMP"]
[2003667,"SOLATGES","LUCIE","MI","F","066003","066003","COMP"]
[2003672,"SOUCHON","LOHAN","BE","M","030059","030059","COMP"]
[2004618,"DROUARD","LILAS","MI","F","034064","034064","COMP"]
[2004778,"SEGONDS","MARIE","MI","F","031050","031050","COMP"]
[2004909,"GARLET","MAXIME","MI","M","065027","065027","COMP"]
[2005677,"FREDON","LIAM","MI","M","082017","082017","COMP"]
[2005841,"MARINONI","NOEMIE","BE","F","031050","031050","COMP"]
[2005869,"CREMAZY","LEANDRE","MI","M","031025","031025","COMP"]
[2006124,"BAYLE","CHLOE","MI","F","030003","030003","COMP"]
[2006359,"KAMMAS","HUGO","MI","M","034068","034068","COMP"]
[2006889,"BAUDRY","LUCAS","BE","M","031034","031034","COMP"]
[2006933,"CALESTROUPAT","LOUIS","BE","M","011022","011022","COMP"]
[2006943,"CALESTROUPAT","CAMILLE","MI","M","011022","011022","COMP"]
[2006961,"ZBAIRI","ILHEM","MI","F","030003","030003","COMP"]
[2006996,"BARRABES","RONAN","MI","M","011022","011022","COMP"]
[2007420,"HAICHOUR","LINA","BE","F","030004","030004","COMP"]
[2007525,"FAIVRE-ALCALDE","ELSA","MI","F","030060","030060","COMP"]
[2007913,"LANDAIS","HIPPOLYTE","BE","M","031025","031025","COMP"]
[2008031,"MBENGI","IRINA","MI","F","031050","031050","COMP"]
[2008490,"DERBOUZ","MELINA","MI","F","081056","081056","COMP"]
[2008594,"ORDON","PRIAM","MI","M","081056","081056","COMP"]
[2009026,"DIVITA-MORRIS","BENJAMIN","MI","M","034069","034069","COMP"]
[2009586,"VIZIER","LANA","MI","F","082014","082014","COMP"]
[2009768,"VELLA","GABIN","MI","M","034064","034064","COMP"]
[2010125,"DUCHEMIN BOROWIAK","GABRIEL","BE","M","030059","030059","COMP"]
[2010307,"BOUSQUET","BAPTISTE","MI","M","031034","031034","COMP"]
[2010338,"MEBARKI","YANIS","MI","M","030059","030059","COMP"]
[2011139,"DUPUY","THAIS","MI","F","031007","031007","COMP"]
[2011466,"BEAUCHAMP","LAURIANA","MI","F","031004","031004","COMP"]
[2011639,"MONTEIRO","EMILIE","MI","F","031004","031004","COMP"]
[2012602,"FERNANDEZ","SACHA","MI","M","081052","081052","COMP"]
[2013028,"CHATELLIER","LIV","BE","F","030008","030008","COMP"]
[2013053,"GOMEZ","GREGORY","BE","M","048007","048007","COMP"]
[2013458,"BRU","CLOE","BE","F","046004","046004","COMP"]
[2013875,"GAYDA","BAPTISTE","MI","M","011016","011016","COMP"]
[2014125,"MENAU","CLEMENT","BE","M","066003","066003","COMP"]
[2014166,"MAURAS","CLEMENT","MI","M","081017","081017","COMP"]
[2014202,"OKON-VIGUIER","LOUISE","MI","F","081054","081054","COMP"]
[2014211,"SABATIER","CLARA","BE","F","081021","081021","COMP"]
[2014715,"EL FASSI","NATHAEL","MI","M","066027","066027","COMP"]
[2015475,"SIGAL","JACK","MI","M","034058","034058","COMP"]
[2015573,"AMRY","TESS","MI","F","081043","081043","COMP"]
[2015597,"CALAMOTE","LOANN","MI","M","081043","081043","COMP"]
[2015980,"DHEYGERE","EDGAR","BE","M","031022","031022","COMP"]
[2016205,"PAUC","KELYAN","MI","M","048004","048004","COMP"]
[2016634,"SOULIE","ELYSA","BE","F","081017","081017","COMP"]
[2016945,"BRUNEAU","LUCAS","BE","M","031050","031050","COMP"]
[2017863,"DAFFE","MIKAYEEL","MI","M","081048","081048","COMP"]
[2017873,"DAFFE","DJIBRYEEL","MI","M","081048","081048","COMP"]
[2018487,"HIRTZ","VIOLETTE","BE","F","081062","081062","COMP"]
[2018737,"STEFANOU","NOAH","MI","M","012005","012005","COMP"]
[2019427,"MOURABIT","KENZA","BE","F","034066","034066","COMP"]
[2019745,"ROSSO","EMMA","MI","F","030003","030003","COMP"]
[2019913,"LAPIERRE","CLEMENCE","BE","F","030004","030004","COMP"]
[2019915,"MARI","HUGO","MI","M","030059","030059","COMP"]
[2020571,"DELILE","CAMILLE","BE","F","032006","032006","COMP"]
[2020574,"RICARD RUEFLI","ORIANE","BE","F","032006","032006","COMP"]
[2020798,"GUELLIER","ANNE-VICTORIA","BE","F","065012","065012","COMP"]
[2021143,"MARICAN","JUANITA","MI","F","012011","012011","COMP"]
[2021655,"CROS","AXEL","BE","M","081048","081048","COMP"]
[2021660,"DAYDE","LOAN","BE","F","081048","081048","COMP"]
[2021753,"MORERE","AGATHE","MI","F","065003","065003","COMP"]
[2022651,"AUZET","CLEMENT","BE","M","034066","034066","COMP"]
[2023016,"LEROY","AGATHE","MI","F","030021","030021","COMP"]
[2023026,"ZURIGUEL","LUKA","MI","M","030021","030021","COMP"]
[2024570,"RIGAL","LOU","BE","F","034069","034069","COMP"]
[2024630,"PIERREDON","LOLA","MI","F","030004","030004","COMP"]
[2027629,"GRAZIUSO","LOUNA","MI","F","031022","031022","COMP"]
[2028396,"DE MIOLLIS","MATHILDE","MI","F","031004","031004","COMP"]
[2028534,"SPRIMONT","THEO","MI","M","031046","031046","COMP"]
[2029154,"THERY","TOM","MI","M","034064","034064","COMP"]
[2030042,"DECOEN","LYSIE","MI","F","034012","034012","COMP"]
[2030059,"WOEHRLE","HUGO","BE","M","034476","034476","COMP"]
[2031081,"BONNET VIALA","CLEMENT","MI","M","081048","081048","COMP"]
[2031258,"HAMIOUI","SALOUA","MI","F","081051","081051","COMP"]
[2031296,"DE MENGIN FONDRAGON","JEAN-BAPTISTE","BE","M","031050","031050","COMP"]
[2032581,"BELOUAHMIA","SARAH","BE","F","030004","030004","COMP"]
[2032611,"GUEMAS-CORMONS","CLARA","MI","F","030004","030004","COMP"]
[2032660,"BASCHUNG","ALEXANDRE","MI","M","081046","081046","COMP"]
[2033260,"EYMARD SPIEGEL","CHARLIE","BE","F","030040","030040","COMP"]
[2033634,"RIVET","TIMOTHEE","MI","M","081048","081048","COMP"]
[2035391,"ALOUI","ILYES","MI","M","032002","032002","COMP"]
[2035572,"RAMDHANI","ALIA","MI","F","081043","081043","COMP"]
[2036562,"BOULZE DEPOMMIER","AUBIN","BE","M","081062","081062","COMP"]
[2037168,"GINESTE","SARAH","MI","F","046012","046012","COMP"]
[2039577,"TERNYNCK","NOLAN","BE","M","030004","030004","COMP"]
[2040224,"TRIBONDEAU","CAMILLE","MI","F","081056","081056","COMP"]
[2040258,"LEFEBVRE","CLEMENT","MI","M","031056","031056","COMP"]
[2040848,"MACAIRE","ADELINE","BE","F","009001","009001","COMP"]
[2040974,"AUBRION","ANTONIN","MI","M","065027","065027","COMP"]
[2041515,"ZANARDO-BENECH","TOSCANE","MI","F","032002","032002","COMP"]
[2042456,"DAMIENS","MAEL","BE","M","081021","081021","COMP"]
[2043867,"DA PONTE","TIMEO","MI","M","034012","034012","COMP"]
[2043920,"RONDEPIERRE","TRISTAN","MI","M","034012","034012","COMP"]
[2044659,"DURAND","MAXENCE","MI","M","048004","048004","COMP"]
[2044663,"GERBAL","EVAN","MI","M","048004","048004","COMP"]
[2045464,"VIELJUS","YSALIE","BE","F","030059","030059","COMP"]
[2046661,"LAHSSINE ALAUZE","LOUISE","MI","F","031050","031050","COMP"]
[2048062,"VADANT","TOM","MI","M","030074","030074","COMP"]
[2050443,"BUGE MONJARET","ELEA","MI","F","031062","031062","COMP"]
[2054112,"DUQUET","LILOU","BE","F","065027","065027","COMP"]
[2054806,"FAYARD","ANTOINE","MI","M","031062","031062","COMP"]
[2057970,"LATTES","MATHIS","MI","M","081044","081044","COMP"]
[2059460,"AZROURI","AYMAN","BE","M","030040","030040","COMP"]
[2062136,"AJAMI","LANA","MI","F","082017","082017","COMP"]
[2062157,"MALACHIN","CHARLOTTE","MI","F","030018","030018","COMP"]
[2062910,"EUILLET","MANON","MI","F","031062","031062","COMP"]
[2063256,"HERRMANN","CANDICE","MI","F","009011","009011","COMP"]
[2063288,"ASSELIN","JADEN","BE","M","031022","031022","COMP"]
[2064698,"TEYCHENNE","CHLOE","MI","F","009002","009002","COMP"]
[2067038,"RUIZ","LALY","BE","F","066003","066003","COMP"]
[2068470,"BOUSSAC","CHARLOTTE","BE","F","082018","082018","COMP"]
[2068896,"PEZERON","LOEVA","BE","F","081062","081062","COMP"]
[2069596,"BENKEDA","INAYA","BE","F","030008","030008","COMP"]
[2071313,"GLADIEUX-KERMOUM","SARAH","BE","F","012008","012008","COMP"]
[2073184,"SANCHEZ","LUCIE","MI","F","012003","012003","COMP"]
[2073917,"GABET-DUVAL","ESTEBAN","BE","M","082018","082018","COMP"]
[2074095,"ABADIE","LUBIN","BE","M","031015","031015","COMP"]
[2074133,"CHEREF","ISAIS","BE","F","031035","031035","COMP"]
[2074144,"CASTERES","BASTIEN","BE","M","031034","031034","COMP"]
[2075010,"BOURDALLE-BADIE","GABRIELA","BE","F","031034","031034","COMP"]
[2075072,"ASSIE","DORIAN","MI","M","034038","034038","COMP"]
[2075112,"DUNET","EMY","MI","F","012013","012013","COMP"]
[2075650,"VANELLE","ANAELLE","BE","F","066006","066006","COMP"]
[2075868,"BRUN","MANON","MI","F","012003","012003","COMP"]
[2076149,"GALANTINI","NOLANN","BE","M","031034","031034","COMP"]
[2076992,"MENDES","TILIO","MI","M","031046","031046","COMP"]
[2076999,"RAMANANTSOAVINA","LEA","BE","F","031046","031046","COMP"]
[2077300,"RASTOIN-VEBER","SIMEO","BE","M","034021","034021","COMP"]
[2077598,"PELFORT","LINA","MI","F","081021","081021","COMP"]
[2077640,"FESTOR","PAUL","BE","M","034066","034066","COMP"]
[2077807,"BASCOUL","MARTIN","BE","M","012008","012008","COMP"]
[2078013,"VERSEILLE","LYLA","MI","F","034473","034473","COMP"]
[2078030,"ABRAHAM","LEONA","BE","F","031003","031003","COMP"]
[2078112,"MONTAYE","MANON","MI","F","031004","031004","COMP"]
[2078138,"GRANIER GIRARD","CELIA","MI","F","081051","081051","COMP"]
[2078557,"MASSUYES","MARGOT","BE","F","081054","081054","COMP"]
[2078943,"FOREST","LOUIS","BE","M","031003","031003","COMP"]
[2079322,"DEMOUGEOT","CARL","BE","M","034066","034066","COMP"]
[2079369,"BABOU","MAGGIE","MI","F","031046","031046","COMP"]
[2079756,"GRAS","LANZO","MI","M","034072","034072","COMP"]
[2079780,"GIBOURDEL","NOAH","BE","M","031003","031003","COMP"]
[2080325,"RENAUX","ADRIEN","BE","M","031062","031062","COMP"]
[2080719,"MOUCHERE","ROMANE","MI","F","031046","031046","COMP"]
[2081384,"CAZANAVE","TITOUAN","MI","M","065003","065003","COMP"]
[2082043,"RICOMINI","QUENTIN","BE","M","031034","031034","COMP"]
[2082862,"BLAISE","LISA","BE","F","011022","011022","COMP"]
[2083239,"DURON LAMAILLE","CELIA","BE","F","031035","031035","COMP"]
[2083264,"MENDES","ANAIS","MI","F","031064","031064","COMP"]
[2083316,"BRAZET","CLEMENT","MI","M","031034","031034","COMP"]
[2083448,"BERTHOD","MARGOT","BE","F","030040","030040","COMP"]
[2084338,"CLAUSEL","MATHIEU","MI","M","030018","030018","COMP"]
[2084413,"RIDAO","DORIAN","BE","M","066027","066027","COMP"]
[2085812,"LACU","OCEANE","MI","F","065003","065003","COMP"]
[2086134,"BALMIGERE","HUGO","MI","M","011001","011001","COMP"]
[2086238,"RAYNAL","ELINE","BE","F","034064","034064","COMP"]
[2086425,"CAIELLI","LILOU","BE","F","082018","082018","COMP"]
[2086745,"MIHOUBI","LINA","MI","F","031003","031003","COMP"]
[2086759,"BOUE","RITA","BE","F","031003","031003","COMP"]
[2086961,"VIGUIER","REMI","BE","M","031009","031009","COMP"]
[2087010,"DURAND","BAPTISTE","MI","M","030040","030040","COMP"]
[2087661,"BOUSQUET","JUSTIN","BE","M","031034","031034","COMP"]
[2087717,"HEURTEVIN","LEONIE","BE","F","031004","031004","COMP"]
[2087921,"GISSOT-BAUDONNET","SOHANN","MI","F","082017","082017","COMP"]
[2088101,"RICAUT","MARION","MI","F","011016","011016","COMP"]
[2088415,"DENAES","ANTOINE","BE","M","031012","031012","COMP"]
[2088439,"DANTON SIMONNOT","NOEMIE","MI","F","034072","034072","COMP"]
[2088649,"BORDREUIL","ELENA","BE","F","034038","034038","COMP"]
[2089071,"MERLET","BAPTISTE","BE","M","031035","031035","COMP"]
[2089076,"BEAUCREUX","ETHAN","MI","M","031035","031035","COMP"]
[2089091,"REUX","LEO","MI","M","031035","031035","COMP"]
[2089109,"MONTANER","ZLATAN","MI","M","048004","048004","COMP"]
[2089184,"BLANC","LYSEA","BE","F","031035","031035","COMP"]
[2089191,"SUDRET","ROBIN","MI","M","032014","032014","COMP"]
[2089574,"ADELL","YOHAN","MI","M","011022","011022","COMP"]
[2089664,"DEHEVORA","LORIS","MI","M","081043","081043","COMP"]
[2089808,"PACULL","MARCEL","MI","M","034055","034055","COMP"]
[2089931,"MAZET","CLARA","MI","F","031004","031004","COMP"]
[2090367,"FOURNIER","ETHAN","BE","M","081055","081055","COMP"]
[2090647,"TALLARICO","MANON","BE","F","030003","030003","COMP"]
[2090787,"GROULT","QUENTIN","BE","M","034066","034066","COMP"]
[2091056,"HAYOZ KEDDAH","SOHANE","BE","F","082017","082017","COMP"]
[2091635,"PERIN","ANTONIN","MI","M","081021","081021","COMP"]
[2091940,"FIGLIOLINI","GABRIEL","BE","M","034072","034072","COMP"]
[2092176,"LAMKASS","IMANE","MI","F","034012","034012","COMP"]
[2092188,"CASTINEIRA","MATHILDE","MI","F","034473","034473","COMP"]
[2092196,"MARTIN","HELOISE","MI","F","034012","034012","COMP"]
[2092773,"JOSSET","KILLIAN","BE","M","030059","030059","COMP"]
[2092775,"MERLE","JOHANN","MI","M","030059","030059","COMP"]
[2092824,"PAYA","LOU-EVE","MI","F","009011","009011","COMP"]
[2092842,"LECOURT","EVE","MI","F","081043","081043","COMP"]
[2093275,"GUIN","RYU","BE","M","030060","030060","COMP"]
[2093389,"BRESCON","ZOE","MI","F","065012","065012","COMP"]
[2093606,"DUFFES","CLARA","MI","F","034066","034066","COMP"]
[2093764,"BUTTIN","MAE","BE","M","034066","034066","COMP"]
[2094002,"LACOMBE","CORENTHIN","BE","M","012003","012003","COMP"]
[2094022,"DELPAL","TRISTAN","MI","M","012003","012003","COMP"]
[2094214,"NICOLAU","TOM","MI","M","065005","065005","COMP"]
[2094489,"COUSSERANS","SARAH","BE","F","081048","081048","COMP"]
[2094529,"IMBERT","FERNAND","MI","M","046014","046014","COMP"]
[2094578,"ROCHE","LOUISE","BE","F","030067","030067","COMP"]
[2095184,"SEGURA","JULIE","MI","F","031039","031039","COMP"]
[2095360,"PAUTREL","JULIA","MI","F","032006","032006","COMP"]
[2096682,"ALBERT","ELINA","MI","F","081053","081053","ENCA"]
[2096686,"ALBERT","ANTOINE","BE","M","081053","081053","COMP"]
[2098774,"GOUAICH","MALIK","BE","M","034066","034066","COMP"]
[2098992,"LOURENCO","ILYES","BE","M","081051","081051","COMP"]
[2099114,"VEDEL","JULES","MI","M","081051","081051","COMP"]
[2099144,"GOUDOUR","LOLA","MI","F","031056","031056","COMP"]
[2099280,"VALES-LUCK","MAIWENN","BE","F","082018","082018","COMP"]
[2099468,"MISTRAL","JULIETTE","BE","F","030060","030060","COMP"]
[2099540,"AATAOUI","LINA","BE","F","048007","048007","COMP"]
[2101194,"ELLAPIN LE BAYEC","HELENA","BE","F","030067","030067","COMP"]
[2101480,"ROUQUET","NINA","MI","F","031022","031022","COMP"]
[2101524,"CONTE","ALEXANDRE","MI","M","031022","031022","COMP"]
[2101623,"AVICE-COULOMB","IRIS","MI","F","012013","012013","COMP"]
[2101952,"ALRIC","CAMILLE","MI","F","034062","034062","COMP"]
[2102217,"CHABBERT","MATHIS","BE","M","081054","081054","COMP"]
[2102289,"BRACKMAN","VALENTIN","BE","M","031004","031004","COMP"]
[2102415,"BATAILLOU","LISA","MI","F","081017","081017","COMP"]
[2102561,"AVILA","COLAS","MI","M","046012","046012","COMP"]
[2103597,"VIDAL","MANON","MI","F","081047","081047","COMP"]
[2103964,"CABRIT","LISON","MI","F","012005","012005","COMP"]
[2104690,"ESSAIDI","YOUSRA","BE","F","030040","030040","COMP"]
[2104819,"ALIBERT","MELINA","MI","F","012018","012018","COMP"]
[2105440,"LASSERRE","ANAE","BE","F","032002","032002","COMP"]
[2106144,"ALBOUY","LOU","BE","F","031055","031055","COMP"]
[2106479,"COUTAL","THOMAS","MI","M","031055","031055","COMP"]
[2106769,"IBRAHIM","SANIA","MI","F","082014","082014","COMP"]
[2107230,"MBENGI","ALINA","MI","F","031050","031050","COMP"]
[2107287,"TREMILLON","LEO","MI","M","031050","031050","COMP"]
[2107324,"FERRARI","CHLOE","MI","F","031025","031025","COMP"]
[2107463,"GHOUATI","BAYAN","BE","M","031004","031004","COMP"]
[2107776,"WILLM","ADELE","MI","F","081048","081048","COMP"]
[2108618,"ERPELDING","CLEMENT","MI","M","031046","031046","COMP"]
[2108845,"CHAUVEL","GLENN","MI","M","082017","082017","COMP"]
[2109437,"MAGREZ","VICTOIRE","MI","F","031004","031004","COMP"]
[2110087,"PUMO","MATTEO","BE","M","030021","030021","COMP"]
[2110116,"CLARETON-VIDAL","MARIE","MI","F","030021","030021","COMP"]
[2110151,"MANESSE","ROMANE","MI","F","030021","030021","COMP"]
[2110388,"SABATHE","SIDONIE","MI","F","081017","081017","COMP"]
[2110546,"TIRCAZES","LOUNA","MI","F","032006","032006","COMP"]
[2110889,"MARCHIANI","MATHIS","MI","M","031025","031025","COMP"]
[2111115,"THIL-PULGAR","GAEL","BE","M","031062","031062","COMP"]
[2111187,"MARTIN","EMMY","MI","F","034069","034069","COMP"]
[2111628,"CUPISSOL","TINA","MI","F","030018","030018","COMP"]
[2111947,"MAGNIN","OLIVIA","MI","F","030018","030018","COMP"]
[2111961,"MAGNIN","VICTORIA","BE","F","030018","030018","COMP"]
[2112180,"FERNANDEZ","ORLANE","MI","F","030067","030067","COMP"]
[2113269,"PETER","PAUL","BE","M","034457","034457","COMP"]
[2114000,"SERIN","AMBRE","MI","F","082017","082017","COMP"]
[2114120,"HENRY","MARIUS","BE","M","030004","030004","COMP"]
[2114127,"BERGOGNE","ROMAIN","BE","M","030004","030004","COMP"]
[2114976,"PAIDE","MAXIME","BE","M","032002","032002","COMP"]
[2115205,"ARCANGIOLI","LY-NHA","BE","F","011020","011020","COMP"]
[2115267,"MARSAL-DURAND","NAIS","MI","F","081017","081017","COMP"]
[2115628,"JUMERE SAMERE","PALOMA","BE","F","065005","065005","COMP"]
[2115641,"AUDET","ORION","MI","M","065005","065005","COMP"]
[2115653,"PEYRET","MAELLINE","BE","F","034012","034012","COMP"]
[2115691,"DUROULLE","LEELOO","MI","F","065017","065017","COMP"]
[2115833,"MARTINS","LOLA","MI","F","065027","065027","COMP"]
[2116064,"COUSINIER","MARION","BE","F","081017","081017","COMP"]
[2116814,"VERGNES","AUREL","BE","M","032002","032002","COMP"]
[2117373,"MARTY","ANDREAS","MI","M","034457","034457","COMP"]
[2117445,"SEGAUD","LOUIS","MI","M","081052","081052","COMP"]
[2117485,"MARMIER","VALENTIN","MI","M","081052","081052","COMP"]
[2117598,"SIBOURD","CANDICE","BE","F","081045","081045","COMP"]
[2117731,"CLERGUE","ELEA","MI","F","034069","034069","COMP"]
[2118159,"MASCLES","LEONIE","MI","F","012018","012018","COMP"]
[2118712,"FAYE","ARMAND","BE","M","034072","034072","COMP"]
[2118724,"PAPOZ NEGRONI","ELOICK","BE","M","034072","034072","COMP"]
[2119269,"COMBES RUIZ","ROBIN","MI","M","081046","081046","COMP"]
[2119389,"BOUILLOT","MARINE","MI","F","011020","011020","COMP"]
[2120248,"FORNARA","HUGO","MI","M","012002","012002","COMP"]
[2120296,"BREAT","SOLENE","MI","F","030060","030060","COMP"]
[2120370,"PAUL","ARTHUR","MI","M","081021","081021","COMP"]
[2120525,"COQUIN-REYNES","MATHIAS","BE","M","012003","012003","COMP"]
[2120650,"GERVASONI","MARIE","MI","F","030074","030074","COMP"]
[2120657,"GERVASONI","LUCIE","BE","F","030074","030074","COMP"]
[2120678,"GRAS","NOA","BE","M","034068","034068","COMP"]
[2121211,"MAUREL","MATHIEU","MI","M","034021","034021","COMP"]
[2121224,"GARRIGUES","HELOISE","BE","F","081062","081062","COMP"]
[2121257,"BUDIN","NATHANAEL","BE","M","066028","066028","COMP"]
[2121741,"ALLONGE","MAEVA","MI","F","030003","030003","COMP"]
[2122469,"MARTY","HERMANCE","MI","F","048004","048004","COMP"]
[2123722,"BACHES","CHLOE","MI","F","066003","066003","COMP"]
[2123776,"TERRAL","HANNAH","BE","F","012002","012002","COMP"]
[2123949,"ROBBE","LEON","BE","M","065005","065005","COMP"]
[2124273,"MARTY","MILA","MI","F","066027","066027","COMP"]
[2124330,"HELIP","JULIETTE","MI","F","066027","066027","COMP"]
[2124848,"CHAIBI","CHERINE","MI","F","066003","066003","COMP"]
[2124852,"VIGNE","LILOU","BE","F","030059","030059","COMP"]
[2125171,"DROULERS","BAPTISTE","BE","M","011001","011001","COMP"]
[2125489,"MARTIN CECCALDI","PAULINE","MI","F","031004","031004","COMP"]
[2126670,"LOUADOUDI","RACHEL","MI","F","081051","081051","COMP"]
[2127062,"MALDONADO","ENAEL","BE","M","034457","034457","COMP"]
[2127196,"VALIERES","MAEL","MI","M","012005","012005","COMP"]
[2127235,"PASQUIER","PAUL","BE","M","012005","012005","COMP"]
[2127875,"HARMEL","LEON","BE","M","031004","031004","COMP"]
[2128877,"BARROT","CHARLOTTE","MI","F","031025","031025","COMP"]
[2128879,"SABRAZAT","NOELIE","MI","F","031025","031025","COMP"]
[2129213,"SAID MLARAHA","HIKMA","MI","F","034066","034066","COMP"]
[2129526,"PAGES AYMERIC","ESTELLE","MI","F","081051","081051","COMP"]
[2129994,"RUIZ","RUBEN","MI","M","031025","031025","COMP"]
[2130336,"BROUSTE","ELSA","MI","F","034062","034062","COMP"]
[2132099,"BOULAMJOUJ","WIAM","MI","F","009011","009011","COMP"]
[2132146,"BESSE","EMILIE","BE","F","065003","065003","COMP"]
[2132420,"NADAL","CAMILLE","MI","F","066027","066027","COMP"]
[2133612,"MIQUEL","LINE","MI","F","012003","012003","COMP"]
[2134223,"LE-DUFF","ISSAM","MI","M","034454","034454","COMP"]
[2134638,"CAPLAT","ETHAN","MI","M","030067","030067","COMP"]
[2134717,"LAUREYS","PAULINE","MI","F","065017","065017","COMP"]
[2134938,"FACON","MYLAN","MI","M","031012","031012","COMP"]
[2135937,"GASQUET","LOANN","BE","M","081056","081056","COMP"]
[2136011,"BARRAU","LUBIN","MI","M","081056","081056","COMP"]
[2136468,"COUERON","MARIE","BE","F","065005","065005","COMP"]
[2136818,"DUTAULT-TEQUI","LUCAS","BE","M","065012","065012","COMP"]
[2137351,"AUTIER","LANA","MI","F","065027","065027","COMP"]
[2137707,"DOURLENT","NATHAEL","MI","M","009001","009001","COMP"]
[2138198,"AKARKAOU","ILIES","BE","M","066003","066003","COMP"]
[2140559,"LUHERNE","QUENTIN","MI","M","081046","081046","COMP"]
[2140601,"RONSIN","MARCEAU","BE","M","046008","046008","COMP"]
[2142073,"DUTOIT","SACHA","MI","M","012005","012005","COMP"]
[2142510,"FRAYSSINET","NOA","MI","M","081054","081054","COMP"]
[2142547,"SAUBESTY","LILY","BE","F","034038","034038","COMP"]
[2142556,"FACHAN","AMAURY","MI","M","034065","034065","COMP"]
[2142882,"BIAU","BASTIEN","MI","M","081054","081054","COMP"]
[2142884,"SIRE","MAUREEN","MI","F","081054","081054","COMP"]
[2142893,"BESSET","MANON","MI","F","081054","081054","COMP"]
[2142894,"ROUTABOUL","JULIETTE","MI","F","081054","081054","COMP"]
[2142900,"PAGES","BASILE","MI","M","081054","081054","COMP"]
[2142902,"MARC","LENA","MI","F","081054","081054","COMP"]
[2143142,"LOBET","MARC","MI","M","032006","032006","COMP"]
[2143392,"DURET","MARTIN","MI","M","032002","032002","COMP"]
[2143529,"DEBAQUE","JEREMY","BE","M","031062","031062","COMP"]
[2143620,"ALIROL","GABIN","BE","M","031062","031062","COMP"]
[2146410,"TEISSEYRE RUMBEAU","IBAN","MI","M","011016","011016","COMP"]
[2147087,"TRIAIRE","RAPHAEL","BE","M","030003","030003","COMP"]
[2147091,"SUBE XAVIER","MAIA","MI","F","030003","030003","COMP"]
[2147102,"PICARD","VALENTINE","BE","F","066037","066037","COMP"]
[2148501,"BESSIERES","NATHANAEL","BE","M","012018","012018","COMP"]
[2149394,"GOUNDI-ROIG","MARCELLE","BE","F","009001","009001","COMP"]
[2149553,"ARANDA FRANCOIS","BERTILLE","BE","F","011022","011022","COMP"]
[2149678,"DJAFAR","JIHANE","MI","F","012013","012013","COMP"]
[2152860,"SANTOS","TIMEO","MI","M","034012","034012","COMP"]
[2152884,"MERLET","CHARLOTTE","MI","F","081054","081054","COMP"]
[2152957,"ANDREI","ISABELA","BE","F","048007","048007","COMP"]
[2153644,"DELOR","BASTIEN","BE","M","034457","034457","COMP"]
[2155695,"MBENGI","EDSON","BE","M","031050","031050","COMP"]
[2155926,"KANSTEINER","WOLF-THEODOR","BE","M","030059","030059","COMP"]
[2156402,"CAZAUX","RAPHAEL","MI","M","034021","034021","COMP"]
[2156413,"BACH","NAWFEL","MI","M","034058","034058","COMP"]
[2156497,"STIEN RODRIGUES","MYA","BE","F","066028","066028","COMP"]
[2156758,"LACROIX","EDGAR","BE","M","031003","031003","COMP"]
[2159426,"GALTIE","ROMANE","MI","F","012018","012018","COMP"]
[2159943,"MAGRAS","MANOA","BE","M","034072","034072","COMP"]
[2160764,"BERRE","MIKA","MI","M","034066","034066","COMP"]
[2161752,"VILPORT","EMMIE","BE","F","034476","034476","COMP"]
[2162625,"DELGAT","ELLORIA","MI","F","031062","031062","COMP"]
[2162631,"SCAILLIER","HUGO","BE","M","031062","031062","COMP"]
[2162859,"VANONCINI-BARRANS","EMMA","BE","F","011022","011022","COMP"]
[2164859,"CLAISSE","LISON","BE","F","030074","030074","COMP"]
[2164910,"MENSUELLE","LOUIS","MI","M","034476","034476","COMP"]
[2164990,"DUPARCHY","LEO","MI","M","081048","081048","COMP"]
[2165175,"EL FARROUJE","MOHAMED","MI","M","066003","066003","COMP"]
[2166237,"AUBRION","IRIS","BE","F","065027","065027","COMP"]
[2166822,"COUSIN","NATHAN","BE","M","030004","030004","COMP"]
[2167122,"DAANOUNE","SALMAN","MI","M","034062","034062","COMP"]
[2167247,"MARIE AUGE","SAMUEL","MI","M","048004","048004","COMP"]
[2167348,"PUYDARRIEUX","ROMAIN","BE","M","065004","065004","COMP"]
[2170571,"ASTIER TRIA","CLARISSE","BE","F","030004","030004","COMP"]
[2171145,"CUJUS","TOM","BE","M","046012","046012","COMP"]
[2172244,"PAUL-GOMEZ","JOSHUA","MI","M","034066","034066","COMP"]
[2172468,"DEBIEN","THEO","BE","M","034457","034457","COMP"]
[2172475,"OUAOUI","IMANE","BE","F","048007","048007","COMP"]
[2173018,"CASI","LOUANE","BE","F","012003","012003","COMP"]
[2173757,"COURTIN","ROMAIN","MI","M","034457","034457","COMP"]
[2174302,"GAL","ELIAN","BE","M","082017","082017","COMP"]
[2174577,"FEUVRIE VO HOANG","MAINA","MI","F","034066","034066","COMP"]
[2174980,"BARBETTI","MANON","BE","F","082017","082017","COMP"]
[2175251,"FRUCHART","ARTHUR","BE","M","034066","034066","COMP"]
[2175438,"RAMOS BUFFET","ESTEBAN","MI","M","031034","031034","COMP"]
[2175608,"GUILLAMOT","LILWEN","MI","F","034066","034066","COMP"]
[2175691,"MAGLICA","OLIVIER","MI","M","031034","031034","COMP"]
[2175732,"MOGUEROU","SACHA","MI","M","031034","031034","COMP"]
[2175764,"LAMBERT","LOUISE","MI","F","034066","034066","COMP"]
[2175807,"AGULLO","LISA","BE","F","031015","031015","COMP"]
[2175948,"ERLES MAGNUSSON","REBECCA MARIE","BE","F","031034","031034","COMP"]
[2175950,"BINAS","TONI","MI","M","034072","034072","COMP"]
[2175963,"ESTAGERIE","PAUL","BE","M","031034","031034","COMP"]
[2176243,"LOYER","JESSICA","BE","F","031004","031004","COMP"]
[2176652,"BREMAUD","VICTOIRE","MI","F","012002","012002","COMP"]
[2176768,"CAVALIE","CLEMENT","MI","M","011022","011022","COMP"]
[2176840,"HALIFA","LILWEN","MI","F","065003","065003","COMP"]
[2177101,"TURQUET","RAPHAEL","BE","M","082014","082014","COMP"]
[2177304,"GOUES","LOUIS","MI","M","031046","031046","COMP"]
[2177327,"MANOUVRIER","THEO","BE","M","031046","031046","COMP"]
[2178025,"TASSY","MATTHIEU","MI","M","031046","031046","COMP"]
[2178154,"LAPEYRE","SIMEON","BE","M","031034","031034","COMP"]
[2178166,"JAAOURA","CHAIMA","MI","F","031034","031034","COMP"]
[2178201,"JANSSOONE","BENJAMIN","BE","M","031034","031034","COMP"]
[2178206,"LAFFORGUE","ELIOTT","BE","M","031034","031034","COMP"]
[2178367,"BESSEY","DORIAN","MI","M","065003","065003","COMP"]
[2178945,"LAVIELLE","LUCAS","BE","M","031034","031034","COMP"]
[2179373,"BECK","ALEXIS","BE","M","034066","034066","COMP"]
[2179687,"ALPHONSINE","RAFAEL","MI","M","034062","034062","COMP"]
[2179695,"GALINIER BOYER","ANGELA","MI","F","081051","081051","COMP"]
[2179854,"LUCENAY","ISAIA","BE","F","031046","031046","COMP"]
[2180334,"GAIGNEUR","HUGO","BE","M","031015","031015","COMP"]
[2180344,"COTTET","ESTEVEN","BE","M","031015","031015","COMP"]
[2180353,"DABADIE","MALO","BE","M","031015","031015","COMP"]
[2180766,"SENTOST","THOMAS","BE","M","031039","031039","COMP"]
[2180857,"CLERC","ELOISE","BE","F","031025","031025","COMP"]
[2180866,"ROBIC","JEANNE","MI","F","031042","031042","COMP"]
[2180944,"PANIS","FLORA","BE","F","082018","082018","COMP"]
[2181339,"GENOT","TESSA","BE","F","031034","031034","COMP"]
[2182337,"ALBOUY","JULES","BE","M","012018","012018","COMP"]
[2183772,"GORNES","ELEA","MI","F","066006","066006","COMP"]
[2184821,"DUCHARME","MELINE","BE","F","034012","034012","COMP"]
[2185011,"MARESTIN","CHLOE","BE","F","031056","031056","COMP"]
[2186636,"BARROMES","RACHEL","BE","F","081017","081017","COMP"]
[2186733,"FERRAND","TOM","BE","M","034064","034064","COMP"]
[2186987,"EYCHENNE","LUCIE","BE","F","081051","081051","COMP"]
[2187056,"JAMIL","YOUNES","MI","M","081051","081051","COMP"]
[2187064,"DUTAUT","MARIE","MI","F","030074","030074","COMP"]
[2187280,"EL JAZOULI","ILYANA","BE","F","030060","030060","COMP"]
[2187809,"PIQUEMOLES","CLEMENT","MI","M","081043","081043","COMP"]
[2187820,"LAVIGNE","ALEXANDRE","BE","M","081048","081048","COMP"]
[2187843,"RIOS","KYAN","BE","M","081043","081043","COMP"]
[2187937,"HAYTE","ROMAIN","MI","M","011001","011001","COMP"]
[2188118,"ESTEBAN LOPEZ","DORIAN","BE","M","034072","034072","COMP"]
[2188167,"LACROIX","PAULINE","BE","F","082018","082018","COMP"]
[2188352,"EVEILLARD","AWEN","MI","F","031022","031022","COMP"]
[2188675,"ESTEBAN-LOPEZ","EVA","MI","F","034072","034072","COMP"]
[2188907,"LAFFONT","MATHIS","BE","M","031046","031046","COMP"]
[2188969,"NGUEMA","SIMON","BE","M","031010","031010","COMP"]
[2189434,"BRANCO SOYEZ","DIEGO","MI","M","034012","034012","COMP"]
[2189720,"DAVERAN","JEANNE","BE","F","065012","065012","COMP"]
[2190173,"JOSEPH","SAMUEL","BE","M","031009","031009","COMP"]
[2190313,"BIANCO","ANAE","MI","F","081017","081017","COMP"]
[2190897,"CARCUAT","TOM","BE","M","012018","012018","COMP"]
[2191104,"MORALES","ADRIEN","MI","M","034064","034064","COMP"]
[2191132,"LEBAS","AUBERI","MI","F","066003","066003","COMP"]
[2191323,"BERGE","PAUL","BE","M","065012","065012","COMP"]
[2191409,"FUCHS","GASPARD","BE","M","030067","030067","COMP"]
[2191600,"DAVID","ELIJAH","BE","M","034068","034068","COMP"]
[2191691,"DE BOUSSAC","CAMILLE","BE","M","034068","034068","COMP"]
[2191696,"DE BOUSSAC","TIMOTHEE","BE","M","034068","034068","COMP"]
[2191758,"MASSON","VICTOR","MI","M","034068","034068","COMP"]
[2191820,"BOUAZIZ","YANIS","BE","M","011022","011022","COMP"]
[2192010,"POSER","LIVIA","MI","F","081062","081062","COMP"]
[2192011,"INTARTAGLIA","ALIX","MI","M","034062","034062","COMP"]
[2192012,"CROS CLUZEL","CORALINE","BE","F","081062","081062","COMP"]
[2192051,"BASTIDE","HELOISE","BE","F","012003","012003","COMP"]
[2192052,"GAILLAC","ROSE","BE","F","012003","012003","COMP"]
[2192367,"PUYFOURCAT","LEA","BE","F","065006","065006","COMP"]
[2192379,"CASTAING","YANIS","MI","M","065006","065006","COMP"]
[2192382,"CASTAING","EMMY","BE","F","065006","065006","COMP"]
[2193006,"REBOUL","ULYSSE","BE","M","034068","034068","COMP"]
[2193241,"CHAMPROSE","MAELYS","MI","F","011032","011032","COMP"]
[2193294,"RODIER","LUCIE","MI","F","011022","011022","COMP"]
[2193410,"CALMETTES","AELIS","MI","F","046008","046008","COMP"]
[2193422,"HAICHAR","MELLINA","BE","F","081017","081017","COMP"]
[2193449,"FERRIER","MATHIS","MI","M","081017","081017","COMP"]
[2193474,"MILHAVET","MATHIEU","MI","M","046008","046008","COMP"]
[2194433,"BARY","MACEO","BE","M","031050","031050","COMP"]
[2194477,"MANAGAOU","ADRIEN","BE","M","031050","031050","COMP"]
[2194494,"TISSOT","JULIEN","BE","M","031050","031050","COMP"]
[2194499,"BELHADJ ABDELHADI","WALID","MI","M","031004","031004","COMP"]
[2194502,"CARLI","TELMA","BE","F","031050","031050","COMP"]
[2194508,"CARLI","MILO","MI","M","031050","031050","COMP"]
[2195726,"FONCARNIER","TOM","MI","M","031035","031035","COMP"]
[2196280,"MOUTIER","LIAM","BE","M","031046","031046","COMP"]
[2196437,"FERRE","FERDINAND","BE","M","031046","031046","COMP"]
[2196441,"RITTER","CHARLES","BE","M","011016","011016","COMP"]
[2198071,"DROUIN","TIMOTHEE","BE","M","012002","012002","COMP"]
[2198105,"BORG","LENA","MI","F","081053","081053","COMP"]
[2198437,"BOUBAYA","ADAM","MI","M","034454","034454","COMP"]
[2198548,"AYOUME","ZOE","BE","F","031003","031003","COMP"]
[2198575,"BIE","LOIS","MI","F","031003","031003","COMP"]
[2198596,"GREZES","JULIETTE","BE","F","031008","031008","COMP"]
[2198992,"CAMMAS","INES","MI","F","031003","031003","COMP"]
[2199163,"ESCLASSAN","VALENTIN","BE","M","031004","031004","COMP"]
[2199222,"MARCELOT","SAMUEL","BE","M","031004","031004","COMP"]
[2199682,"DIOT","NATHAN","BE","M","031003","031003","COMP"]
[2199872,"VASSAL","ESTEBAN","BE","M","081046","081046","COMP"]
[2199893,"BOURTEL","NICIA","MI","F","034038","034038","COMP"]
[2200256,"MIRAGLIO","MATHILDE","BE","F","034062","034062","COMP"]
[2200332,"HOMANI","IHSSEN","MI","F","012002","012002","COMP"]
[2200913,"BRETAGNON","SARAH","MI","F","030004","030004","COMP"]
[2200916,"GACHE MORILLON","ELENA","MI","F","030074","030074","COMP"]
[2200922,"DUMAS","SOHAN","MI","M","030059","030059","COMP"]
[2200969,"PAILHE-BELAIR","TIMOTE","BE","M","065025","065025","COMP"]
[2200972,"REY BELMEBROUK","SALOME","MI","F","031004","031004","COMP"]
[2201002,"POUNTCHEV","VICTORIA","MI","F","031004","031004","COMP"]
[2201141,"MOULY","JEANNE","MI","F","031004","031004","COMP"]
[2201154,"SIMON","FAUSTINE","MI","F","031004","031004","COMP"]
[2201169,"GONCALVES TORRES","NOELIE","MI","F","031004","031004","COMP"]
[2201244,"PIBOULEAU","THOMAS","BE","M","034038","034038","COMP"]
[2202107,"COULANGE","JULES","MI","M","034038","034038","COMP"]
[2202495,"MESTRE","FLAVY","MI","F","011016","011016","COMP"]
[2202830,"SALEINE","SOAN","BE","M","081062","081062","COMP"]
[2202928,"POSTOLOVIC","LILI","BE","F","082018","082018","COMP"]
[2203872,"LIGNEAU","TRISTAN","MI","M","031050","031050","COMP"]
[2204106,"SAMEUR","RAYAN-BELKACEM","BE","M","081046","081046","COMP"]
[2204699,"CHABOY","LOUISE","MI","F","031004","031004","COMP"]
[2204733,"DUMONCHAUX","CLEMENCE","BE","F","031004","031004","COMP"]
[2204760,"DUPRE","CELESTIN","MI","M","046012","046012","COMP"]
[2204771,"LAROSE","AXEL","BE","M","034012","034012","COMP"]
[2204851,"DEROUICHE","HAMZA","BE","M","031004","031004","COMP"]
[2205308,"MOUSSOUNI","MINNATOULLAH","BE","F","065012","065012","COMP"]
[2206114,"BARTHES","OPHELIE","BE","F","031056","031056","COMP"]
[2206279,"WILLIAME GAILLARD","LOLA","BE","F","031022","031022","COMP"]
[2207363,"TODESCHI","LAURA","MI","F","031035","031035","COMP"]
[2207443,"LEBRETON","RACHEL","BE","F","034454","034454","COMP"]
[2207547,"COURIOL","NILS","BE","M","081054","081054","COMP"]
[2208000,"AUTIER","JAO","BE","M","065027","065027","COMP"]
[2208035,"COLIA","MATISSE","MI","M","065027","065027","COMP"]
[2208281,"COUILLEZ","MIA","BE","F","032002","032002","COMP"]
[2208447,"GARCIA","MARCO","BE","M","066027","066027","COMP"]
[2208710,"BARDIN","NEIL","BE","M","031046","031046","COMP"]
[2208773,"FOURNIER","MATHIS","MI","M","082014","082014","COMP"]
[2208961,"BENECH","LOLA","BE","F","082014","082014","COMP"]
[2209118,"ZARGHOUNE","ILYASSE","BE","M","082014","082014","COMP"]
[2209417,"MARCINIAK","GUYLHEM","BE","M","030003","030003","COMP"]
[2209981,"AUZIERE","LOHAN","BE","M","030060","030060","COMP"]
[2210152,"ARAYE","LORIS","BE","M","081017","081017","COMP"]
[2210225,"PODOR","GAULTIER","MI","M","030021","030021","COMP"]
[2210240,"RARIVOMANANTSOA","MAHE","MI","M","030021","030021","COMP"]
[2210433,"HARKATI-BOUKHOBZA","INES","MI","F","031004","031004","COMP"]
[2210516,"GAULUET","NELIO","BE","M","030021","030021","COMP"]
[2210523,"FAURE","SARAH","BE","F","030021","030021","COMP"]
[2210856,"LEHRICHI","JAWED","BE","M","066003","066003","COMP"]
[2211316,"CALI","PAUL","BE","M","030021","030021","COMP"]
[2211568,"THOMAZO","LOUISE","BE","F","034476","034476","COMP"]
[2211940,"DUZELLIER","MAXENCE","MI","M","034038","034038","COMP"]
[2211951,"BONNAUD","TIMEO","BE","M","030059","030059","COMP"]
[2212048,"BREMOND","BASTIEN","MI","M","034068","034068","COMP"]
[2212130,"BLANC","CANDICE","MI","F","030021","030021","COMP"]
[2212191,"MOUTON","JEANNE","MI","F","031056","031056","COMP"]
[2212315,"LEGRIEL","MARTIN","BE","M","031062","031062","COMP"]
[2212575,"LEPERS","ESTEBAN","MI","M","066006","066006","COMP"]
[2212711,"FELTIN","MAXIME","MI","M","031046","031046","COMP"]
[2212725,"DUCOS","NOELIE","MI","F","081047","081047","COMP"]
[2213242,"ROSA","LILIE","MI","F","031056","031056","COMP"]
[2213338,"TEULIERE","THIBAULT","BE","M","031056","031056","COMP"]
[2213505,"LIEUTIER","DAN","MI","M","066027","066027","COMP"]
[2213566,"AROUCHE","JANNA","BE","F","031004","031004","COMP"]
[2213969,"MURACCIOLE","EVA","MI","F","030003","030003","COMP"]
[2214057,"CAUSSE","MARINE","MI","F","030008","030008","COMP"]
[2214120,"THOUEILLE","RENO","BE","M","046012","046012","COMP"]
[2214237,"KERKOUR","NISRINE","MI","F","030003","030003","COMP"]
[2214264,"HAHONOU CATTELIN","MATHIS","MI","M","034038","034038","COMP"]
[2214345,"CHIAPPETTA","LORIS","MI","M","030003","030003","COMP"]
[2214386,"LACROIX","LISA","MI","F","030003","030003","COMP"]
[2214684,"ESTIVES","MATHIS","MI","M","009011","009011","COMP"]
[2215122,"TOUCHET","MAXIME","BE","M","011001","011001","COMP"]
[2215226,"REBONATO","BENJAMIN","BE","M","031022","031022","COMP"]
[2215245,"BEGUE","ZOE","MI","F","031022","031022","COMP"]
[2215477,"DOMEC","VALENTIN","BE","M","009011","009011","COMP"]
[2215479,"DJOUAL","GABRIEL","BE","M","031015","031015","COMP"]
[2215760,"DUCERT TIAGO","HUGO","MI","M","009001","009001","COMP"]
[2215767,"GAUCHY","CASSANDRE","BE","F","012005","012005","COMP"]
[2215981,"CLAVEL","MILA","MI","F","066003","066003","COMP"]
[2216087,"PRIME","CARL","BE","M","034072","034072","COMP"]
[2216266,"MACNORIUS","EVA","BE","F","066028","066028","COMP"]
[2216685,"GALLET","LUCA","MI","M","066027","066027","COMP"]
[2216762,"GOBERT","LEA","BE","F","066037","066037","COMP"]
[2216765,"SEGAUD","JORDAN","MI","M","034055","034055","COMP"]
[2216769,"BENARD","KATARINA","BE","F","034055","034055","COMP"]
[2217182,"GARNIER","VALENTIN","MI","M","065012","065012","COMP"]
[2217204,"MICHON-MICHEL","CALISTA","BE","F","030004","030004","COMP"]
[2217428,"DUMOLIN","THOMAS","MI","M","034021","034021","COMP"]
[2217432,"DUMOLIN","MATHIEU","MI","M","034021","034021","COMP"]
[2217697,"VALENTIN","ANAIS","BE","F","030003","030003","COMP"]
[2217699,"MONIER","BIANKA","BE","F","034021","034021","COMP"]
[2217881,"PERSEGOUT RHIMBERT","GIOVANA","MI","F","031003","031003","COMP"]
[2218076,"LACOSTE","ENORA","BE","F","031062","031062","COMP"]
[2218393,"BLASZCZAK","NATACHA","BE","F","081017","081017","COMP"]
[2218428,"ARNAL","PIERICK","BE","M","081062","081062","COMP"]
[2218460,"PILOTTIN","ARMAND","BE","M","081055","081055","COMP"]
[2218818,"GHENIM","NAWFEL","BE","M","012003","012003","COMP"]
[2219327,"SUISSA","ANOUCK","MI","F","034073","034073","COMP"]
[2219565,"GALTIER","VALENTINE","BE","F","030040","030040","COMP"]
[2219890,"MANUEL","ARMAND","BE","M","034066","034066","COMP"]
[2219934,"GUERIN-GOUBEAU","VICTOR","BE","M","034072","034072","COMP"]
[2220483,"BAYAR","SARAH","BE","F","030021","030021","COMP"]
[2220630,"FOISSAC","NOE","BE","M","012018","012018","COMP"]
[2220872,"JENNEQUIN","MANON","MI","F","082018","082018","COMP"]
[2220891,"MICHEL","LUCA","BE","M","081051","081051","COMP"]
[2220950,"NIVELLE ALONSA","ARIANA","MI","F","031025","031025","COMP"]
[2220975,"PINEL","AXEL","MI","M","031042","031042","COMP"]
[2220990,"BLANCHARD","DIEGO","MI","M","030059","030059","COMP"]
[2220996,"BOSC","BAPTISTE","BE","M","031050","031050","COMP"]
[2221004,"VANCRAEYENEST","RONAN","BE","M","030059","030059","COMP"]
[2221047,"TRUCHI-GRENOT","TINA","MI","F","046008","046008","COMP"]
[2221314,"GILARDI","EVA","MI","F","034055","034055","COMP"]
[2221783,"BOUDJELLAL","DALY","MI","M","030021","030021","COMP"]
[2222065,"GACHON","SARAH","BE","F","048007","048007","COMP"]
[2222660,"CITTANOVA","EVA","MI","F","031043","031043","COMP"]
[2222778,"GRIFFIN","SEAN","MI","M","030021","030021","COMP"]
[2223005,"ROBIN","HUGO","BE","M","032006","032006","COMP"]
[2223040,"BONOTTO","VALENTIN","MI","M","032006","032006","COMP"]
[2223285,"SALEUR","ALEXIS","BE","M","011022","011022","COMP"]
[2224715,"TAURINES","VALENTIN","BE","M","012018","012018","COMP"]
[2225078,"MAISONNEUVE","NOE","BE","M","030021","030021","COMP"]
[2225118,"MIREY","MARGOT","MI","F","009011","009011","COMP"]
[2225648,"LESAUVAGE SAUMADE","LOAN","MI","M","081043","081043","COMP"]
[2225873,"CURVALE","MELINE","BE","F","081017","081017","COMP"]
[2225877,"RAMSAMY","COME","BE","M","081017","081017","COMP"]
[2225897,"MISTRI","LOLA","BE","F","081043","081043","COMP"]
[2225968,"POUSSIN-CAMIADE","GUILHEM","BE","M","065004","065004","COMP"]
[2226102,"BELADEL","AMINA","BE","F","030040","030040","COMP"]
[2226396,"DURAND","LEO","BE","M","034038","034038","COMP"]
[2226917,"AUDREN MOALI","IVAN","MI","M","081054","081054","COMP"]
[2226935,"LAFON","CORENTIN","MI","M","081054","081054","COMP"]
[2226952,"NESPOULOUS","CHLOE","MI","F","081054","081054","COMP"]
[2226958,"PECOULT","CANDICE","MI","F","081054","081054","COMP"]
[2227649,"LESVEN","ANAE","MI","F","034036","034036","COMP"]
[2227685,"QUILES","MAEL","MI","M","048004","048004","COMP"]
[2227764,"DUBOURG","ADELE","BE","F","031062","031062","COMP"]
[2229001,"ZOUARI","MIA","BE","F","034066","034066","COMP"]
[2230013,"AHADDOUCH","ILIES","BE","M","048007","048007","COMP"]
[2230202,"DOUSSON","BENJAMIN","MI","M","030040","030040","COMP"]
[2230485,"JACQUESON","MANON","MI","F","012013","012013","COMP"]
[2231076,"MUIN","LUCIEN","MI","M","034058","034058","COMP"]
[2231165,"COSTE","LILIAN","MI","M","034457","034457","COMP"]
[2231223,"CASANAS","NATAEL","MI","M","034457","034457","COMP"]
[2231869,"LAPIERRE","LILOU","BE","F","081047","081047","COMP"]
[2231877,"FELTRIN","THOMAS","BE","M","081047","081047","COMP"]
[2232011,"CALVO","HUGO","BE","M","066003","066003","COMP"]
[2232044,"LAFFONT","AURELIEN","BE","M","011016","011016","COMP"]
[2232797,"MONTESINOS","THOMAS","MI","M","066006","066006","COMP"]
[2233305,"RAMI","AHMED","BE","M","030018","030018","COMP"]
[2233312,"DATY-CUEVAS","YAHELIZ","MI","F","030018","030018","COMP"]
[2233346,"ANDRE","MADO","BE","F","030018","030018","COMP"]
[2233349,"MAURAS","NINO","BE","M","081017","081017","COMP"]
[2233366,"BERTINO","PAULIN","BE","M","081017","081017","COMP"]
[2233368,"BERTINO","ADELE","MI","F","081017","081017","COMP"]
[2233731,"BOUTEVILLAIN COCHEZ","LOUISON","MI","F","081017","081017","COMP"]
[2233745,"KASZYNSKI","CHLOE","MI","F","081017","081017","COMP"]
[2233756,"DEBRUYNE","JUSTINE","MI","F","081017","081017","COMP"]
[2234252,"WALTER-TORQUEBIAU","JULIA","MI","F","034457","034457","COMP"]
[2235095,"THEPEGNIER BRANCHARD","RUBEN","BE","M","066006","066006","COMP"]
[2235697,"JOULIN","BENJAMIN","BE","M","034066","034066","COMP"]
[2235808,"EL HAMDI","MELINA","BE","F","030003","030003","COMP"]
[2236285,"PETE","RACHEL","BE","F","030003","030003","COMP"]
[2236373,"MARCASSUS","LILA","BE","F","032006","032006","COMP"]
[2236781,"PECOULT","SACHA","BE","M","081054","081054","COMP"]
[2236784,"VILLEMUR","GABIN","BE","M","081054","081054","COMP"]
[2236911,"HENNON","OSCAR","BE","M","081062","081062","COMP"]
[2237499,"HAFIDI","MOHAMED","BE","M","034066","034066","COMP"]
[2237834,"DELLACASAGRANDE","HELOISE","BE","F","031025","031025","COMP"]
[2238449,"BELINE","AZILYS","BE","F","034069","034069","COMP"]
[2238657,"SAIED","OUAFI","BE","M","081056","081056","COMP"]
[2239149,"CAMP","ANAE","BE","F","081047","081047","COMP"]
[2239323,"SAUGE","HANAE","BE","F","031008","031008","COMP"]
[2239640,"BIVES","MAXIME","MI","M","065027","065027","COMP"]
[2241374,"MOUSSAOUI","AMBRE","BE","F","034066","034066","COMP"]
[2241700,"LAFITTE","MIA","BE","F","031034","031034","COMP"]
[2241985,"PEBRE","AGATHE","MI","F","034055","034055","COMP"]
[2242030,"MAZENQ","ELLIOT","BE","M","046012","046012","COMP"]
[2242422,"ROUGER","INAYA","BE","F","034069","034069","COMP"]
[2242564,"LESTRADE","APOLLINE","BE","F","031015","031015","COMP"]
[2243354,"CIEUTAT","NINA","BE","F","065025","065025","COMP"]
[2243814,"COSSIC","SOA","BE","M","009001","009001","COMP"]
[2243900,"DUCLOS","LOAN","BE","M","012003","012003","COMP"]
[2244608,"VUILLAUME","LISA","MI","F","046004","046004","COMP"]
[2245237,"BOULDOIRE","TESS","BE","F","032014","032014","COMP"]
[2245717,"PONS","SHAUN","BE","M","032002","032002","COMP"]
[2245800,"MAITERE AURIOL","HEIVA","BE","M","081043","081043","COMP"]
[2245824,"GRAVIL","EMELYNE","BE","F","030059","030059","COMP"]
[2246160,"TEYCHENE","JADE","BE","F","031062","031062","COMP"]
[2246649,"DURAND","AMBRE","BE","F","030067","030067","COMP"]
[2246723,"DELSUPEXHE","LOAN","MI","M","030040","030040","COMP"]
[2247704,"MENNESSON","PAULINE","MI","F","034062","034062","COMP"]
[2248342,"BOURGEOIS DEGENEVE","NINO","MI","M","048004","048004","COMP"]
[2248352,"SAINT-LEGER","MELIA","BE","F","048004","048004","COMP"]
[2249416,"ROURE","ROMY","BE","F","034055","034055","COMP"]
[2249868,"CHERON","JEANNE","BE","F","030003","030003","COMP"]
[2250009,"ISEPPI","LORIANA","MI","F","031015","031015","COMP"]
[2250301,"DEREMARQUE","CHARLY","BE","M","066028","066028","COMP"]
[2250517,"FOUQUART","AMAURY","MI","M","082018","082018","COMP"]
[2251050,"JACQUES","CHARLOTTE","MI","F","030018","030018","COMP"]
[2251479,"GALINON","ELISSENDE","MI","F","046008","046008","COMP"]
[2251614,"RUIS GAUTHIER","EDWYN","BE","M","034021","034021","COMP"]
[2252065,"EL HAMDAOUI","AMIR","MI","M","030004","030004","COMP"]
[2253723,"LAVAL","LEANE","BE","F","030008","030008","COMP"]
[2255256,"RIVIERE","CAMILLE","MI","F","031015","031015","COMP"]
[2255921,"PUJAL FAJAL","NOA","MI","M","066006","066006","COMP"]
[2256155,"CAZALS","RAYAN","MI","M","031034","031034","COMP"]
[2256206,"PRIETO","LEON","MI","M","034062","034062","COMP"]
[2259187,"FARESSE","LEILA","BE","F","031039","031039","COMP"]
[2260655,"LOMBEZ","ETHAN","BE","M","031062","031062","COMP"]
[2263379,"ABIDI","SELYAN","BE","M","031009","031009","COMP"]
[2264524,"TRONEL","ROMAIN","BE","M","031004","031004","COMP"]
[2265147,"DRAPEAU","CLARA","MI","F","031012","031012","COMP"]
[2265163,"FAVIER","LEONARD","BE","M","031034","031034","COMP"]
[2265259,"FEUVRIE VO HOANG","HECTOR","BE","M","034066","034066","COMP"]
[2265272,"MARCEL","CORALINE","MI","F","031034","031034","COMP"]
[2265354,"FAVAND ARJALIES","ETANAEL","BE","M","034066","034066","COMP"]
[2265383,"BARAZE","ALAN","BE","M","081053","081053","COMP"]
[2265394,"HASLER","ANGUS","BE","M","034066","034066","COMP"]
[2265418,"LAIR","MARGAUX","BE","F","032014","032014","COMP"]
[2265686,"MOUGEL","LILWENN","BE","F","032014","032014","COMP"]
[2265761,"MOGUEROU","LUCAS","BE","M","031034","031034","COMP"]
[2265776,"LAPALU","CLEMENT","MI","M","031004","031004","COMP"]
[2265883,"CORRE CAMPIGOTTO","TITOUAN","MI","M","031043","031043","COMP"]
[2265892,"BEAUDOIRE","LOU-ANNE","BE","F","031043","031043","COMP"]
[2265898,"COURADETTE","FANNY","MI","F","031043","031043","COMP"]
[2265905,"PAOLETTI","ALYSSA","MI","F","031043","031043","COMP"]
[2265930,"LESCURE","ADRIEN","MI","M","031043","031043","COMP"]
[2265939,"SALABERT","ELEA","BE","F","031043","031043","COMP"]
[2266128,"FARJOUNEL","DANIA","BE","F","082018","082018","COMP"]
[2266366,"CONDIS","MAXIME","MI","M","031046","031046","COMP"]
[2266367,"BOSCHINI","ALBAN","BE","M","031046","031046","COMP"]
[2266376,"POMES","FLORIAN","MI","M","031043","031043","COMP"]
[2267443,"CAYEUX","LENA","BE","F","031034","031034","COMP"]
[2267473,"BARBERO","MILA","MI","F","031034","031034","COMP"]
[2267494,"BURGES","CYPRIAN","BE","M","082017","082017","COMP"]
[2267542,"LADU","CLARA","MI","F","082017","082017","COMP"]
[2267771,"CALAS","LUNA","BE","F","031035","031035","COMP"]
[2267794,"ARNAULD","SOLANN","MI","M","031035","031035","COMP"]
[2267808,"CLERGEAUD","ETIENNE","BE","M","031035","031035","COMP"]
[2267812,"MEYNIEL","ANAIS","BE","F","031035","031035","COMP"]
[2267814,"KOUBAA","RANIA","MI","F","030040","030040","COMP"]
[2268046,"BELLOUARD","JULIETTE","MI","F","031004","031004","COMP"]
[2268597,"BOUEKE","RINNA","MI","F","031043","031043","COMP"]
[2269063,"FRANCOIS","SAMUEL","MI","M","031043","031043","COMP"]
[2269252,"BELLAAROUSSI","BILAL","BE","M","030003","030003","COMP"]
[2269400,"BORLOT","ROBIN","BE","M","034062","034062","COMP"]
[2269473,"MOREAU","LOLA","BE","F","034062","034062","COMP"]
[2269482,"WOJCIK","LUNA","MI","F","034062","034062","COMP"]
[2269910,"PELLEREI","NOAM","BE","M","032014","032014","COMP"]
[2270187,"PALAU","CORENTIN","BE","M","031015","031015","COMP"]
[2270192,"TRIFFAULT","MATHIAS","BE","M","031015","031015","COMP"]
[2270201,"BOUSSELY","TIMOTE","BE","M","031015","031015","COMP"]
[2270231,"VERWEYEN","CARL-ERIK","MI","M","031015","031015","COMP"]
[2270235,"LARROQUE","IBAN","MI","M","031015","031015","COMP"]
[2270251,"DUROSELLE","BLANDINE","MI","F","031015","031015","COMP"]
[2270410,"GROS","ALICE","BE","F","031035","031035","COMP"]
[2270534,"SIMEAO","GABRIEL","BE","M","031042","031042","COMP"]
[2270637,"KUBRAK","LOUISE","BE","F","031009","031009","COMP"]
[2270870,"MANENC","ELISA","MI","F","081048","081048","COMP"]
[2270871,"MANENC","JUSTINE","MI","F","081048","081048","COMP"]
[2271418,"KECHACHA","NAWFEL","MI","M","031015","031015","COMP"]
[2271422,"KECHACHA","AYMEN","MI","M","031015","031015","COMP"]
[2271885,"KOSSIDAS PAAVONEN","IOANNIS","MI","M","034066","034066","COMP"]
[2272479,"CASTANDET","CLOE","BE","F","034012","034012","COMP"]
[2272565,"ITIER","FLORENT","BE","M","034038","034038","COMP"]
[2272588,"CHEVE","ANGELE","MI","F","034038","034038","COMP"]
[2272592,"LASSERES","MARGOT","BE","F","032002","032002","COMP"]
[2272786,"ALBAR","CHLOE","MI","F","031022","031022","COMP"]
[2273086,"PREYS","EMILIA","BE","F","034072","034072","COMP"]
[2273689,"REYNAUD","GABY","BE","F","034457","034457","COMP"]
[2273758,"BARBELIVIEN","JUDE","BE","M","031039","031039","COMP"]
[2273797,"PUJOL","QUENTIN","BE","M","031039","031039","COMP"]
[2273866,"AGUSSOL","DORIAN","BE","M","034066","034066","COMP"]
[2273868,"GUARY","ALEXIS","BE","M","034066","034066","COMP"]
[2274099,"KHICHANE","JADE","BE","F","011001","011001","COMP"]
[2274144,"BORREL HUBERT","DAPHNE","BE","F","034066","034066","COMP"]
[2274149,"BORNET-FRANCES","TOM","MI","M","034066","034066","COMP"]
[2274200,"MOREAU","MALONE","BE","M","034064","034064","COMP"]
[2274244,"CHARTON","JULIETTE","MI","F","034058","034058","COMP"]
[2274533,"MARTIN","LILY","MI","F","034062","034062","COMP"]
[2274653,"SABLE","AYO","MI","F","034066","034066","COMP"]
[2274658,"TRAVIER","CAMILLE","BE","M","034066","034066","COMP"]
[2274878,"FERRAND","EMIE","MI","F","065003","065003","COMP"]
[2275174,"FRAYSSE","PAULINE","BE","F","011001","011001","COMP"]
[2275604,"FEUZ","QUENTIN","MI","M","031022","031022","COMP"]
[2275803,"GEISLER","NOAN","BE","M","012018","012018","COMP"]
[2275923,"TROLEZ","MAXIME","BE","M","034065","034065","COMP"]
[2275991,"LACLAU","MAEL","BE","M","081052","081052","COMP"]
[2276073,"ALONSO","CLEMENCE","MI","F","034021","034021","COMP"]
[2276272,"BRUS","MATHILDA","BE","F","031025","031025","COMP"]
[2276338,"SIRIAC","MARA","MI","F","065012","065012","COMP"]
[2276442,"BOURGEOIS","ELENI","BE","F","011016","011016","COMP"]
[2276561,"KERVIEL","TILIO","BE","M","034036","034036","COMP"]
[2277091,"BRINGOUX","MAEVA","MI","F","031046","031046","COMP"]
[2277413,"MONNIER","LIVIO","BE","M","031004","031004","COMP"]
[2277423,"PAILLOUX","MARGOT","MI","F","031004","031004","COMP"]
[2277478,"VIGIER","AEDAN","BE","M","031004","031004","COMP"]
[2277528,"DUBOURDIEU","GABRIEL","MI","M","031004","031004","COMP"]
[2277536,"ABERKANE","RIWAN","MI","M","031056","031056","COMP"]
[2277538,"RAHMANE","INES","BE","F","031015","031015","COMP"]
[2277583,"GIOIA","MATHIAS","MI","M","031004","031004","COMP"]
[2277593,"AHRIDA ZIRAOUI","NAWFEL","MI","M","031056","031056","COMP"]
[2277595,"RUIZ","NOLAN","MI","M","031004","031004","COMP"]
[2277607,"HERVY","EUGENIE","MI","F","031004","031004","COMP"]
[2277666,"MARCHANT","JEREMY","MI","M","031012","031012","COMP"]
[2277714,"DANIAL-FORTAIN","BAPTISTE","MI","M","031050","031050","COMP"]
[2277740,"BEN MIMOUN","SOUHEILA","MI","F","031012","031012","COMP"]
[2277966,"ROUSSET","OWANE","BE","F","031039","031039","COMP"]
[2278212,"RENAULT","IRIS","BE","F","034036","034036","COMP"]
[2278557,"DEMARLIERE","DAVID","MI","M","011016","011016","COMP"]
[2279227,"BEN RAHOU","MILA","BE","F","082017","082017","COMP"]
[2279643,"DUBOSQ-FARENC","ELIAS","BE","M","081053","081053","COMP"]
[2279829,"ARRONDEL-NIRLO","OCEANE","MI","F","031003","031003","COMP"]
[2279896,"RAFFEL","MANON","MI","F","031003","031003","COMP"]
[2279918,"FOURNIER","ELORA","MI","F","082017","082017","COMP"]
[2279999,"DAVIENNE","RAPHAEL","BE","M","034065","034065","COMP"]
[2280152,"LAUGIER","EVA","MI","F","030040","030040","COMP"]
[2280371,"VENTURA","RAPHAEL","MI","M","034064","034064","COMP"]
[2280709,"PEYRET","LOUIS","BE","M","065006","065006","COMP"]
[2280801,"PERION","LUDIVINE","BE","F","031004","031004","COMP"]
[2280809,"NOVES","CONSTANCE","BE","F","031004","031004","COMP"]
[2280865,"MORISSONNEAU","ARTHUR","MI","M","031008","031008","COMP"]
[2280927,"LEGUILLON","CHARLIE","BE","M","034066","034066","COMP"]
[2281119,"FONTAN","JEANNE","MI","F","065012","065012","COMP"]
[2281211,"MOUIMEN","NELLE","MI","F","065012","065012","COMP"]
[2281428,"ESCRIVA","LAURINE","BE","F","030008","030008","COMP"]
[2281468,"CHABANNES","NIELS","BE","M","034072","034072","COMP"]
[2281509,"BAZALGE","NINON","BE","F","034066","034066","COMP"]
[2281778,"ISEPPI","GIULIANA","BE","F","031015","031015","COMP"]
[2281796,"MARTI","MAXIME","MI","M","066027","066027","COMP"]
[2281818,"BOSOM","CLEMENT","MI","M","066027","066027","COMP"]
[2281831,"VERCHERE","INMA","MI","F","030060","030060","COMP"]
[2282295,"BONIFACE","NAEL","BE","M","065027","065027","COMP"]
[2282531,"FABRE","AMBRE","BE","F","034038","034038","COMP"]
[2283385,"BARTHE","MILA","BE","F","032002","032002","COMP"]
[2283587,"VERFAILLIE","MAEL","BE","M","082014","082014","COMP"]
[2283668,"DIRAT","VALENTIN","BE","M","082014","082014","COMP"]
[2283716,"ROCHE","MAIXENT","MI","M","034072","034072","COMP"]
[2284198,"GAUDEFROY","LOUAN","BE","M","081021","081021","COMP"]
[2284201,"PARDO","LUCA","BE","M","030021","030021","COMP"]
[2284210,"BENEZET","LEANE","BE","F","030021","030021","COMP"]
[2284413,"CUCULIERE","LESIA","BE","F","031062","031062","COMP"]
[2284420,"VIARD JOYE","LEAH","MI","F","031062","031062","COMP"]
[2284431,"BACH","MATHIS","BE","M","031062","031062","COMP"]
[2284438,"TARDIF","JADE","BE","F","031062","031062","COMP"]
[2284443,"LIMES","JULIETTE","BE","F","031062","031062","COMP"]
[2284446,"CENAC","ETHAN","BE","M","031062","031062","COMP"]
[2284895,"VIZUETE","BAPTISTE","MI","M","030074","030074","COMP"]
[2284897,"BEAUMONT","FANNY","BE","F","081017","081017","COMP"]
[2284979,"BOTEREL","LEO","BE","M","031009","031009","COMP"]
[2285001,"DEBRAY","ALESSIA","BE","F","034065","034065","COMP"]
[2285040,"XAVIER","FLORENTIN","BE","M","012005","012005","COMP"]
[2285106,"TOUMASS","SANAE","BE","F","030003","030003","COMP"]
[2285113,"ARNAUD","LOUISE","BE","F","030003","030003","COMP"]
[2285782,"CROUZET","NATHAN","BE","M","031022","031022","COMP"]
[2286199,"DAGNAS","MANON","MI","F","034038","034038","COMP"]
[2286552,"EL HADRI","ILIAS","BE","M","066028","066028","COMP"]
[2286572,"HELAINE","MAIWENN","BE","F","066028","066028","COMP"]
[2286600,"FACENDA","JULIETTE","MI","F","030060","030060","COMP"]
[2286605,"FAUQUE","NOEMIE","MI","F","030060","030060","COMP"]
[2286611,"JEAN","ANTOINE","BE","M","030060","030060","COMP"]
[2286768,"TORMO","FLAVY","MI","F","011022","011022","COMP"]
[2286870,"FURNEMONT","MATHIS","MI","M","031025","031025","COMP"]
[2286938,"BELLANCA","LAURA","MI","F","031022","031022","COMP"]
[2286978,"REGNAULT","NOAM","MI","M","031015","031015","COMP"]
[2287593,"GRENIER","VIKTOR","MI","M","034038","034038","COMP"]
[2287648,"MAURIN","CASSY","BE","F","030059","030059","COMP"]
[2288301,"SPAGNOLI","MANON","BE","F","011020","011020","COMP"]
[2288962,"MOLINIE PAGES","MADELEINE","BE","F","031015","031015","COMP"]
[2289067,"LIEVEAUX ALONSO","TERRY","MI","M","082017","082017","COMP"]
[2289812,"CASTILLO","TAHYS","BE","M","034064","034064","COMP"]
[2289880,"COURREGE","STELLA","MI","F","009011","009011","COMP"]
[2289923,"MONLONG","MAITE","BE","F","031003","031003","COMP"]
[2290064,"BERAUD","LOUIS","BE","M","030060","030060","COMP"]
[2290116,"PERFETTINI","NOAH","BE","M","046012","046012","COMP"]
[2290134,"COLLIER","AUGUSTIN","BE","M","046012","046012","COMP"]
[2290150,"DEBRUN","JULIETTE","BE","F","046012","046012","COMP"]
[2290641,"CHATAIL","LEONIE","MI","F","034066","034066","COMP"]
[2290940,"LOURADOUR","JEREMY","MI","M","031025","031025","COMP"]
[2291030,"SAJID","ADAM","MI","M","066003","066003","COMP"]
[2291390,"MAUPOUX","ELLA","BE","F","030040","030040","COMP"]
[2291777,"RIBEYROL","MAELIA","BE","F","030003","030003","COMP"]
[2291793,"JOUGLA","LOLA","MI","F","030003","030003","COMP"]
[2291911,"GOMES","NOE","MI","M","031063","031063","COMP"]
[2291916,"HABLOT","MATHIS","BE","M","030067","030067","COMP"]
[2292400,"KASSAR","ADRIEN","MI","M","031004","031004","COMP"]
[2292907,"WEISSGERBER","NATHAN","MI","M","009001","009001","COMP"]
[2292921,"GUERIN","MATHIS","MI","M","009011","009011","COMP"]
[2293005,"PAMPHILE","MAILI","MI","F","066006","066006","COMP"]
[2293282,"MAUREL","VALENTIN","BE","M","046012","046012","COMP"]
[2293355,"DESWERT","TERANCE","MI","M","030003","030003","COMP"]
[2293705,"GAYRAUD","VIOLETTE","MI","F","012018","012018","COMP"]
[2293951,"NICOT","LUCAS","BE","M","081055","081055","COMP"]
[2294409,"BOUTARA","NOHAM","BE","M","034058","034058","COMP"]
[2294452,"CROS-SAUSSOL","LOUISE","MI","F","012002","012002","COMP"]
[2294464,"VALETTE","ELOISE","MI","F","034062","034062","COMP"]
[2294470,"VALETTE","CAMILLE","BE","F","034062","034062","COMP"]
[2294499,"CABOCEL","LEONIE","MI","F","011001","011001","COMP"]
[2294805,"RAMIREZ","CATALEYA","BE","F","031062","031062","COMP"]
[2294809,"GUE","CHLOE","BE","F","031062","031062","COMP"]
[2294944,"SUAREZ RIESCO","SIMONETA","BE","F","009011","009011","COMP"]
[2295478,"CALDAS ARAUJO","ANDY","BE","M","030018","030018","COMP"]
[2296064,"ALVADO","LORIS","MI","M","030021","030021","COMP"]
[2296083,"BESTILLE-ESCRIVA","INES","BE","F","030021","030021","COMP"]
[2296159,"THIRANT TOMATIS","INDIA","BE","F","065005","065005","COMP"]
[2296318,"HERTMANN","LUCIE","MI","F","034066","034066","COMP"]
[2296939,"FERRAND","MATHIS","MI","M","034012","034012","COMP"]
[2297495,"FILLIERE","MANON","BE","F","048004","048004","COMP"]
[2297556,"JOUHET","TIMOTHEE","BE","M","031034","031034","COMP"]
[2297708,"ROUANI","SAMI","BE","M","031003","031003","COMP"]
[2297750,"BARAHIRA","ALIYAH","MI","F","031056","031056","COMP"]
[2297814,"DAVID","ANGELINE","BE","F","034068","034068","COMP"]
[2297820,"DELONCA","JEANNE","MI","F","034068","034068","COMP"]
[2297828,"FRANCES","ANA","BE","F","034068","034068","COMP"]
[2297833,"FRAYSSE","ROMARIC","MI","M","034068","034068","COMP"]
[2297928,"THEOPHILE","LILIAN","BE","M","048004","048004","COMP"]
[2297956,"ROUGE","MARGOT","BE","F","031042","031042","COMP"]
[2297973,"DEPOISIER","CORENTIN","MI","M","048004","048004","COMP"]
[2298009,"FELTESSE SADRE","ARMAN","BE","M","034021","034021","COMP"]
[2298479,"RAFFAILLAC","RAPHAEL","MI","M","009002","009002","COMP"]
[2299408,"ZENNOU","NAOUFAL","MI","M","034012","034012","COMP"]
[2299479,"POUTREL","PIERROT","BE","M","030008","030008","COMP"]
[2299502,"MAURY","IRIS","MI","F","034012","034012","COMP"]
[2299778,"GUILLOUT","ALICE","BE","F","034058","034058","COMP"]
[2299797,"MONCADE","AGATHE","BE","F","012008","012008","COMP"]
[2299977,"MAZARS","CHLOE","MI","F","031056","031056","COMP"]
[2300104,"GUARNACCIA","AXEL","BE","M","031056","031056","COMP"]
[2300118,"PENE","CAMILLE","BE","F","031056","031056","COMP"]
[2300227,"OLIVARES","CANDICE","MI","F","031003","031003","COMP"]
[2300716,"FAZION","LENY","MI","M","011001","011001","COMP"]
[2301259,"BOUSSUGE","LOIS","BE","M","031022","031022","COMP"]
[2301267,"CORNEC","MANON","MI","F","031063","031063","COMP"]
[2301365,"MENNESSON","CHARLOTTE","BE","F","034062","034062","COMP"]
[2301386,"HMIDOUCH","YASSIN","BE","M","081048","081048","COMP"]
[2301614,"MAS","MARINE","BE","F","030018","030018","COMP"]
[2301631,"MARTIN","LEA","BE","F","030018","030018","COMP"]
[2301865,"ROUSSEAU","VALENTIN","BE","M","031050","031050","COMP"]
[2302629,"CAPON","FLEOLE","MI","F","034474","034474","COMP"]
[2302698,"LYEGRE","JULIETTE","MI","F","034474","034474","COMP"]
[2302869,"SENAUX","ALIZE","BE","F","034065","034065","COMP"]
[2302901,"LAOUKIRI","LINA","BE","F","034065","034065","COMP"]
[2303108,"BONED","CYPRIEN","BE","M","031025","031025","COMP"]
[2303110,"MOSELE","ROSALIE","MI","F","031025","031025","COMP"]
[2303114,"LEROY","MAELLE","BE","F","031025","031025","COMP"]
[2303119,"SOULET","AXELLE","BE","F","031025","031025","COMP"]
[2303235,"FOURCADE","JULES","MI","M","031025","031025","COMP"]
[2303472,"PRIKHODKO","PHENIX","BE","M","034062","034062","COMP"]
[2303531,"LE DILHUIT","MATHIAS","MI","M","065012","065012","COMP"]
[2303808,"ARBERET","ROMANE","MI","F","065006","065006","COMP"]
[2303848,"BOISSEL","ARNAUD","BE","M","065006","065006","COMP"]
[2304189,"NEJJARI","YASMINE","BE","F","081062","081062","COMP"]
[2304210,"NOURI","SAMY","MI","M","009001","009001","COMP"]
[2304333,"BOUISSET","JADE","MI","F","081043","081043","COMP"]
[2304429,"CONIL","MARCUS","BE","M","034065","034065","COMP"]
[2304721,"DENNIEL ATLAN","HUGO","BE","M","031062","031062","COMP"]
[2304889,"PONS","EVA","MI","F","012005","012005","COMP"]
[2304976,"BENCHIMOL","RAPHAELLE","MI","F","031050","031050","COMP"]
[2305003,"BACARIA LOPEZ","JULIE","BE","F","031025","031025","COMP"]
[2305013,"DE SOUZA","JADE","BE","F","031050","031050","COMP"]
[2305028,"AUSSAGUES","ANGELE","BE","F","031050","031050","COMP"]
[2305135,"ZINE","YNES","BE","F","011016","011016","COMP"]
[2305494,"ZAGHAR-BOYER","SOFIA","BE","F","034072","034072","COMP"]
[2306437,"BRUNET","LOU","BE","F","031039","031039","COMP"]
[2306615,"RAMAJO","MAIALEN","MI","F","032002","032002","COMP"]
[2306726,"ROIZANT","ELISA","BE","F","032002","032002","COMP"]
[2306921,"GRAFF-NAHMANI","GABRIEL","MI","M","034021","034021","COMP"]
[2306948,"PERES","OSCAR","MI","M","081044","081044","COMP"]
[2307079,"MARIE","OSCAR","BE","M","031056","031056","COMP"]
[2307376,"VAN MIDDELKOOP","ADAM","MI","M","034069","034069","COMP"]
[2307404,"CASTET","EMMA","MI","F","065025","065025","COMP"]
[2307445,"ESCOUBAS","ANTON","BE","M","065025","065025","COMP"]
[2307658,"BOMPAS","ANAELLE","BE","F","032006","032006","COMP"]
[2307756,"LAPOTRE","JULIETTE","BE","F","046012","046012","COMP"]
[2307963,"LAUZIN","BAPTISTE","BE","M","065003","065003","COMP"]
[2308247,"DUTEIL","LOUISE","BE","F","081047","081047","COMP"]
[2308260,"FUCHS","LOUISON","MI","F","030067","030067","COMP"]
[2308391,"MISHELETTI","GABRIEL","MI","M","011001","011001","COMP"]
[2308474,"NOUAILLES","MARC","MI","M","082018","082018","COMP"]
[2308564,"FARAJ","AYMAN","BE","M","030040","030040","COMP"]
[2308648,"EL HAMDI","SYRINE","BE","F","030003","030003","COMP"]
[2308802,"THOMAS","GWENAELLE","BE","F","034069","034069","COMP"]
[2308826,"BRICARD","MARIUS","BE","M","030008","030008","COMP"]
[2309537,"SORLI","NINON","BE","F","034012","034012","COMP"]
[2309591,"ESCOUBET","MAEL","BE","M","034055","034055","COMP"]
[2309921,"MAILLE","ENZO","BE","M","066006","066006","COMP"]
[2309924,"KOOB","NAELLE","BE","F","011001","011001","COMP"]
[2309999,"RABIER","LUNA","BE","F","012002","012002","COMP"]
[2310034,"NGUYEN-VANDEPUTTE","TAO","MI","M","012002","012002","COMP"]
[2310046,"TEILLARD","ANTONIN","MI","M","034068","034068","COMP"]
[2310208,"OUEDGHIRI","SAFAE","BE","F","011022","011022","COMP"]
[2310299,"LIMONGI-CHAVIGNON","LUKA","BE","M","034038","034038","COMP"]
[2310527,"CARRIERE BIELLE","EMIE","MI","F","081017","081017","COMP"]
[2311101,"PAGES","EMMA","MI","F","034069","034069","COMP"]
[2311106,"RAYNAUD","ZOE","MI","F","031025","031025","COMP"]
[2311335,"COURDIER","RAPHAEL","BE","M","082017","082017","COMP"]
[2312400,"SERMET","CLAIRE","MI","F","031043","031043","COMP"]
[2312402,"OLIER","ELISA","BE","F","012003","012003","COMP"]
[2312829,"MASSART","BENJAMIN","BE","M","034068","034068","COMP"]
[2314000,"FORGUE","MARLENE","MI","F","031050","031050","COMP"]
[2314068,"GARCIA-SANCHEZ","NICOLAS","BE","M","031009","031009","COMP"]
[2314471,"LALAUZE","ELSA","MI","F","030004","030004","COMP"]
[2314524,"FRUCHART","SASHA","BE","M","030021","030021","COMP"]
[2314673,"MALLET FILLOL","LORENA","MI","F","034068","034068","COMP"]
[2314761,"MAZZON-PALUMBO","ROMANE","BE","F","034058","034058","COMP"]
[2315076,"CHEVAUCHE","LOUIS","MI","M","081046","081046","COMP"]
[2315311,"GUENOUN","ALEC","MI","M","066028","066028","COMP"]
[2315873,"AUBANIAC","JEANNE","BE","F","081045","081045","COMP"]
[2316219,"DELMAS","ROMANE","MI","F","048007","048007","COMP"]
[2316580,"TEISSERENC","AUGUSTIN","MI","M","034012","034012","COMP"]
[2317191,"VILLARD RIPERT","LAURA","MI","F","030059","030059","COMP"]
[2317239,"POULMARC H","TITOUAN","BE","M","034058","034058","COMP"]
[2317254,"GONCALVES PEREIRA","AYANO","MI","M","034058","034058","COMP"]
[2318293,"MARTIN LECLERC","PAUL","MI","M","030003","030003","COMP"]
[2318620,"JABBARI","AYOUB","MI","M","030059","030059","COMP"]
[2318830,"BRASSAC-VALLES","MARILOU","MI","F","048004","048004","COMP"]
[2318893,"ACHOURI","ASSIA","BE","F","012002","012002","COMP"]
[2318896,"PAILHAS","LISON","BE","F","012002","012002","COMP"]
[2318898,"CLAVEL","CELIA","BE","F","012002","012002","COMP"]
[2319210,"BLAIVIE","HUGO","BE","M","081056","081056","COMP"]
[2319239,"FIAN RICHMOND","TIDJANE","MI","M","031025","031025","COMP"]
[2319306,"LANNE","MARTIN","MI","M","065027","065027","COMP"]
[2319310,"LAVA","LEO","BE","M","081056","081056","COMP"]
[2320203,"BUFFO","NOE","BE","M","081054","081054","COMP"]
[2320205,"GRES","JULIETTE","BE","F","081054","081054","COMP"]
[2321382,"VERHAEGHE","ZOE","MI","F","034066","034066","COMP"]
[2321502,"SERRE","AGATHE","BE","F","081017","081017","COMP"]
[2321539,"RAFFOUX","NOE","MI","M","048004","048004","COMP"]
[2322549,"BOUCHI-LAMONTAGNE","MARCEAU","MI","M","030004","030004","COMP"]
[2322807,"BRU BERTOUT","VIRGILE","MI","M","034072","034072","COMP"]
[2323214,"BUSATO","LOLA","MI","F","032002","032002","COMP"]
[2323416,"CHASSERIAU","COME","BE","M","066028","066028","COMP"]
[2323570,"AFNIGHAR","SAWSANE","BE","F","034066","034066","COMP"]
[2323924,"LE BRIS","LOUISE","MI","F","031004","031004","COMP"]
[2324007,"GAMEIRO","NOA","MI","M","082017","082017","COMP"]
[2324102,"LE FORESTIER","NAHEL","BE","M","046008","046008","COMP"]
[2324485,"TARDIEU","NATHAEL","BE","M","081051","081051","COMP"]
[2325016,"GABRIELLI","VINCENT","BE","M","046012","046012","COMP"]
[2325300,"ABDALLAH","EVELYNA","MI","F","030040","030040","COMP"]
[2325709,"POULINGUE","RYAN","BE","M","032002","032002","COMP"]
[2325817,"MEVEL","ROZENN","BE","F","032006","032006","COMP"]
[2325878,"ESTRAGNAT","HECTOR","BE","M","081021","081021","COMP"]
[2326301,"RIMAUD","ZOE","BE","F","065012","065012","COMP"]
[2326302,"RIMAUD","NINA","BE","F","065012","065012","COMP"]
[2327079,"TARRAJAT","SOREN","BE","M","034066","034066","COMP"]
[2327137,"BAUVILLE","LESIA","BE","F","034058","034058","COMP"]
[2327662,"SALES","EMMA","BE","F","032006","032006","COMP"]
[2328133,"ZINSSNER NAVARRO","ALEXANDRE","BE","M","034021","034021","COMP"]
[2328223,"BAUDRY","LOUISE","MI","F","034068","034068","COMP"]
[2328269,"TOUDIC RUBI","TIDIANE","BE","M","030018","030018","COMP"]
[2328385,"FABRIES","ANGELO","BE","M","081017","081017","COMP"]
[2328412,"BUISSON","CLEA","BE","F","065003","065003","COMP"]
[2328521,"VIGUIER","CLOE","BE","F","081054","081054","COMP"]
[2329598,"LAHIRE","YLANN","BE","M","065005","065005","COMP"]
[2329614,"JANAU","CAMILLE","BE","F","031042","031042","COMP"]
[2329931,"LACOUR","ELSA","BE","F","034068","034068","COMP"]
[2330600,"VILLARD RIPERT","MAELISS","BE","F","030059","030059","COMP"]
[2331378,"MALESIC","AXEL","BE","M","030018","030018","COMP"]
[2331864,"BORGA","YANIS","BE","M","065012","065012","COMP"]
[2331938,"FRACHON","CLARA","BE","F","030003","030003","COMP"]
[2332027,"PELEMAN","ELEA","BE","F","030059","030059","COMP"]
[2332133,"MOUTARDE","GARANCE","MI","F","081056","081056","COMP"]
[2332426,"FERREIRA VIGNAUX","TIMEO","BE","M","009011","009011","COMP"]
[2332583,"VERBECKE","NOLA","MI","F","011022","011022","COMP"]
[2332678,"CORTES","SANDRO","BE","M","034457","034457","COMP"]
[2333348,"BAUDRIT","NOLAN","MI","M","046014","046014","COMP"]
[2333642,"DAUBY","MAYLIS","MI","F","031025","031025","COMP"]
[2333927,"GREGOIRE","LOUISE","BE","F","031015","031015","COMP"]
[2333956,"BOUYGE","LUCIE","BE","F","031056","031056","COMP"]
[2334018,"VENEZIA","EVA","BE","F","034068","034068","COMP"]
[2334199,"JACQUES","AARON","BE","M","030059","030059","COMP"]
[2334427,"GILLIARD","JULIETTE","BE","F","034457","034457","COMP"]
[2334804,"BOULER","SUZIE","BE","F","031056","031056","COMP"]
[2334920,"ALQUIER","NOEMIE","BE","F","031025","031025","COMP"]
[2335767,"CALMELS","FLORIAN","MI","M","031001","031001","COMP"]
[2335813,"VIRION","JOSEPHINE","MI","F","011022","011022","COMP"]
[2336616,"MAHAMAT-COLL","LOHAN","BE","M","034454","034454","COMP"]
[2336660,"ROQUIGNY","CASSIE","MI","F","031025","031025","COMP"]
[2336940,"BELKAID","ANES","MI","M","031025","031025","COMP"]
[2337163,"LENOBLE","CHIARA","BE","F","031050","031050","COMP"]
[2337323,"IZARD","DYLAN","MI","M","081054","081054","COMP"]
[2337598,"KORVER","LUCILE","BE","F","031012","031012","COMP"]
[2337599,"LEBAS","CHARLINE","BE","F","031012","031012","COMP"]
[2337603,"DEYBER","ELOISE","BE","F","031004","031004","COMP"]
[2337610,"GASPARD","MAELY","MI","F","031004","031004","COMP"]
[2337615,"BOINOT","MARTIN","MI","M","031004","031004","COMP"]
[2337618,"CORBALAN","MAXIME","BE","M","031004","031004","COMP"]
[2337621,"LAVAUX-HAURET","LOU","BE","F","031004","031004","COMP"]
[2337626,"LAVERGNE","PERRINE","MI","F","031004","031004","COMP"]
[2337627,"ARTEIL","ALICE","MI","F","031004","031004","COMP"]
[2337969,"ROLLAND","ALICE","BE","F","031043","031043","COMP"]
[2337979,"REBER","LUCIE","BE","F","031034","031034","COMP"]
[2338020,"KLEIN","GARANCE","MI","F","031034","031034","COMP"]
[2338021,"DEWAVRIN","SARAH","MI","F","031034","031034","COMP"]
[2338023,"BORDAS","JANE","MI","F","031034","031034","COMP"]
[2338038,"GUERY","NINA","BE","F","031034","031034","COMP"]
[2338040,"BOURSICAUD","CLELIE","BE","F","031034","031034","COMP"]
[2338117,"GUERRERO","MATHYS","MI","M","031063","031063","COMP"]
[2338314,"SPITZ","CLEA","MI","F","031022","031022","COMP"]
[2338764,"OBERLE","LEO","BE","M","066003","066003","COMP"]
[2338835,"MARTIN-BLONDEL","LUCIE","BE","F","031034","031034","COMP"]
[2338868,"GINISTY","AUDREY","MI","F","082017","082017","COMP"]
[2338882,"FOK BOR","INES","BE","F","031034","031034","COMP"]
[2339249,"PECH","MATHILDE","BE","F","031034","031034","COMP"]
[2339252,"STRASBACH","MARIUS","BE","M","031034","031034","COMP"]
[2339255,"LE LUDEC","ALANA","BE","F","031034","031034","COMP"]
[2339593,"BERTORELLE","JAINA","MI","F","031015","031015","COMP"]
[2339771,"GAILLAC","ABEL","BE","M","031001","031001","COMP"]
[2340186,"SOUQUE","ELEANA","BE","F","031062","031062","COMP"]
[2340317,"CINQ","CELIA","BE","F","012003","012003","COMP"]
[2340453,"CHARLES","LENA","BE","F","031062","031062","COMP"]
[2340782,"LASSALLE","EULALIE","BE","F","031004","031004","COMP"]
[2340815,"TREGINE-REGENT","ARTHUR","BE","M","031015","031015","COMP"]
[2340870,"SADOUL","ALEXIS","BE","M","031015","031015","COMP"]
[2341106,"SIMOES ALVES BOUDON","RAPHAEL","BE","M","048004","048004","COMP"]
[2341209,"ISSOT","CLARA","MI","F","031035","031035","COMP"]
[2341396,"JUILLET","ROSINE","BE","F","031039","031039","COMP"]
[2341485,"BAYLE","LUCILE","MI","F","031062","031062","COMP"]
[2341490,"CAMBOULIVE","FLORE","BE","F","031042","031042","COMP"]
[2341762,"CARRERE","ETHAN","BE","M","065006","065006","COMP"]
[2342061,"PIAZZA","NAHIA","BE","F","031015","031015","COMP"]
[2342077,"GABAS ORIOL","LAURA","BE","F","031015","031015","COMP"]
[2342110,"COUSSY","THEODORE","MI","M","034066","034066","COMP"]
[2342146,"DENUS","NOA","BE","M","034066","034066","COMP"]
[2342232,"AUGUSTE","ALAIS","BE","F","034038","034038","COMP"]
[2342265,"LAMBERT","HECTOR","BE","M","034066","034066","COMP"]
[2342348,"GARCIA","LEO","BE","M","081048","081048","COMP"]
[2342370,"DUVAL DEBLOIS","GABIE","BE","F","034066","034066","COMP"]
[2342487,"TAVENEAU","TITOUAN","MI","M","031043","031043","COMP"]
[2342553,"SARRHINI","SARAH-YASMINE","BE","F","031034","031034","COMP"]
[2342579,"CODEMO","MAXIME","BE","M","030059","030059","COMP"]
[2342642,"MEILLIER","MAELYS","BE","F","031034","031034","COMP"]
[2342649,"OLIVIERI","ESTEBAN","BE","M","031046","031046","COMP"]
[2343089,"EISELE","LOUIS","MI","M","082017","082017","COMP"]
[2343116,"CROUZET","INES","MI","F","011001","011001","COMP"]
[2343340,"BONHOMME-RIVAUX","CLEMENT","BE","M","031004","031004","COMP"]
[2343464,"SENAC","MAXIME","MI","M","065012","065012","COMP"]
[2343674,"GIRARD","TYMEO","BE","M","034457","034457","COMP"]
[2343692,"HARO","ERINE","BE","F","031035","031035","COMP"]
[2343702,"CALESTROUPAT","DAMIEN","BE","M","031034","031034","COMP"]
[2343764,"TRUFLANDIER","RAPHAEL","MI","M","031012","031012","COMP"]
[2343847,"JOFFRE","GABRIEL","MI","M","031015","031015","COMP"]
[2344310,"CHEZE","TIMOTHE","BE","M","031056","031056","COMP"]
[2345030,"PATARIN","IRIS","BE","F","031042","031042","COMP"]
[2345050,"WARSZAWSKI","NINO","BE","M","031042","031042","COMP"]
[2345064,"GEORGET","ROBIN","MI","M","034072","034072","COMP"]
[2345067,"ETIENNE LOPEZ","ESTELLE","BE","F","034066","034066","COMP"]
[2346368,"LOPES","EVA","MI","F","065012","065012","COMP"]
[2346696,"GENDRE FOURNIER","LOUISE","MI","F","034038","034038","COMP"]
[2346803,"ISOIR","LEO","MI","M","034457","034457","COMP"]
[2347076,"FLORES","OIHAN","BE","M","031039","031039","COMP"]
[2347138,"MONTANINO","MAELLY","BE","F","082017","082017","COMP"]
[2347578,"FARRE FROPIER","AUBIN","MI","M","031035","031035","COMP"]
[2347821,"HUYNH","ELIJAH","BE","M","065012","065012","COMP"]
[2347846,"CHASSAGNAT","LUCA","BE","M","081062","081062","COMP"]
[2347854,"GROLLEAU-VERGNES","MORGANE","MI","F","012003","012003","COMP"]
[2347868,"BATUT VERCHEL","NOE","BE","M","081062","081062","COMP"]
[2348131,"BAUDIN","ELIOTT","BE","M","031063","031063","COMP"]
[2348359,"BARIZZA","GENNARO","MI","M","031063","031063","COMP"]
[2348397,"LEFORT","RAPHAEL","BE","M","031063","031063","COMP"]
[2348551,"CHAVEZ","HECTOR","BE","M","034066","034066","COMP"]
[2348562,"BONNET","MARIUS","BE","M","034066","034066","COMP"]
[2348716,"RODIER","CHLOE","BE","F","011022","011022","COMP"]
[2348785,"REY","AVA","BE","F","031035","031035","COMP"]
[2348891,"ANDRIEUX","MANDELA","BE","F","031035","031035","COMP"]
[2348914,"BARLIER","APOLLINE","MI","F","082017","082017","COMP"]
[2349008,"DEVILLE","LEO","BE","M","081048","081048","COMP"]
[2349122,"ROSE-INIESTA","NICOLAS","BE","M","011001","011001","COMP"]
[2349256,"CLERGERIE","LISE","MI","F","031046","031046","COMP"]
[2349362,"BUATHIER","THOMAS","BE","M","081051","081051","COMP"]
[2349577,"GRESEQUE","MANON","BE","F","066003","066003","COMP"]
[2349707,"MORIN","LOUISE","MI","F","082017","082017","COMP"]
[2349816,"MAZZOUR MALKI","MANAL","MI","F","082017","082017","COMP"]
[2349999,"MALFOY","STELLA","BE","F","082018","082018","COMP"]
[2350089,"LAMTAHRI","INES","BE","F","031015","031015","COMP"]
[2350094,"ETHUIN","ALYNA","MI","F","082014","082014","COMP"]
[2350130,"REINALDOS","LAURINE","BE","F","082014","082014","COMP"]
[2350271,"TONINATO","CLOE","BE","F","032002","032002","COMP"]
[2350326,"DURAN","ANNE","MI","F","032002","032002","COMP"]
[2350495,"FAGALDE","ELORRI","MI","F","031015","031015","COMP"]
[2350545,"FRANTZ","VIVIANE","BE","F","081048","081048","COMP"]
[2350591,"MONTAGNON","JOHAN","BE","M","031015","031015","COMP"]
[2350943,"GARRIGUES","PAUL","BE","M","012003","012003","COMP"]
[2350958,"BRINGOUX","MAELYS","BE","F","031046","031046","COMP"]
[2350988,"LARGUIER SAINT-JEAN","LUCAS","MI","M","034457","034457","COMP"]
[2351022,"MARGONTIER BLONDEL","CHARLINE","BE","F","032014","032014","COMP"]
[2351056,"DAUMAS-MENAGER","LOANNE","MI","F","034457","034457","COMP"]
[2351087,"MIGNON","TOM","BE","M","034454","034454","COMP"]
[2351101,"LEYLAND","OSCAR","BE","M","032014","032014","COMP"]
[2351646,"ARNAUD","NINA","BE","F","081017","081017","COMP"]
[2352139,"DINNAT CREUSIER","LUDMILA","BE","F","065017","065017","COMP"]
[2352155,"LHOMME-SAVE","ROMANE","BE","F","065017","065017","COMP"]
[2352779,"VERSAVEAU","PAUL","BE","M","034066","034066","COMP"]
[2353412,"CATHALA","LOUIS","MI","M","081043","081043","COMP"]
[2353436,"TRIBOT-LASPIERE","ANNA","MI","F","065019","065019","COMP"]
[2353608,"LASSALLE","CAMILLE","MI","F","009001","009001","COMP"]
[2353613,"GLEMAREC","FLORIAN","BE","M","009001","009001","COMP"]
[2353761,"KANANI-LABAT","ANNA","BE","F","031009","031009","COMP"]
[2353974,"MERCIER","EMMA","BE","F","081021","081021","COMP"]
[2353996,"DJEFAFLIA","KELLY","MI","F","030008","030008","COMP"]
[2354111,"CYGRIMUS","ALEXIA","MI","F","081056","081056","COMP"]
[2354120,"BARRES","NOEMIE","MI","F","081056","081056","COMP"]
[2354123,"DELMAS","MANON","MI","F","031003","031003","COMP"]
[2354125,"GARNUNG","JULIE","MI","F","081056","081056","COMP"]
[2354126,"PELAQUIE","LOUISE","BE","F","034038","034038","COMP"]
[2354167,"MORET-GRANDJACQUES","ZELINE","BE","F","009011","009011","COMP"]
[2354234,"BEAULIEU","FAUSTINE","BE","F","031003","031003","COMP"]
[2354327,"PELISSIER","ARTHUR","BE","M","011022","011022","COMP"]
[2354382,"LOUZANI","LOU","BE","F","031004","031004","COMP"]
[2354843,"MOGENOT-PETITFRERE","CLEMENT","BE","M","034012","034012","COMP"]
[2355305,"BOCQUILLON","CLEMENT","MI","M","031004","031004","COMP"]
[2355606,"BEAUVIRONNOIS","OLIVER","BE","M","081055","081055","COMP"]
[2355624,"SUAREZ","LOUISE","BE","F","081055","081055","COMP"]
[2355675,"RAVIER","ALBANE","BE","F","081055","081055","COMP"]
[2355754,"GENTILLELA","ZOE","BE","F","034012","034012","COMP"]
[2355928,"PATRAO","CECILIA","MI","F","034012","034012","COMP"]
[2356066,"MEJRI KISTER","NOEMIE","BE","F","034072","034072","COMP"]
[2356572,"VEIT TILLEMONT","SORYA","MI","F","031025","031025","COMP"]
[2357469,"ROCHE","NOLAN","BE","M","031062","031062","COMP"]
[2357474,"PIGNOREL","LOUIS","BE","M","031062","031062","COMP"]
[2357479,"APTEL","LILLY","BE","F","031062","031062","COMP"]
[2357485,"DELESTRE","MATTEO","BE","M","031004","031004","COMP"]
[2357767,"DELELEE","MANON","MI","F","034021","034021","COMP"]
[2358035,"GONZALEZ ANGELVIN","TIMEO","BE","M","034038","034038","COMP"]
[2358303,"LATREMOLIERE","LOLA","BE","F","046008","046008","COMP"]
[2358684,"PATRAC","JEANNE","MI","F","034066","034066","COMP"]
[2358965,"BIANCHIN","NINO","MI","M","034066","034066","COMP"]
[2359047,"REBOUH-ARGUEL","LISA-MARIE","MI","F","034066","034066","COMP"]
[2359101,"MARCHAND CHIRI","MATTHIEU","MI","M","034066","034066","COMP"]
[2359171,"DUFOUR","ESTELLE","MI","F","081048","081048","COMP"]
[2359276,"BRAHIMI","ANISSA","BE","F","081048","081048","COMP"]
[2359539,"JALABERT","CLOTILDE","MI","F","011001","011001","COMP"]
[2359574,"BOUCHI-LAMONTAGNE","MARIUS","BE","M","030004","030004","COMP"]
[2359647,"LEHRICHI","BOUCHRA","BE","F","066003","066003","COMP"]
[2359674,"FOURNIER","LUNA","MI","F","030067","030067","COMP"]
[2359822,"MAURY","ROXANE","BE","F","046012","046012","COMP"]
[2359840,"SALLES","QUENTIN","MI","M","066006","066006","COMP"]
[2360068,"FAIGT","ROMANE","BE","F","081051","081051","COMP"]
[2360126,"TISSIER","HANAE","MI","F","081051","081051","COMP"]
[2360190,"TEULIER","LISON","MI","F","082018","082018","COMP"]
[2360215,"GARRIGUES","LALY","MI","F","082018","082018","COMP"]
[2360269,"FABRE","ANAIS","BE","F","081043","081043","COMP"]
[2360379,"ARNOULD KREMP","TIMEO","MI","M","065027","065027","COMP"]
[2360490,"ROBERT","MARION","MI","F","081053","081053","COMP"]
[2360635,"LAGRANGE MONTAGUD","ANAE","BE","F","031003","031003","COMP"]
[2360931,"LITIM","AYA","BE","F","030008","030008","COMP"]
[2361262,"CAZOTTES","SAMUEL","BE","M","081055","081055","COMP"]
[2361409,"LAVIT","CLEMENCE","BE","F","065012","065012","COMP"]
[2361796,"SEONNET KAKOU","NIVES","MI","F","011020","011020","COMP"]
[2361801,"GUNZLE","NATHAN","BE","M","081044","081044","COMP"]
[2363312,"PASQUIER","ALICE","MI","F","066027","066027","COMP"]
[2363329,"GUELAGUELI","ADAM","BE","M","031004","031004","COMP"]
[2363334,"MARCAIS","LOLA","BE","F","031025","031025","COMP"]
[2363356,"NOULIN","ANTOINE","BE","M","031004","031004","COMP"]
[2363724,"DELTOUR FOURNEL","SAMUEL","BE","M","011022","011022","COMP"]
[2363784,"REMY","QUENTIN","MI","M","030008","030008","COMP"]
[2364260,"CADIOU","ANAE","MI","F","034058","034058","COMP"]
[2364325,"CRUC","ADRIEN","MI","M","034064","034064","COMP"]
[2364334,"SORE","LYSANDRE","BE","F","081062","081062","COMP"]
[2364394,"MORO","SOLENE","MI","F","081062","081062","COMP"]
[2364396,"FOUREST","MANON","MI","F","031025","031025","COMP"]
[2364414,"KHOUMA","AMINATA","MI","F","031025","031025","COMP"]
[2364464,"GALINIE MARTINEZ","LENNY","MI","M","081062","081062","COMP"]
[2364666,"ROBIN","SOFIA","MI","F","034066","034066","COMP"]
[2365337,"ALOUI","ALIYA","BE","F","032002","032002","COMP"]
[2365512,"SABY PEFONTAN","ROMAIN","MI","M","031022","031022","COMP"]
[2365555,"COULOMB","PAULIN","BE","M","048004","048004","COMP"]
[2365556,"BLAQUIERE","LUCIE","BE","F","031022","031022","COMP"]
[2365572,"FAYET","ALEXANDRE","BE","M","031022","031022","COMP"]
[2365649,"PAPROCKI","NATHAN","BE","M","034454","034454","COMP"]
[2365684,"PERTAYS","NATHAN","MI","M","030008","030008","COMP"]
[2365691,"ICHOU","EMA-LEENA","MI","F","030040","030040","COMP"]
[2365698,"MAKRAN","MANEL","MI","F","030040","030040","COMP"]
[2365879,"BOUTONNET","ROMAIN","BE","M","012003","012003","COMP"]
[2366558,"ABBAL BOURREZ","LENA","MI","F","034062","034062","COMP"]
[2366621,"SABATIER VANARDOIS","AMBRE","BE","F","030059","030059","COMP"]
[2367220,"BONAL","MATHIS","BE","M","012002","012002","COMP"]
[2367241,"VAYSSIER","LENA","MI","F","012002","012002","COMP"]
[2367256,"COLRAT","AMAURY","BE","M","012002","012002","COMP"]
[2367269,"MUIN","ALPHONSE","BE","M","034058","034058","COMP"]
[2367657,"AIROLDI","CHLOE","BE","F","032002","032002","COMP"]
[2367669,"BARTHE","TRISTAN","BE","M","032002","032002","COMP"]
[2367776,"MULLER","STEPHEN","BE","M","032002","032002","COMP"]
[2368269,"ROCHE","CHARLY","MI","M","030021","030021","COMP"]
[2368282,"DI REZZE","MATTHIAS","BE","M","009011","009011","COMP"]
[2368288,"LAFRANCE","JADE","MI","F","030021","030021","COMP"]
[2368303,"ELKHALFI","ILIAN","BE","M","030021","030021","COMP"]
[2368687,"NGUYEN-VAN","CAMILLE","BE","F","031042","031042","COMP"]
[2368818,"BORIES JEFFERIES","JEANNE","MI","F","034012","034012","COMP"]
[2369362,"BELASCO","ROMANE","BE","F","031003","031003","COMP"]
[2369388,"CRESPY","MARION","MI","F","031003","031003","COMP"]
[2369425,"SPADAFORA","ENZO","MI","M","030060","030060","COMP"]
[2369490,"VELLA","LISE","BE","F","031062","031062","COMP"]
[2369785,"SERMET PEYRECAVE","LILIA","BE","F","031042","031042","COMP"]
[2369851,"GAVET","CASSIOPEE","BE","F","034066","034066","COMP"]
[2370073,"MAGHLOUFI","M HAMED SOUHEIL","BE","M","034068","034068","COMP"]
[2370272,"MANIAVAL","LOUISE","BE","F","081017","081017","COMP"]
[2370437,"LALET","CLEMENCE","BE","F","066006","066006","COMP"]
[2370708,"JARRY-LACOSTE","VICTOR","MI","M","065005","065005","COMP"]
[2371756,"SABLE","NALA","BE","F","034066","034066","COMP"]
[2371985,"POURSEL","MARINE","BE","F","011016","011016","COMP"]
[2371993,"POURSEL","SARAH","BE","F","011016","011016","COMP"]
[2372256,"LEONARD","ELEA","BE","F","034066","034066","COMP"]
[2372319,"POUJOL","MANON","MI","F","031001","031001","COMP"]
[2372409,"FORTE","LOUISE","MI","F","034066","034066","COMP"]
[2372615,"MATHAN","CHARLES","BE","M","034066","034066","COMP"]
[2372963,"CHABBERT","HUGO","BE","M","081043","081043","COMP"]
[2373150,"DANDOY","AUGUSTIN","BE","M","034055","034055","COMP"]
[2373252,"LOQUET ESTEVES","MATHIAS","MI","M","031056","031056","COMP"]
[2373265,"ANGEL","MANON","BE","F","034055","034055","COMP"]
[2373330,"SANGUINITI","SOPHIA","MI","F","031056","031056","COMP"]
[2373544,"ASSOUS","LEILA","BE","F","066003","066003","COMP"]
[2374419,"CUISINIER","MAEL","BE","M","031056","031056","COMP"]
[2374559,"DUBOIS","GUILHEM","BE","M","081046","081046","COMP"]
[2374568,"ENJALBERT","NATHAN","BE","M","081046","081046","COMP"]
[2375097,"KETTAM","MYRIAM","BE","F","066003","066003","COMP"]
[2375408,"KANEL","ETIENNE","MI","M","030067","030067","COMP"]
[2375884,"DA COSTA","CHLOE","MI","F","031043","031043","COMP"]
[2376057,"ARNAUX-RUIZ","NINON","BE","F","030040","030040","COMP"]
[2376519,"DERE","CELIA","MI","F","030060","030060","COMP"]
[2376596,"LEROUX","EVA","MI","F","030021","030021","COMP"]
[2376653,"GAILLARD","GABRIEL","BE","M","031004","031004","COMP"]
[2376788,"DURR","NOELIE","BE","F","030059","030059","COMP"]
[2377012,"SOURBE","LEOPOLD","MI","M","031056","031056","COMP"]
[2377034,"MENARD","ROMANE","MI","F","031056","031056","COMP"]
[2377134,"ESTEVE","LOUISE","BE","F","030067","030067","COMP"]
[2377167,"LABBAYE","SAGAR","BE","M","030067","030067","COMP"]
[2377438,"IONESCU CHENOT","THALIA","BE","F","011022","011022","COMP"]
[2377604,"GOBIN","LALIE","MI","F","030067","030067","COMP"]
[2378192,"HANAUER","EVA","MI","F","048007","048007","COMP"]
[2378246,"TROUCHE","AURELIEN","BE","M","012011","012011","COMP"]
[2378253,"TROUCHE","LAURA","MI","F","012011","012011","COMP"]
[2378383,"BOUCHER","CLEMENT","BE","M","031056","031056","COMP"]
[2378385,"LAVOYE","LOLA","BE","F","031056","031056","COMP"]
[2378393,"PUGINIER","THIBAUD","BE","M","031056","031056","COMP"]
[2378553,"AZEMAR","LOUISE","MI","F","012018","012018","COMP"]
[2378942,"MARTIN","GAIA","BE","F","034072","034072","COMP"]
[2379613,"CAMIN","FANNY","MI","F","011001","011001","COMP"]
[2379736,"CARRERE-CAZABAN","CLEMENCE","MI","F","031042","031042","COMP"]
[2379794,"LEGER","MAXENCE","BE","M","031042","031042","COMP"]
[2380042,"HALLER","ROMEO","BE","M","030059","030059","COMP"]
[2380049,"MATHEVET","MILLA","BE","F","030059","030059","COMP"]
[2380151,"CRES","ELSA","MI","F","030008","030008","COMP"]
[2380417,"ROTHE","MARTIN","MI","M","034064","034064","COMP"]
[2380516,"LIEVEN","MATHEO","MI","M","031022","031022","COMP"]
[2380535,"HOMBOURGER","LYLOU","MI","F","081056","081056","COMP"]
[2380537,"DUFAYET","CLARA","MI","F","031022","031022","COMP"]
[2380566,"ROMAN GABORIAU","MAYA","MI","F","081056","081056","COMP"]
[2380571,"BARRIERE","VALENTINE","BE","F","031022","031022","COMP"]
[2380647,"TURO","SOHAN","BE","M","009001","009001","COMP"]
[2380762,"GROUARD","MIA","BE","F","030018","030018","COMP"]
[2380831,"BOUKTIB","ABDELNOR","MI","M","030018","030018","COMP"]
[2381090,"LALAOUI","LOUIS","BE","M","034062","034062","COMP"]
[2381160,"MOULIS","PAOLA","BE","F","034062","034062","COMP"]
[2381377,"GRANDOUILLER","THEO","BE","M","034058","034058","COMP"]
[2381582,"SAMPAIO","PABLO","MI","M","032002","032002","COMP"]
[2381592,"TCHERTCHIAN","ALINE","MI","F","032002","032002","COMP"]
[2381704,"RAFFENAUD","CLEMENTINE","BE","F","031056","031056","COMP"]
[2381733,"GHABI","OMAR","BE","M","034058","034058","COMP"]
[2381834,"BESSIERE-ROUGIER","ELOIS","MI","M","034058","034058","COMP"]
[2381983,"BRINGER","JULIETTE","MI","F","048006","048006","COMP"]
[2381994,"BOUQUET","LISE","MI","F","048006","048006","COMP"]
[2382002,"TARDIEU","LILA","MI","F","048006","048006","COMP"]
[2382009,"MYLY","SALOME","BE","F","048003","048003","COMP"]
[2382028,"MULOT","THEO","MI","M","048006","048006","COMP"]
[2382049,"BONHOMME","ANOUCK","MI","F","048003","048003","COMP"]
[2382189,"ANTOINE","LOUISE","MI","F","081054","081054","COMP"]
[2382261,"CERTES","REMI","MI","M","048003","048003","COMP"]
[2382270,"ROUVEYRE","ELOUAN","MI","M","048003","048003","COMP"]
[2382293,"MORIN","ETHAN","MI","M","048006","048006","COMP"]
[2382413,"ESPITALIER","CLARA","BE","F","012008","012008","COMP"]
[2382531,"SANCHEZ","LOLA","BE","F","034062","034062","COMP"]
[2382636,"LAVIGNE","ELORA","MI","F","031025","031025","COMP"]
[2382751,"BOUCHET","JULES","BE","M","066027","066027","COMP"]
[2382935,"CREBASSA","CHARLOTTE","MI","F","031004","031004","COMP"]
[2383783,"MECA","THELMA","MI","F","031056","031056","COMP"]
[2383812,"PAPADIA","LUCA","MI","M","031050","031050","COMP"]
[2383816,"WITRANT","INES","MI","F","031056","031056","COMP"]
[2383874,"GRAVOUL","CLEMENCE","BE","F","031050","031050","COMP"]
[2384024,"ANDRE","CLEMENCE","BE","F","012002","012002","COMP"]
[2384069,"CAU","CYRIELLE","BE","F","031025","031025","COMP"]
[2384654,"CAILLIEUX","ANNA","BE","F","009011","009011","COMP"]
[2384714,"MOULIE","CEDRIC","BE","M","065025","065025","COMP"]
[2384824,"CARLADOUS","MAILYS","BE","F","046012","046012","COMP"]
[2384930,"FERNANDEZ-RUIZ","ESTEBAN","BE","M","030004","030004","COMP"]
[2384945,"YBORRA","HELOISE","MI","F","030074","030074","COMP"]
[2384956,"DUFOUR","MATHILDE","BE","F","065012","065012","COMP"]
[2385078,"NABHOLZ","BAPTISTE","BE","M","034068","034068","COMP"]
[2385089,"COUDERC","OCEAN","BE","M","030004","030004","COMP"]
[2385239,"RANALDI","KILLIAN","BE","M","034068","034068","COMP"]
[2385334,"BERRAHMA","NEREA","BE","F","034038","034038","COMP"]
[2385430,"DEMEAUTIS","JULIEN","BE","M","034068","034068","COMP"]
[2385539,"RAYNAUD","LOIS","MI","F","066006","066006","COMP"]
[2385548,"LAGO","ANNA","BE","F","034068","034068","COMP"]
[2385684,"SANTOT","LOU","BE","F","065005","065005","COMP"]
[2385736,"LANCRY","JULIA","MI","F","030067","030067","COMP"]
[2386202,"CHAVANNE","LUCAS","MI","M","031012","031012","COMP"]
[2386411,"CAILLEUX","ALOIS","BE","M","031015","031015","COMP"]
[2386434,"CORALIN","TINA","MI","F","031012","031012","COMP"]
[2386451,"PORTEJOIE","CELESTE","MI","F","030018","030018","COMP"]
[2386458,"BENITA","ELIOTT","BE","M","030060","030060","COMP"]
[2386478,"CHEROUVRIER","LOUIS","BE","M","030040","030040","COMP"]
[2386490,"FRONT","MAXIME","BE","M","030040","030040","COMP"]
[2388381,"DAVYDOVA","YEVA","BE","F","034066","034066","COMP"]
[2388445,"SANZ","EVA","MI","F","032014","032014","COMP"]
[2388559,"BOUMAZA","AKIM","BE","M","031034","031034","COMP"]
[2388583,"GARBOUGE","BASILE","BE","M","030008","030008","COMP"]
[2388601,"LAGARDE-MONTREDON","LORENZO","BE","M","030008","030008","COMP"]
[2388863,"JOHNSON","JADE","BE","F","046008","046008","COMP"]
[2388888,"CHODJAI ROBIN","ESTELLE","MI","F","046008","046008","COMP"]
[2389068,"BOISSELEAU","MARILOU","BE","F","066027","066027","COMP"]
[2389737,"PEDEZZANI","CAPUCINE","MI","F","011001","011001","COMP"]
[2389742,"OLIVE","EVAN","BE","M","011001","011001","COMP"]
[2389944,"CHARLES","ZELIE","MI","F","034038","034038","COMP"]
[2390098,"REBEYROLLES","KYARA","BE","F","034065","034065","COMP"]
[2390198,"MARTOS","CHARLIE","BE","M","030004","030004","COMP"]
[2390227,"PERNEL LOPES","LUCAS","BE","M","081062","081062","COMP"]
[2390287,"DIAZ","AUGUSTINE","BE","F","012018","012018","COMP"]
[2390383,"REMIL","INES","BE","F","081056","081056","COMP"]
[2390407,"FOUGERAY","MALO","BE","M","081056","081056","COMP"]
[2390447,"LALET","SACHA","MI","M","066006","066006","COMP"]
[2390494,"SCHWING LOPEZ","TRYSTAN","BE","M","031022","031022","COMP"]
[2390498,"LLOBET","LUCILLE","MI","F","066006","066006","COMP"]
[2390501,"ZERRIFI","ASSIYA","BE","F","034066","034066","COMP"]
[2390538,"LE BOTNEL","MARA","MI","F","032002","032002","COMP"]
[2390586,"ESPEILHAC CHEVALIER","LOUIS","BE","M","012018","012018","COMP"]
[2390603,"CABANNE","ANTOINE","BE","M","031042","031042","COMP"]
[2391035,"VIAUD","ALEXIS","BE","M","031050","031050","COMP"]
[2391065,"NOURA","LINA","BE","F","031050","031050","COMP"]
[2391376,"PAUTHE","LUCIE","BE","F","081062","081062","COMP"]
[2391379,"BARBE","LEONIE","MI","F","012002","012002","COMP"]
[2391384,"MAURY","ELYA","BE","F","081017","081017","COMP"]
[2391592,"TOMBORAVO","KRYSS-LOANNA","BE","F","009011","009011","COMP"]
[2391846,"PELOSO","LEO","BE","M","030003","030003","COMP"]
[2391992,"OSTROWSKI GODELLE","JUSTINE","MI","F","030059","030059","COMP"]
[2392137,"ACOSTA","JULIETTE","MI","F","030018","030018","COMP"]
[2392190,"ESPIE","WILLIAM","BE","M","031050","031050","COMP"]
[2392198,"ESPIE","EDEN","MI","F","031050","031050","COMP"]
[2392645,"BOUFFART","GABRIEL","MI","M","034068","034068","COMP"]
[2392692,"GARDEZ","JEANNE","MI","F","034068","034068","COMP"]
[2392703,"HOUSSIN ANCELOT","MATHIS","BE","M","081047","081047","COMP"]
[2392708,"JARDIN","PAUL","MI","M","034068","034068","COMP"]
[2392742,"MOREAU","LOUKA","MI","M","034068","034068","COMP"]
[2392753,"TAILLEUR","LEA","MI","F","034068","034068","COMP"]
[2392795,"CAZALS","NOLHAN","BE","M","012013","012013","COMP"]
[2392965,"MARTIN-CHAMPETIER","NOA","BE","M","034068","034068","COMP"]
[2393038,"FATTORI","CLARA","MI","F","030004","030004","COMP"]
[2393130,"MENARD","LUCAS","MI","M","031007","031007","COMP"]
[2393167,"MERCURIO MARQUET","LUCIE","MI","F","030040","030040","COMP"]
[2393259,"TANGOMO","SOHA","BE","F","012002","012002","COMP"]
[2393276,"JALADE","GAIA","BE","F","012002","012002","COMP"]
[2393439,"EL ARMI","MERYAM","MI","F","030040","030040","COMP"]
[2393519,"HAMIDA","ASSIA","MI","F","081056","081056","COMP"]
[2393901,"OLIVES","VICTOR","MI","M","066031","066031","COMP"]
[2394514,"CONSTANT","CORENTIN","MI","M","081044","081044","COMP"]
[2394716,"BANABILA","INES","MI","F","031025","031025","COMP"]
[2395655,"LECLERCQ","JULIETTE","BE","F","030003","030003","COMP"]
[2395749,"CAYROL FLAMENT","ESTEBAN","MI","M","066037","066037","COMP"]
[2395849,"KAUFFMANN","JULIA","BE","F","031022","031022","COMP"]
[2395909,"ABBEY","ALICIA","MI","F","031022","031022","COMP"]
[2395974,"TCHOUBIKOV-ASTRUC","MAKSIM","BE","M","030067","030067","COMP"]
[2396053,"JOUDY EL YOUSFI","ASSIA","BE","F","030067","030067","COMP"]
[2396311,"ALCAZAR","SARAH","BE","F","030018","030018","COMP"]
[2396371,"PETIT","DRIANA","MI","F","034021","034021","COMP"]
[2396375,"M BOUA","OLIVIA","BE","F","031025","031025","COMP"]
[2396508,"RAMPON","RUBBEN","BE","M","030004","030004","COMP"]
[2396537,"PEZET","LYSA","BE","F","031050","031050","COMP"]
[2396964,"BOSC","THEO","MI","M","031008","031008","COMP"]
[2398045,"MARION","EVA","MI","F","031025","031025","COMP"]
[2398298,"LE GAUBICHON","CAROLINE","MI","F","034021","034021","COMP"]
[2398325,"LAVEDAN","SHANA","MI","F","031004","031004","COMP"]
[2398600,"SID","MAHIEDIN","BE","M","034066","034066","COMP"]
[2398616,"BENYOUB","MAISSA","BE","F","034066","034066","COMP"]
[2398790,"BOUSADRA","NORDINE","MI","M","034058","034058","COMP"]
[2398798,"BELMILOUDI","DAVID","MI","M","034058","034058","COMP"]
[2399178,"DI VICENZO","NICOLAS","MI","M","066037","066037","COMP"]
[2399257,"MELIZER","WIKTOR","BE","M","011020","011020","COMP"]
[2399520,"PEREZ","ESTEBAN","MI","M","048006","048006","COMP"]
[2399639,"FOURNIE","SYLIA","MI","F","012005","012005","COMP"]
[2399959,"BOISSEZON NGOC THO","ROBIN","BE","M","011001","011001","COMP"]
[2399980,"MATHLOUTHI-VERNE","EVA","BE","F","081017","081017","COMP"]
[2400076,"VERGEZ","JULIETTE","BE","F","034072","034072","COMP"]
[2401186,"SEGAILLAT","EWEN","BE","M","065012","065012","COMP"]
[2401323,"COQUET","LOUISE","BE","F","032002","032002","COMP"]
[2401858,"PELLESCHI","ALICIA","BE","F","030059","030059","COMP"]
[2401903,"ARNAULT CALLEN","INES","BE","F","031010","031010","COMP"]
[2402335,"BARTHES","EMILIE","BE","F","065012","065012","COMP"]
[2402466,"BASCLE","FLEUR","MI","F","066003","066003","COMP"]
[2402468,"PALPACUER","CHARLIE","MI","F","048006","048006","COMP"]
[2402514,"DUFFOUR","NOLINE","MI","F","032006","032006","COMP"]
[2402677,"KADIRI ALOUIZ","CHAIMAA","MI","F","030018","030018","COMP"]
[2403633,"MANESSIER","EMMA","BE","F","081053","081053","COMP"]
[2404056,"CROS","ELINA","BE","F","081043","081043","COMP"]
[2404275,"GANNAR","ASSIA","BE","F","046012","046012","COMP"]
[2404713,"HISIGER BRIANTO","SOLINE","BE","F","031042","031042","COMP"]
[2404942,"BRESSON","OPHELIE","MI","F","048002","048002","COMP"]
[2405222,"MICHON","TOM","BE","M","031022","031022","COMP"]
[2405533,"THOMANN","LIVIA","BE","F","031025","031025","COMP"]
[2405687,"VIDAILLAC","SIMON","BE","M","032002","032002","COMP"]
[2406634,"GASSAMA","ONAEDO","MI","F","034454","034454","COMP"]
[2407058,"AMMOR","NAELLA","MI","F","065012","065012","COMP"]
[2407185,"ALIX","MANON","BE","F","048008","048008","COMP"]
[2407289,"COGOLUEGNES","ELOISE","MI","F","048008","048008","COMP"]
[2407297,"DENOZI","ETHAN","MI","M","048008","048008","COMP"]
[2407308,"ENGELVIN","BAPTISTE","MI","M","048008","048008","COMP"]
[2408176,"PRADEL","MAUD","MI","F","034038","034038","COMP"]
[2408604,"LE ROUX","AXEL","BE","M","030059","030059","COMP"]
[2408624,"FIGUERES","CAMILLE","MI","F","066027","066027","COMP"]
[2408632,"CALATAYUD","LUCAS","MI","M","066027","066027","COMP"]
[2408667,"PUAUD","MARTIN","BE","M","065005","065005","COMP"]
[2408752,"CHIKH BEKADA","IMENE","MI","F","030040","030040","COMP"]
[2408769,"BOUILLIN","CAMILLE","BE","F","011020","011020","COMP"]
[2410260,"GRIMAL","MANON","BE","F","048008","048008","COMP"]
[2410273,"JOURNET","NOEMIE","BE","F","048008","048008","COMP"]
[2410303,"RUAULT","CAMILLE","MI","F","048008","048008","COMP"]
[2410404,"RIVIERE","LOISE","MI","F","048008","048008","COMP"]
[2410417,"TURLAN","LUCAS","MI","M","048008","048008","COMP"]
[2410420,"TURLAN","HUGO","MI","M","048008","048008","COMP"]
[2410512,"AUTET","RAPHAEL","BE","M","032014","032014","COMP"]
[2410772,"ALLINGRI","FAUSTINE","BE","F","012002","012002","COMP"]
[2410774,"BONNEFOY","SACHA","BE","M","012002","012002","COMP"]
[2411031,"HONORE","TOM","BE","M","011016","011016","COMP"]
[2411333,"BRENGUES-SABATHIER","ALIX","BE","M","012008","012008","COMP"]
[2413003,"CLERGUE","TRISTAN","BE","M","081054","081054","COMP"]
[2413007,"IZARD","JEREMY","BE","M","081054","081054","COMP"]
[2413015,"PELOFFY","EULALIE","BE","F","081054","081054","COMP"]
[2413019,"ROJAS","AINHOA","BE","F","081054","081054","COMP"]
[2413025,"TRAGNE","LOUIS","BE","M","081054","081054","COMP"]
[2413250,"LARGEAU","LILA","MI","F","031022","031022","COMP"]
[2413771,"MOUSSA","MAISSA","MI","F","030018","030018","COMP"]
[2413846,"ABOUSSOULTANOV","IMAN","BE","F","030004","030004","COMP"]
[2415346,"FLORES","SARAH","BE","F","066006","066006","COMP"]
[2416114,"BELMONTE","LEOPOLDINE","MI","F","081017","081017","COMP"]
[2416211,"MALAVAL","TIM","BE","M","048004","048004","COMP"]
[2416527,"DELMAS","JADE","MI","F","048007","048007","COMP"]
[2416539,"ROBLET DENAT","NOE","BE","M","009002","009002","COMP"]
[2417198,"COUDERC","LAURE","BE","F","034068","034068","COMP"]
[2417580,"VAYSSE","MARIE","BE","F","012008","012008","COMP"]
[2417762,"ROMERO","MAKSEN","BE","M","034055","034055","COMP"]
[2418527,"DISSAUX","KATHERINE","BE","F","081046","081046","COMP"]
[2418622,"MEDUS MARECHAL","LENNY","BE","M","034062","034062","COMP"]
[2419205,"PIAT","CHARLES","MI","M","030008","030008","COMP"]
[2419303,"POLI","LOUIS","MI","M","066027","066027","COMP"]
[2419345,"MALIQI","SAMUEL","BE","M","065003","065003","COMP"]
[2419521,"HADDAD","VIRGILE","MI","M","034062","034062","COMP"]
[2419524,"BEZIAN","EVAN","MI","M","066003","066003","COMP"]
[2419635,"TOUAHRI","AMIR","MI","M","030004","030004","COMP"]
[2419661,"FALIPOU","ROSE","MI","F","012005","012005","COMP"]
[2419774,"MARRAGOU","ZELIE","MI","F","031056","031056","COMP"]
[2420272,"TAVERNE","ELEA","BE","F","065012","065012","COMP"]
[2420323,"DENNEVAL-VIALA","LOIS","BE","M","081047","081047","COMP"]
[2420783,"RAFFARD","TIM","BE","M","048121","048121","COMP"]
[2422180,"FONTAINE","LEANNE","MI","F","031008","031008","COMP"]
[2422398,"EL HAJJAJ","SAAD","BE","M","011001","011001","COMP"]
[2422762,"FRANCOIS CEDENO","OSCAR","BE","M","034066","034066","COMP"]
[2423723,"RAGET","MANON","MI","F","032006","032006","COMP"]
[2424576,"BOUKHILI","MANEL","MI","F","031042","031042","COMP"]
[2425064,"ANTOINE","JEANNE","BE","F","066028","066028","COMP"]
[2425196,"GIENDAJ-DUVAL","ILANA","BE","F","081054","081054","COMP"]
[2425878,"LEJEUNE","ESTELLE","BE","F","011020","011020","COMP"]
[2426839,"LAURIN LHERM","INES","MI","F","011022","011022","COMP"]
[2427242,"LAHMOURAT","ADAM","BE","M","034069","034069","COMP"]
[2427287,"PALERMO","LUCAS","BE","M","030059","030059","COMP"]
[2428247,"LECOFFRE","LEXANE","MI","F","034021","034021","COMP"]
[2428577,"DELFINO","GABRIEL","MI","M","034454","034454","COMP"]
[2428720,"SIGUIER","LILA","MI","F","031062","031062","COMP"]
[2428815,"GRUMEL-PECH-SEBTI","KEIRA","MI","F","034069","034069","COMP"]
[2428818,"ELIZALDE","CAMILA","BE","F","034066","034066","COMP"]
[2429285,"VIDAL","CHARLES","BE","M","012002","012002","COMP"]
[2429665,"MANCONE-AYRAL","TESS","MI","F","034068","034068","COMP"]
[2431116,"DEQUAIRE","KYARA","BE","F","081051","081051","COMP"]
[2431183,"POUZANCRE-HOYER","TESSA","MI","F","034038","034038","COMP"]
[2431960,"NGBANDUA","JENNIFER","MI","F","081053","081053","COMP"]
[2432065,"ARPIN","ZELIE","MI","F","031056","031056","COMP"]
[2432533,"LEYMARIE","CESAIRE","BE","M","046009","046009","COMP"]
[2432584,"BARROIS","FAUSTINE","MI","F","065003","065003","COMP"]
[2433250,"RAKOLOLAHY CHARLES","TRACY","BE","F","065012","065012","COMP"]
[2433308,"LE DAGAUT","SONNY","MI","M","012002","012002","COMP"]
[2433312,"MAGNAUDEIX","ANNA","BE","F","031050","031050","COMP"]
[2433765,"DENOT","ANAE","BE","F","031042","031042","COMP"]
[2434300,"BENALI","SOFIA","MI","F","032002","032002","COMP"]
[2435056,"DURAND-THIRE","LEINA","MI","F","032002","032002","COMP"]
[2435416,"BENMOUSSA","NADINE","MI","F","031004","031004","COMP"]
[2435433,"MANYA","LILY","MI","F","066027","066027","COMP"]
[2435539,"DIEDHIOU-TOUTTAIN","AMY","BE","F","030059","030059","COMP"]
[2435763,"RECAJ","KRISTINA","MI","F","065003","065003","COMP"]
[2436502,"LEROUX","ERIN","BE","F","031050","031050","COMP"]
[2437793,"CHABOY","LOAN","BE","M","031004","031004","COMP"]
[2437808,"REY","MARCEAU","BE","M","031004","031004","COMP"]
[2437815,"GONZALEZ","ELEANA","BE","F","031004","031004","COMP"]
[2437818,"ESTHER","CALISTA","MI","F","031004","031004","COMP"]
[2438087,"BADOR","MATHILDE","BE","F","031043","031043","COMP"]
[2438105,"GAILLOT","TITOUAN","BE","M","031034","031034","COMP"]
[2438118,"GARCIA","CLEMENCE","BE","F","031034","031034","COMP"]
[2438121,"DASSE","FLORENT","BE","M","031034","031034","COMP"]
[2438137,"BEKADDOUR","NOHE","BE","M","031034","031034","COMP"]
[2438439,"CAMBIER-ROHART","SOHAN","BE","M","066027","066027","COMP"]
[2438569,"CALMELS-PUJATTE","PABLO","MI","M","031004","031004","COMP"]
[2438584,"FETATI","NOHAM","BE","M","031004","031004","COMP"]
[2438676,"ALARY","RAPHAEL","MI","M","082017","082017","COMP"]
[2438950,"ANDRIEU","PAULIN","BE","M","082017","082017","COMP"]
[2438990,"PAGNIN","LANA","MI","F","082017","082017","COMP"]
[2439175,"CHOUVIER","EMY","BE","F","082017","082017","COMP"]
[2439712,"GALLON","LILA","BE","F","081062","081062","COMP"]
[2439725,"BORDERON","EVA","BE","F","032014","032014","COMP"]
[2440998,"SALAGER","GABRIEL","MI","M","031043","031043","COMP"]
[2441089,"MOIZAN","EVAN","BE","M","031039","031039","COMP"]
[2441198,"SENOUSSI","ALEX","BE","M","031004","031004","COMP"]
[2441259,"LACOMBE","AXEL","BE","M","031004","031004","COMP"]
[2441267,"ARIBAUD","EMMA","BE","F","031034","031034","COMP"]
[2441438,"BLANC","NATHANAEL","MI","M","031015","031015","COMP"]
[2441478,"DESPEYSSE","EDDY","MI","M","031015","031015","COMP"]
[2441834,"COINTREL","ETHAN","MI","M","031043","031043","COMP"]
[2441876,"PRUNIER","ALIX","BE","F","031004","031004","COMP"]
[2442329,"GENTIL","LENY","MI","M","031046","031046","COMP"]
[2442401,"DEHOUK","LOUIS","MI","M","034012","034012","COMP"]
[2442701,"RALECHE","DEVYD","MI","M","081048","081048","COMP"]
[2442845,"SOUVERAIN","LOUIS","MI","M","011001","011001","COMP"]
[2443180,"LE GRAND","NOE","BE","M","034066","034066","COMP"]
[2443218,"MASSON","ADRIEN","BE","M","034066","034066","COMP"]
[2443267,"DELERIS","MANON","BE","F","012003","012003","COMP"]
[2443306,"SOUM","EDOUARD","MI","M","031039","031039","COMP"]
[2443326,"SOPHY","EMILIE","BE","F","034457","034457","COMP"]
[2443327,"LABEDAN","CLOE","MI","F","065006","065006","COMP"]
[2443398,"RAUZI","MATHIS","MI","M","031039","031039","COMP"]
[2443402,"EL OUARDI","MALIK","MI","M","066003","066003","COMP"]
[2443457,"RAVAOARISOA","CHRISNA","BE","F","031012","031012","COMP"]
[2443464,"GAZAGNES","CHLOE","MI","F","031012","031012","COMP"]
[2443586,"COMPAGNET","THOMAS","BE","M","065005","065005","COMP"]
[2443750,"ADAM LAJARA","LAURIAN","BE","M","082018","082018","COMP"]
[2444138,"ADAO DA SILVA","CEDINA","BE","F","011020","011020","COMP"]
[2444159,"GAY","MARGAUX","MI","F","011020","011020","COMP"]
[2444401,"JOUBERT","EMILIE","BE","F","034036","034036","COMP"]
[2444414,"DELPONT","BENJAMIN","BE","M","082018","082018","COMP"]
[2444435,"FONTORBES","CHARLINE","MI","F","031062","031062","COMP"]
[2444439,"GEORGEOT CUEILLE","LEA","MI","F","031062","031062","COMP"]
[2445638,"PASSET","MARIE","MI","F","030074","030074","COMP"]
[2445665,"JUFFIN","CLEMENT","BE","M","066006","066006","COMP"]
[2446148,"FREZOULS","ZOE","BE","F","031010","031010","COMP"]
[2446167,"LAFARGE GRESSE","LOUNA","MI","F","081048","081048","COMP"]
[2446221,"ROUZOUL","LILOU","MI","F","031039","031039","COMP"]
[2446521,"MASSYN","YASMINA","BE","F","065012","065012","COMP"]
[2446588,"LOUCQ","AXEL","BE","M","031015","031015","COMP"]
[2446656,"MAATALAH","ALICIA","MI","F","030008","030008","COMP"]
[2446725,"RAZAT BEZOMBES","ROBIN","BE","M","031046","031046","COMP"]
[2446743,"VOUJON","CHARLY","MI","M","031056","031056","COMP"]
[2446948,"MADER","CYPRIEN","MI","M","031009","031009","COMP"]
[2447188,"HELEN","JOAN","MI","M","034036","034036","COMP"]
[2447201,"VIALARET","JADE","BE","F","012013","012013","COMP"]
[2447480,"PORTRAIT","ANA","BE","F","031004","031004","COMP"]
[2447495,"GIRON","TRISTAN","BE","M","031001","031001","COMP"]
[2447571,"PEAUGER","CHLOE","BE","F","031004","031004","COMP"]
[2447652,"ANGLES","ELISE","MI","F","031004","031004","COMP"]
[2447763,"GONZALEZ","LILOU","BE","F","031035","031035","COMP"]
[2447772,"GHRISSI","SHAYMA","MI","F","031035","031035","COMP"]
[2447850,"BANCAUD","JOHAN","BE","M","031009","031009","COMP"]
[2447867,"MIMAULT","COLEEN","BE","M","034066","034066","COMP"]
[2447888,"BALAIRE","LILY","BE","F","066003","066003","COMP"]
[2447925,"BRASME LION","FLORA","BE","F","034066","034066","COMP"]
[2448136,"BOUKIOUD","EDEN","MI","F","034066","034066","COMP"]
[2448264,"RICHARD","THEO","MI","M","034038","034038","COMP"]
[2448309,"CASAS","LOLA","MI","F","011022","011022","COMP"]
[2448320,"CABAILLES","CANDICE","MI","F","011022","011022","COMP"]
[2448491,"GRAU","ILYES","BE","M","081051","081051","COMP"]
[2448499,"MERESSE","LEONTINE","MI","F","081051","081051","COMP"]
[2448556,"PEREZ FERRANDO","ISAURE","MI","F","034036","034036","COMP"]
[2448648,"VAYSSETTES","SALOME","BE","F","012005","012005","COMP"]
[2448831,"BOYER-SBARDELOTT","ANAUA","BE","M","081053","081053","COMP"]
[2448845,"DEMARCO","CAMILLE","BE","F","081053","081053","COMP"]
[2448849,"DEMARCO","INES","MI","F","081053","081053","COMP"]
[2448867,"CARAYON","ARMAND","BE","M","081053","081053","COMP"]
[2448983,"SALANOVA","AMANDINE","BE","F","030074","030074","COMP"]
[2449151,"CAMP TROUCHE","ELOISE","BE","F","081048","081048","COMP"]
[2449319,"CAZAL","LILY","MI","F","031004","031004","COMP"]
[2449689,"VALERY","FANNY","MI","F","031063","031063","COMP"]
[2449977,"NAVARRO","GABIN","BE","M","031015","031015","COMP"]
[2449988,"ISSANCHOU-ROUBIOU","MAILYS","MI","F","082017","082017","COMP"]
[2450122,"ESPIE","MAELYS","MI","F","031043","031043","COMP"]
[2450152,"JESBAC LEMAITRE","CESAR","MI","M","031012","031012","COMP"]
[2450376,"MARRASSE","CELIA","MI","F","031035","031035","COMP"]
[2450703,"OBER","ALICIA","BE","F","065012","065012","COMP"]
[2450999,"CABROL","ANTOINE","MI","M","034012","034012","COMP"]
[2451026,"GEOFFROY","SALOME","MI","F","034012","034012","COMP"]
[2451037,"BABOU DOAT","LAZLO","MI","M","034012","034012","COMP"]
[2451490,"RAVAT","ANAE","MI","F","034012","034012","COMP"]
[2451500,"BREEM","ADELE","MI","F","034012","034012","COMP"]
[2451846,"PEROLLE","ANNA","MI","F","031022","031022","COMP"]
[2451854,"PEROLLE","LILY","MI","F","031022","031022","COMP"]
[2452096,"PEJON","HUGO","BE","M","011016","011016","COMP"]
[2452203,"ROUSSEAU","SAMUEL","MI","M","065012","065012","COMP"]
[2452219,"SERRANO","LEONIE","BE","F","031042","031042","COMP"]
[2452223,"NEYROLLES","LOUISE","BE","F","031042","031042","COMP"]
[2452332,"DUCASTAING","AARON","MI","M","065012","065012","COMP"]
[2452338,"HENRI","EVEN","BE","M","065012","065012","COMP"]
[2452444,"VILLIERS","CORENTIN","BE","M","031042","031042","COMP"]
[2452461,"MARTIN BRU","CHLOE","BE","F","031042","031042","COMP"]
[2452546,"DURO","MAELLE","BE","F","031042","031042","COMP"]
[2452593,"BECQUEY","ANTOINE","BE","M","012002","012002","COMP"]
[2452615,"GRIMAUD","LYLWENN","BE","F","012002","012002","COMP"]
[2452624,"SERRADJ","MERYEM","BE","F","012002","012002","COMP"]
[2453283,"DOUTE","LENA","BE","F","012003","012003","COMP"]
[2453389,"AUBERDIAC","GASTON","BE","M","081017","081017","COMP"]
[2453399,"DEPUILLE","ELISA","BE","F","081017","081017","COMP"]
[2453400,"GRANIER-NOUGUIER","LUCIE","BE","F","030004","030004","COMP"]
[2453443,"ROUBA","INES","BE","F","030004","030004","COMP"]
[2453543,"PANIS","HELOISE","MI","F","011020","011020","COMP"]
[2454389,"MARTIN","LUCAS","MI","M","032002","032002","COMP"]
[2454516,"CREPEAU","ZOELIE","MI","F","048007","048007","COMP"]
[2454536,"ANTONINI OUSTRI","ELLIE","MI","F","031056","031056","COMP"]
[2454662,"FAURE","ARTHUR","MI","M","030060","030060","COMP"]
[2455045,"RECORD","LOLA","BE","F","031046","031046","COMP"]
[2455206,"DUFAUX","SACHA","BE","M","081048","081048","COMP"]
[2455263,"BASTID","LORIS","BE","M","030008","030008","COMP"]
[2455312,"BOUAFIA","NINA","MI","F","031015","031015","COMP"]
[2455406,"GOTZ","ESTEBAN","MI","M","031015","031015","COMP"]
[2455584,"GOBIN","THEO","BE","M","034072","034072","COMP"]
[2455881,"NOUGAREDE","LEI-NA","BE","F","082014","082014","COMP"]
[2456065,"MAUDUIT","JADE","MI","F","081056","081056","COMP"]
[2456229,"BOUYER","PIERRE","MI","M","031025","031025","COMP"]
[2456270,"MONTET","JEAN","BE","M","034457","034457","COMP"]
[2456573,"BONNARD","AARON","MI","M","011022","011022","COMP"]
[2456598,"LABASTRIES-PAVIOT","ROMANE","BE","F","031025","031025","COMP"]
[2457228,"DISETTI","CHARLINE","MI","F","031056","031056","COMP"]
[2457347,"CODANI","ANAIS","MI","F","034073","034073","COMP"]
[2457782,"VERGE","EMMY","BE","F","011016","011016","COMP"]
[2457943,"VOLTIGEUR","ELENA","MI","F","082018","082018","COMP"]
[2458017,"PEIRO MARTINEZ","AMBRE","MI","F","081043","081043","COMP"]
[2458046,"VIGUIER","LONNI","BE","M","081017","081017","COMP"]
[2458152,"VEGA","MATHILDE","MI","F","034073","034073","COMP"]
[2458341,"BOUDINOT","THOMAS","BE","M","034062","034062","COMP"]
[2458518,"BANDERA","ETHAN","BE","M","030059","030059","COMP"]
[2458565,"GLORIES","RAPHAEL","BE","M","081062","081062","COMP"]
[2458662,"FELDMANN","ISAAC","MI","M","011001","011001","COMP"]
[2458818,"POLITTE","BROOKLYN","BE","F","031025","031025","COMP"]
[2458855,"QUEIROZ ALAZET","LILI","BE","F","031025","031025","COMP"]
[2458875,"SOURGNES","ROBERT","MI","M","031025","031025","COMP"]
[2459970,"TUR","JASMINE","BE","F","082017","082017","COMP"]
[2460087,"GARCIA","MELILLA","MI","F","081043","081043","COMP"]
[2460111,"COUZY","CORALIE","BE","F","082014","082014","COMP"]
[2460175,"URIZZI","LOUNA","MI","F","032002","032002","COMP"]
[2460201,"COUSIN","MAHAUT","MI","F","032002","032002","COMP"]
[2460458,"BOYER","LUCIE","BE","F","012003","012003","COMP"]
[2460501,"BASTIDE","LOU","MI","F","030008","030008","COMP"]
[2460503,"NOBLET","AYMERIC","MI","M","081017","081017","COMP"]
[2460664,"PARETTE","PIERRICK","BE","M","031035","031035","COMP"]
[2460718,"ROUMEAU GAILLARD","MAYA","MI","F","031063","031063","COMP"]
[2460737,"BURGAY","JEAN","BE","M","031009","031009","COMP"]
[2460905,"PAVLOV","DANIEL","BE","M","030004","030004","COMP"]
[2461020,"PIQUE","GIULIAN","BE","M","081043","081043","COMP"]
[2461041,"AUBRY","ELISA","BE","F","065012","065012","COMP"]
[2461281,"BAHRI","NAHIL","BE","M","034036","034036","COMP"]
[2462359,"MILHAUD","MATHEO","MI","M","081062","081062","COMP"]
[2462375,"DAUDE","NICOLAS","BE","M","081062","081062","COMP"]
[2462415,"BERTRAND PEREY","RAPHAEL","BE","M","034038","034038","COMP"]
[2462434,"VALLOIS","EDGAR","BE","M","009001","009001","COMP"]
[2462472,"FARGUES","MIA","BE","F","011016","011016","COMP"]
[2462497,"MULLER","BASTIEN","MI","M","012018","012018","COMP"]
[2462507,"DE LIHOVSKOI","SACHA","MI","M","034038","034038","COMP"]
[2462599,"BOUYSSOU","MAYLIS","MI","F","081051","081051","COMP"]
[2462611,"LEROY","CAMILLE","BE","F","034038","034038","COMP"]
[2462703,"SALHI","KAYSSAN","MI","M","030021","030021","COMP"]
[2462760,"GANDIA","ALICIA","BE","F","030021","030021","COMP"]
[2462800,"CERATO","JULIA","MI","F","030004","030004","COMP"]
[2463152,"PELISSOU","HELOISE","MI","F","031022","031022","COMP"]
[2463345,"CHRISTIAENS","EMMA","BE","F","031010","031010","COMP"]
[2463501,"MOTHEAU","BENJAMIN","MI","M","081046","081046","COMP"]
[2464042,"ENGSTER","JULIETTE","MI","F","030008","030008","COMP"]
[2464595,"OLTEAN","RAUL","BE","M","012002","012002","COMP"]
[2464606,"GASTON","EMMA","BE","F","012002","012002","COMP"]
[2464870,"DJELILI","SOUMAYA","BE","F","065006","065006","COMP"]
[2465200,"YENGO SEBEDIO","NOHA","MI","M","031004","031004","COMP"]
[2465239,"DELACOUR","INES","BE","F","065025","065025","COMP"]
[2465301,"FARNEDA GUILHEMAT","GABIN","BE","M","031004","031004","COMP"]
[2465374,"BLAIN","ESTEBAN","BE","M","030004","030004","COMP"]
[2465496,"GALLOT-LAVALLEE","FELICIEN","BE","M","009011","009011","COMP"]
[2465497,"THOMASSIN","MATEO","MI","M","034065","034065","COMP"]
[2465561,"GODARD","SILAS","BE","M","009011","009011","COMP"]
[2465848,"FAUSSOT","ANOUK","MI","F","031003","031003","COMP"]
[2465863,"ARBERET","LILY","MI","F","031003","031003","COMP"]
[2466098,"SANDBERG","ROMY","MI","F","031042","031042","COMP"]
[2466406,"VERGNOLE","NAIS","MI","F","066003","066003","COMP"]
[2466635,"CAZALS","MARTIN","BE","M","081055","081055","COMP"]
[2467327,"TARRIUS","LUCIE","BE","F","011022","011022","COMP"]
[2467440,"DI GIACOMO","LENA","MI","F","034066","034066","COMP"]
[2467920,"MENDRAS","LAURA","MI","F","034036","034036","COMP"]
[2467926,"PEREZ-SAIZ BLAUDY","HINAVAI","BE","F","081047","081047","COMP"]
[2468203,"ROBERT","ELOUANE","MI","F","030003","030003","COMP"]
[2468445,"DERDOUR-MATHIEU","NOLAN","MI","M","031056","031056","COMP"]
[2469464,"REAVAILLE","IZIA","MI","F","081051","081051","COMP"]
[2469564,"GUY","MATTEO","MI","M","081052","081052","COMP"]
[2469935,"VORON PIROLA","MARION","MI","F","030003","030003","COMP"]
[2470051,"MAZIN","ALBAN","MI","M","009001","009001","COMP"]
[2470135,"DUMOULIN","BLANCHE","MI","F","012005","012005","COMP"]
[2470243,"VIALAR","CLEMENCE","MI","F","081017","081017","COMP"]
[2470748,"PAYET","ELLIOT","MI","M","034473","034473","COMP"]
[2471545,"CENDRE","JOFREY","BE","M","082014","082014","COMP"]
[2471940,"GARY-CLAMENS","LEO","MI","M","009011","009011","COMP"]
[2471981,"MOUTMIR","RADIA","BE","F","031050","031050","COMP"]
[2472027,"GERONIMI","ESTEBAN","BE","M","031050","031050","COMP"]
[2472047,"ROUX","ALEXIS","BE","M","030040","030040","COMP"]
[2472196,"GODAY-MONZA","VALENTINA","MI","F","031050","031050","COMP"]
[2472502,"DUPARCHY","MANON","BE","F","081048","081048","COMP"]
[2472602,"TELINHOS-CORDEBOEUF","LOU","BE","F","066027","066027","COMP"]
[2472725,"STOREZ","ELISE","MI","F","012013","012013","COMP"]
[2472741,"BIBAL","JULES","BE","M","012013","012013","COMP"]
[2473054,"CAZES ZONTA","LOUISE","BE","F","031003","031003","COMP"]
[2473068,"FONTEBASSO","CHIARA","BE","F","031003","031003","COMP"]
[2473123,"IRDOR-FAULA","MAEVA","MI","F","031003","031003","COMP"]
[2473660,"CHOMAUD","CLAIRE","BE","F","034072","034072","COMP"]
[2473771,"DOUCOURE","NINA","MI","F","066027","066027","COMP"]
[2473775,"COQUET","CLEMENT","BE","M","034058","034058","COMP"]
[2473783,"CONSTANT","TIMEE","BE","M","066027","066027","COMP"]
[2473951,"FOGELGESANG-CAUVY","AURE","MI","F","012002","012002","COMP"]
[2474126,"RODRIGUEZ","JEAN","MI","M","031022","031022","COMP"]
[2474154,"PAU AZNAR","TIDJAH","MI","M","031022","031022","COMP"]
[2474179,"MARIS","LOLA","MI","F","065027","065027","COMP"]
[2474435,"MERLE","PHILOMENE","MI","F","048006","048006","COMP"]
[2474440,"SERRUYS","EYTAN","MI","M","048003","048003","COMP"]
[2474452,"GIORDANENGO","LENA","MI","F","048006","048006","COMP"]
[2474462,"SEGUR","THIBAULT","MI","M","048003","048003","COMP"]
[2474541,"PENNOGNON","CAMILLE","MI","F","031025","031025","COMP"]
[2474555,"BELAHCEN","MOHAMED","BE","M","012018","012018","COMP"]
[2474953,"BARLIER","JANELLE","MI","F","065012","065012","COMP"]
[2474997,"DEVILE","ELSA","MI","F","065012","065012","COMP"]
[2475338,"TRANIER","LOIS","MI","M","081054","081054","COMP"]
[2475373,"JEAN-BLASZYK","ARTHUR","MI","M","034072","034072","COMP"]
[2475438,"CUPIT","MAELY","BE","F","065006","065006","COMP"]
[2475477,"ORLIAC","LOUISE","MI","F","034072","034072","COMP"]
[2475543,"HARTMANN","LORYS","MI","M","031022","031022","COMP"]
[2475722,"DIARIAN","ALEXIS","BE","M","030004","030004","COMP"]
[2475773,"ESSERMEANT","CHARLIE","BE","M","034064","034064","COMP"]
[2475815,"LAJUGIE","LYCIA","MI","F","031025","031025","COMP"]
[2475823,"ALLIROL","DIVINA","BE","F","034062","034062","COMP"]
[2475922,"KOCH","MILA","BE","F","031025","031025","COMP"]
[2475945,"EHRHARD","LUCIE","BE","F","034064","034064","COMP"]
[2475946,"EHRHARD","ELISA","BE","F","034064","034064","COMP"]
[2475998,"FRENAY","KAYLIAH","MI","F","031022","031022","COMP"]
[2476027,"PERRON","CAMILLE","BE","F","031022","031022","COMP"]
[2476052,"ROLAND GOSSELIN","ELIOTT","MI","M","031022","031022","COMP"]
[2476231,"MARQUET","ALEXIS","BE","M","031025","031025","COMP"]
[2476262,"LECOEUR","CASSIOPEE","MI","F","034021","034021","COMP"]
[2476293,"PERISSE","GIULIA","BE","F","034021","034021","COMP"]
[2476308,"BERTHAUD","EMIE","MI","F","034021","034021","COMP"]
[2476656,"MERIEUX","NOLA","MI","F","048007","048007","COMP"]
[2476663,"PIGEON-LE BERRIER","MINO","MI","M","048007","048007","COMP"]
[2476673,"DURAND","AMBRE","BE","F","048007","048007","COMP"]
[2476716,"MEYER","JULIA","MI","F","030003","030003","COMP"]
[2476893,"JOANDEL","LENA","BE","F","030021","030021","COMP"]
[2476911,"QUEHAN","CLEMENTINE","MI","F","031046","031046","COMP"]
[2476988,"DESOEUVRE","CALIE","BE","F","031004","031004","COMP"]
[2477008,"TRANCHANT","NOAH","BE","M","031004","031004","COMP"]
[2477140,"VASSE","LOUISON","MI","M","030008","030008","COMP"]
[2477859,"TEYSSEDRE","ROMANE","MI","F","046012","046012","COMP"]
[2477914,"RICHARD","LOUISE","BE","F","046012","046012","COMP"]
[2477918,"RICHARD","CHLOE","BE","F","046012","046012","COMP"]
[2477925,"JONES","JEREMY","MI","M","046012","046012","COMP"]
[2477946,"CHINGAN","YALHISAI","MI","F","048006","048006","COMP"]
[2478038,"LEONARD","GABRIEL","BE","M","009011","009011","COMP"]
[2478474,"THIERRY ROUSSOT","MAXIME","BE","M","031004","031004","COMP"]
[2478713,"DAUMAS","ANAELLE","MI","F","030067","030067","COMP"]
[2478718,"ROUXEL","ANATOLE","MI","M","030008","030008","COMP"]
[2478726,"DAYDE","LILY","MI","F","066028","066028","COMP"]
[2478911,"DOMINGUEZ","SANDRO","BE","M","034069","034069","COMP"]
[2479049,"DECAEN","LINAA","BE","F","031003","031003","COMP"]
[2479288,"CAUSSIGNAC","MATHILDE","MI","F","031025","031025","COMP"]
[2479333,"VIGIER","ALISEE","MI","F","048006","048006","COMP"]
[2479335,"LORDIER","MATHY","MI","M","048003","048003","COMP"]
[2479349,"CRUVEILLER-GRELICHE","LOUISE","MI","F","048006","048006","COMP"]
[2479589,"RECORDIER","ELEONORE","BE","F","065012","065012","COMP"]
[2479679,"CASTANY","LORENZO","MI","M","066006","066006","COMP"]
[2479771,"DAUZATS","LUNA","BE","F","081017","081017","COMP"]
[2479845,"MALAVIALLE DURAND","ETHAN","BE","M","031025","031025","COMP"]
[2479913,"FOLKERS","JACQUES","MI","M","031056","031056","COMP"]
[2479928,"JANVIER","ETHAN","BE","M","066028","066028","COMP"]
[2479941,"BILLES","MATEO","MI","M","066028","066028","COMP"]
[2479951,"BOYER","SASCHA-DOAN","MI","M","066028","066028","COMP"]
[2479956,"ZERROUK","MARYEM","BE","F","066028","066028","COMP"]
[2480230,"DUBOSC","ROMAIN","BE","M","065017","065017","COMP"]
[2480244,"HENTRY","JOSSUA","MI","M","065017","065017","COMP"]
[2480328,"BESLIU","MARINA","MI","F","066027","066027","COMP"]
[2480792,"GAVET","TITOUAN","MI","M","034066","034066","COMP"]
[2480866,"MOLINA","MAELE","MI","F","030018","030018","COMP"]
[2480874,"LEFEBVRE","NOEMIE","MI","F","034066","034066","COMP"]
[2480955,"CAMILLERAPP","CAPUCINE","MI","F","034066","034066","COMP"]
[2481217,"OSANNO","LOUKA","MI","M","082018","082018","COMP"]
[2481356,"ZUMAGLINI","SACHA","BE","M","030021","030021","COMP"]
[2481363,"FRANCE OLLIANG MENYE","THOMA","MI","M","081051","081051","COMP"]
[2481377,"RISEROLE","PERINE","BE","F","066027","066027","COMP"]
[2481444,"FIRMIN","LENA","MI","F","081051","081051","COMP"]
[2481749,"ORFILA","AMANDINE","MI","F","030060","030060","COMP"]
[2481767,"FERRACUTI","RAFFAELE","BE","M","034064","034064","COMP"]
[2481981,"BURNS","CHLOE-GRACE","MI","F","031004","031004","COMP"]
[2482150,"CAZALS","FLAVIE","BE","F","081043","081043","COMP"]
[2482444,"JOLY","ROMANE","BE","F","034065","034065","COMP"]
[2482473,"HERRERO","CHARLIE","BE","M","034065","034065","COMP"]
[2482500,"POIRIER","ANAIS","MI","F","048006","048006","COMP"]
[2482841,"ROUTELOUS","NATACHA","MI","F","065017","065017","COMP"]
[2482947,"SAAD","VICTORIA","BE","F","031025","031025","COMP"]
[2483654,"GALLIGANI","MALENA","BE","F","030021","030021","COMP"]
[2483837,"SOLE","MORGAN","BE","M","011022","011022","COMP"]
[2484324,"KONTOUKAS","SOLAL","MI","M","030004","030004","COMP"]
[2484372,"COLIN","ELOANE","MI","F","081017","081017","COMP"]
[2484484,"BARRE","AYMERIC","MI","M","046012","046012","COMP"]
[2484551,"BARBE","MARTIN","BE","M","012002","012002","COMP"]
[2484588,"ALAOUI","MELYNE","MI","F","012002","012002","COMP"]
[2484811,"RAILLANI LAARIBJ","TAHAR","BE","M","034062","034062","COMP"]
[2484813,"CHEVTCHENKO","SASKIA","MI","F","034062","034062","COMP"]
[2484818,"OULHAJ","ANASS","BE","M","034062","034062","COMP"]
[2484821,"OULHAJ","ILYAS","MI","M","034062","034062","COMP"]
[2484853,"DA CUNHA","LINDA","BE","F","011001","011001","COMP"]
[2484968,"GINESTET","KYRIAN","MI","M","012018","012018","COMP"]
[2484987,"TASSIN","ETHAN","BE","M","011016","011016","COMP"]
[2485040,"DAUNOIS","HELOISE","MI","F","031022","031022","COMP"]
[2485150,"POITE","LOUANN","BE","F","031050","031050","COMP"]
[2485241,"DEBBAGHI","DANYA","MI","F","030003","030003","COMP"]
[2485264,"LE BELLEC","TILIO","BE","M","066037","066037","COMP"]
[2485279,"CARDINAL-CARBOU","LEONIE","MI","F","066037","066037","COMP"]
[2485684,"MACADRE","LIAM","BE","M","065027","065027","COMP"]
[2485735,"JEREMITA","LIVIO","BE","M","066037","066037","COMP"]
[2485758,"SERVAT-BOULET","LILY","MI","F","066037","066037","COMP"]
[2485892,"BENISSAN","OLIVIA","BE","F","012003","012003","COMP"]
[2485894,"MIR","CLEMENCE","MI","F","012013","012013","COMP"]
[2486045,"BODOC","THEO","BE","M","081021","081021","COMP"]
[2486059,"TOSATTO","MARIUS","BE","M","081021","081021","COMP"]
[2486092,"FOCHESATO","CHLOE","BE","F","081021","081021","COMP"]
[2486121,"GAUTIER","MARTIN","BE","M","034064","034064","COMP"]
[2486634,"MCINTOSH","SHERILYN","MI","F","031050","031050","COMP"]
[2486655,"CAZAJOUS","TESSA","MI","F","031050","031050","COMP"]
[2486814,"JACQUET","JOY","BE","F","030021","030021","COMP"]
[2486940,"EL GUEDDARI","SARAH","BE","F","031039","031039","COMP"]
[2486973,"MOUREN PROVENSAL","MATTHEO","BE","M","031039","031039","COMP"]
[2487016,"MYTSAK","NIKITA","BE","M","031004","031004","COMP"]
[2487059,"AREGUI","CLEMENT","BE","M","031004","031004","COMP"]
[2487628,"BENNANE","SARA","BE","F","034073","034073","COMP"]
[2487796,"DE-OLIVERA","EVA","MI","F","031003","031003","COMP"]
[2487800,"ALONSO","DJESSIM","MI","M","011016","011016","COMP"]
[2488164,"AUBER DEBELLE","ALEXANDRE","MI","M","046008","046008","COMP"]
[2488604,"ENNAHAS ABDELLAOUI","ILYAS","MI","M","034066","034066","COMP"]
[2489013,"LENTGEN","LISON","BE","F","034068","034068","COMP"]
[2489033,"USUZAWA","NOA","BE","M","034068","034068","COMP"]
[2489038,"VERNEY","ANTONIN","MI","M","034068","034068","COMP"]
[2489154,"GASPA","CHARLINE","BE","F","032002","032002","COMP"]
[2489161,"AUBINEAU","LOUANE","MI","F","081047","081047","COMP"]
[2489204,"MAS","NATHAN","BE","M","081047","081047","COMP"]
[2489261,"HERY-LEMERLE","MALO","MI","M","081047","081047","COMP"]
[2489590,"DOUMERC","ANGELE","BE","F","031025","031025","COMP"]
[2490063,"ANTHELME","FELIX","BE","M","034068","034068","COMP"]
[2490082,"CHEVET","ZOE","BE","F","034055","034055","COMP"]
[2490103,"LUGAGNE DELPON","NICOLAS","MI","M","034066","034066","COMP"]
[2490362,"MORENO","IRIS","BE","F","032002","032002","COMP"]
[2490701,"PEROT","JOWAN","BE","M","065017","065017","COMP"]
[2490888,"BIDAL","RIDA","BE","M","065012","065012","COMP"]
[2491204,"DOS RAMOS CORREIA","ANGELINA","BE","F","065006","065006","COMP"]
[2491280,"PHILIPON CAZALIS","AGATHE","BE","F","030059","030059","COMP"]
[2491506,"AMBIT","MAIANA","MI","F","065012","065012","COMP"]
[2491797,"GARIBAL","MAELLE","MI","F","065005","065005","COMP"]
[2491914,"TOURE","RAYANE","MI","M","031042","031042","COMP"]
[2492020,"BENZINA","ILIANA","BE","F","081062","081062","COMP"]
[2492196,"FILLERON","SIMON","BE","M","034066","034066","COMP"]
[2492504,"MASSON","ROMAIN","MI","M","034065","034065","COMP"]
[2492517,"NJAH MANENS","JADE","BE","F","081017","081017","COMP"]
[2492731,"ESTINGOY","EUGENIE","MI","F","031012","031012","COMP"]
[2492740,"SERRATO","SEBASTIAN","MI","M","031012","031012","COMP"]
[2492776,"MOUTAOUAKIL","SALMA","BE","F","030003","030003","COMP"]
[2492804,"NEKOUL-CHERUBINI","LOUIS","MI","M","034064","034064","COMP"]
[2492831,"ALBRIZIO","JULIA","MI","F","030003","030003","COMP"]
[2492887,"BARA","WAYAN","MI","M","034069","034069","COMP"]
[2492956,"MICHEL","LILY-ROSE","MI","F","011022","011022","COMP"]
[2493002,"TOURE","KEVIN","MI","M","030008","030008","COMP"]
[2493026,"DIETTE-BLAS","NILS","MI","M","031046","031046","COMP"]
[2493441,"DOMINGUEZ","MELISANDE","MI","F","048007","048007","COMP"]
[2493978,"NEUNGOUE","LILIAN","BE","M","031012","031012","COMP"]
[2494559,"BONNET","CLEMENT","BE","M","081043","081043","COMP"]
[2494703,"SANSANO","ROBIN","BE","M","048004","048004","COMP"]
[2494713,"GALESNE","THEO","BE","M","048004","048004","COMP"]
[2494716,"PHOTHIRATH","CASPIAN","BE","M","048004","048004","COMP"]
[2494835,"CLAUS","MIA","BE","F","082018","082018","COMP"]
[2494982,"BARRANDON","MILA","BE","F","030003","030003","COMP"]
[2495349,"BARNADES","MARTIN","BE","M","066037","066037","COMP"]
[2495424,"EL OUADRHIRI","LINA","BE","F","030021","030021","COMP"]
[2495476,"LAGALY","JULIETTE","MI","F","031063","031063","COMP"]
[2495481,"NGANGA MBATA","KIMIA","MI","F","031063","031063","COMP"]
[2495491,"GUILLEMIN-ALIX","ELISE","MI","F","031063","031063","COMP"]
[2495495,"FONTANET","NINA","MI","F","031063","031063","COMP"]
[2495890,"KANFOUH","NARCISSE","BE","M","034066","034066","COMP"]
[2495899,"CHALMETON","ANDJALY","MI","F","034066","034066","COMP"]
[2495907,"COUSSY","PHILEMON","BE","M","034066","034066","COMP"]
[2495933,"MILLOCHAU","GABIN","MI","M","034066","034066","COMP"]
[2496064,"LARRIEU","EMMA","MI","F","031003","031003","COMP"]
[2496066,"MATHARAN","AGATHE","MI","F","065005","065005","COMP"]
[2496218,"SIMON","LAURA","MI","F","066003","066003","COMP"]
[2496365,"PEICHOT","CAMILLE","BE","F","081052","081052","COMP"]
[2496433,"COUDRAY","LOUANN","BE","F","031004","031004","COMP"]
[2497185,"THIEFFINNE","QUENTIN","MI","M","034457","034457","COMP"]
[2497910,"LAMTIRI","INAYA","BE","F","030040","030040","COMP"]
[2497920,"ROMIEU","LOUISE","BE","F","030008","030008","COMP"]
[2498699,"BOUBEE","EMY","BE","F","031008","031008","COMP"]
[2499028,"LECLERC","MAILYS","BE","F","030018","030018","COMP"]
[2499122,"SALEILLES","JULIE","BE","F","030018","030018","COMP"]
[2499379,"BOUDASSOU","LEONIE","BE","F","065027","065027","COMP"]
[2499435,"LAFON","TEO","MI","M","012013","012013","COMP"]
[2499795,"DAVIN-DURAND","MARGOT","BE","F","034068","034068","COMP"]
[2499865,"CAUSSE","THOMAS","MI","M","048007","048007","COMP"]
[2500000,"EHRHARD","ANAIS","MI","F","034064","034064","COMP"]
[2500153,"BOURGADE","CORENTIN","MI","M","048004","048004","COMP"]
[2500155,"RENON","MAEL","BE","M","048004","048004","COMP"]
[2500224,"BOUSQUET","OCEANE","MI","F","012018","012018","COMP"]
[2500619,"PRATO","CELYA","MI","F","034454","034454","COMP"]
[2501056,"ACOSTA DEMARCO","FLORENCIA","MI","F","066031","066031","COMP"]
[2501062,"MARATIER","LISA","BE","F","066031","066031","COMP"]
[2501063,"MARATIER","CLOE","BE","F","066031","066031","COMP"]
[2501065,"TURRADO","LILLY","BE","F","066031","066031","COMP"]
[2501154,"DUFRESNE","ARTHUR","BE","M","034021","034021","COMP"]
[2501246,"BILLOTTE","AMBRE","MI","F","034066","034066","COMP"]
[2501300,"EL GHAZA","YASMINE","MI","F","034038","034038","COMP"]
[2501671,"TRINQUIER BAUER","MALIK","MI","M","082014","082014","COMP"]
[2501716,"FAURE","ROMANE","MI","F","011022","011022","COMP"]
[2502083,"COUTAUDIER","SOLENE","MI","F","081056","081056","COMP"]
[2502497,"DAMBRIN","MATHILDE","MI","F","030004","030004","COMP"]
[2503125,"CASANO","CASSY","BE","F","030004","030004","COMP"]
[2504079,"WOLFF","JUDY","MI","F","046012","046012","COMP"]
[2504124,"VALLA","EUGENIE","BE","F","046012","046012","COMP"]
[2504126,"GUYOMAR","LOU","MI","F","046012","046012","COMP"]
[2504746,"GILLAIZEAU","GUSTAVE","MI","M","012013","012013","COMP"]
[2504875,"LHERMITTE","SIMEON","MI","M","031003","031003","COMP"]
[2506706,"ISSELIN","LUCAS","BE","M","066003","066003","COMP"]
[2507701,"PEREZ LEON","GAIA","BE","F","066006","066006","COMP"]
[2507758,"RICARDO","TCHAVOLI","BE","M","082014","082014","COMP"]
[2507766,"STEINBACH","YLENZO","MI","M","082014","082014","COMP"]
[2507884,"FRUCHARD","LEA","BE","F","065005","065005","COMP"]
[2508027,"CANNESSON-AUBEL","MILAN","MI","M","081043","081043","COMP"]
[2508181,"COGOLUEGNES","ALYCIA","MI","F","048008","048008","COMP"]
[2508183,"FAGES","CALI","BE","F","048008","048008","COMP"]
[2508450,"DION","ALIETOBONOU ELSA","MI","F","046012","046012","COMP"]
[2508452,"BOURGEOIS","JULIE","MI","F","046012","046012","COMP"]
[2508552,"ALLAOUI","SAMUEL","BE","M","031025","031025","COMP"]
[2508575,"DENIS","HUGO","MI","M","034062","034062","COMP"]
[2508700,"GALTIER","LANA","MI","F","048008","048008","COMP"]
[2508711,"LEGENDRE","LUCIE","MI","F","048008","048008","COMP"]
[2508910,"MOSTEFA-HAMOU","KAHIS","BE","M","034058","034058","COMP"]
[2509027,"CEPIERE","LILOU","MI","F","012005","012005","COMP"]
[2509039,"BENABDELMOUMENE","WISSENE","MI","F","030004","030004","COMP"]
[2509138,"JOURNET-FERNANDEZ","ALOIS","BE","M","011001","011001","COMP"]
[2509163,"COULOUMY","NINHO","BE","M","034021","034021","COMP"]
[2509190,"BOUIS","OCEANE","MI","F","034064","034064","COMP"]
[2509337,"DERVILLE","SIXTINE","BE","F","031010","031010","COMP"]
[2509357,"BENAKHLA","IMANE","MI","F","034072","034072","COMP"]
[2509453,"DEKIOUS","MEDINE","BE","M","034012","034012","COMP"]
[2509486,"CHAUVET","LUCIEN","BE","M","030059","030059","COMP"]
[2509493,"FAUGER","ASTON","BE","M","066003","066003","COMP"]
[2509500,"LABORDE LACROUTS","LOUIS","MI","M","081056","081056","COMP"]
[2509504,"FERRAND","MALONY","MI","F","081056","081056","COMP"]
[2509743,"STESSELS","ADRIEN","BE","M","034476","034476","COMP"]
[2509788,"MONTIALOUX","ENZO","MI","M","048008","048008","COMP"]
[2509791,"MOURGUES","LUNA","MI","F","048008","048008","COMP"]
[2509793,"PAGES","REMY","MI","M","048008","048008","COMP"]
[2509917,"ROMAN","VALENTIN","MI","M","048004","048004","COMP"]
[2510238,"MIDON","ANTONIN","MI","M","048008","048008","COMP"]
[2510641,"BALDE","DIENABOU","MI","F","034066","034066","COMP"]
[2511459,"CHARRUAT-LARDENOIS","LOUNA","MI","F","012003","012003","COMP"]
[2511618,"VILETTE","JUSTINE","BE","F","081052","081052","COMP"]
[2511879,"DEGARDIN","ZELY","BE","F","081047","081047","COMP"]
[2512190,"MARTIN DULOUT","TITOAN","BE","M","065004","065004","COMP"]
[2512368,"AUGIER","MARIE","MI","F","034062","034062","COMP"]
[2512818,"DESPOTOVIC","MILA","BE","F","034066","034066","COMP"]
[2512942,"CAYLA","EVAN","MI","M","012003","012003","COMP"]
[2513274,"RAYNAUD","VICTOR","MI","M","031001","031001","COMP"]
[2513276,"RAYNAUD","HELOISE","BE","F","031001","031001","COMP"]
[2513429,"VALETTE","LIZZIE","BE","F","048007","048007","COMP"]
[2513507,"LARGILLIERE","DAPHNE","BE","F","066003","066003","COMP"]
[2514406,"VALENTIN","EMMA","MI","F","034058","034058","COMP"]
[2514412,"MEOCHIVE","KAYS","BE","M","031008","031008","COMP"]
[2514444,"PRATX","GREGOIRE","BE","M","066027","066027","COMP"]
[2514991,"BONNARD","BAPTISTE","MI","M","082017","082017","COMP"]
[2515464,"PAES","JOHANA","MI","F","066027","066027","COMP"]
[2515901,"ADMI","SASHANA","BE","F","065012","065012","COMP"]
[2516650,"ACCO","LILI","MI","F","031025","031025","COMP"]
[2517053,"GUEZOU","FAUSTIN","MI","M","066028","066028","COMP"]
[2517562,"MAJZOUB","MAYA","MI","F","034066","034066","COMP"]
[2517716,"ACHAOUI","WALY-EDDINE","MI","M","009001","009001","COMP"]
[2517721,"PRADEILLES","ANAIS","MI","F","048008","048008","COMP"]
[2517842,"BUREN","TOM","BE","M","066027","066027","COMP"]
[2518236,"DUCLOS TEULIERES","ROMIE","BE","F","082018","082018","COMP"]
[2518457,"KAZMIERCZAK","EVA","BE","F","030004","030004","COMP"]
[2518581,"LEGROS","LYZ","MI","F","065012","065012","COMP"]
[2519061,"BORDE","LAURA","MI","F","065027","065027","COMP"]
[2519303,"JOVANYK","DIANE","BE","F","030021","030021","COMP"]
[2519304,"JOVANYK","VALERIE","BE","F","030021","030021","COMP"]
[2519506,"MUNABE KAMBALA","MAISHA","MI","F","030040","030040","COMP"]
[2519785,"EL KIHAL","MOHAMED-SABER","MI","M","030004","030004","COMP"]
[2520207,"SAOUDI","SARAH","MI","F","081017","081017","COMP"]
[2520852,"CHOUZENOUX","LILY","MI","F","030067","030067","COMP"]
[2520853,"CHOUZENOUX","ELIO","BE","M","030067","030067","COMP"]
[2520925,"BRAHIMI-ARNAUD","JADE","MI","F","030004","030004","COMP"]
[2520992,"BERTY","EVA","MI","F","031004","031004","COMP"]
[2521262,"BAZAUD","EMILIE","MI","F","031056","031056","COMP"]
[2521281,"OUEDRAOGO-GUERRINI","JULES","MI","M","034068","034068","COMP"]
[2521386,"MONGENIE","LYZE","MI","F","082014","082014","COMP"]
[2521402,"SARZIER","ZITA","BE","F","031003","031003","COMP"]
[2521879,"BODEREAU","KAYLIAH","MI","F","034055","034055","COMP"]
[2522111,"DESROCHES","JADE","MI","F","066003","066003","COMP"]
[2523702,"DAFFE","OUMAR","MI","M","081048","081048","COMP"]
[2524122,"GALTIER","MARTIN","MI","M","048008","048008","COMP"]
[2524203,"PARAYRE","MAEL","BE","M","048008","048008","COMP"]
[2524556,"ALAUZE","LEOPOLDINE","MI","F","012003","012003","COMP"]
[2524758,"JULIOT-LEFEBVRE","LOLA","BE","F","030067","030067","COMP"]
[2524886,"CHOMARAS","SIALYNN","MI","F","030004","030004","COMP"]
[2525161,"VEGA","ANA","MI","F","011001","011001","COMP"]
[2525162,"BEC--OPIC","CHLOE","MI","F","011001","011001","COMP"]
[2525367,"BEN HAMI","WALID","BE","M","034062","034062","COMP"]
[2526632,"SCHIESTE","LANA","MI","F","066003","066003","COMP"]
[2526842,"SARRALDE PUYSSEGUR","LUCAS","MI","M","031004","031004","COMP"]
[2527252,"LAMCHALHAB","MAISSA","BE","F","082014","082014","COMP"]
[2527331,"BURLOT","CHEMSYA","MI","F","030008","030008","COMP"]
[2527502,"DHAINAUT","AMBRE","BE","F","034476","034476","COMP"]
[2528274,"KONTOU GILLY","MAILYS","BE","F","030059","030059","COMP"]
[2528460,"ESTINGOY","EMILIEN","MI","M","031012","031012","COMP"]
[2529285,"ORSINGHER LO","MANON","BE","F","034072","034072","COMP"]
[2529504,"LUPI","ALESSANDRO","BE","M","034062","034062","COMP"]
[2529664,"BENCHIMOL","GABRIEL","MI","M","031050","031050","COMP"]
[2530499,"DELPRAT","CAMILLE","BE","F","031034","031034","COMP"]
[2530503,"VERRECCHIA","INES","MI","F","030008","030008","COMP"]
[2530717,"CAUBET","HUGO","BE","M","032002","032002","COMP"]
[2531455,"GAUDIN","LOUISE","BE","F","031043","031043","COMP"]
[2531456,"MCLEISH","AILA","BE","F","031043","031043","COMP"]
[2531457,"PUJOL","ROMY","MI","F","031043","031043","COMP"]
[2531458,"PORTET","INES","MI","F","031043","031043","COMP"]
[2531459,"FRANC","ROMANE","MI","F","031043","031043","COMP"]
[2531460,"COSTAMAGNA","LEA","MI","F","031043","031043","COMP"]
[2531513,"GAIN","CAMILLE","BE","F","031034","031034","COMP"]
[2531514,"DELPRAT","LOUISE","MI","F","031034","031034","COMP"]
[2531543,"OLIVE","ELSA","MI","F","031034","031034","COMP"]
[2531544,"KHADRI","CAMILLE","MI","F","031034","031034","COMP"]
[2531545,"POUESSEL","CLEMENCE","MI","F","031034","031034","COMP"]
[2531914,"BLANC-LOIBET","LENA","MI","F","065012","065012","COMP"]
[2531916,"DORDONNE","NOAH","BE","M","031043","031043","COMP"]
[2531961,"MORIN","SAMUEL","MI","M","081017","081017","COMP"]
[2532250,"ROSATI","EVA","BE","F","031025","031025","COMP"]
[2532384,"MORAIS","GABRIEL","BE","M","031062","031062","COMP"]
[2532567,"ANDLAUER","EMILIEN","MI","M","034036","034036","COMP"]
[2532722,"COHEN","ETHAN","BE","M","034066","034066","COMP"]
[2532801,"SAHRAOUI","WALIEDINE","BE","M","034066","034066","COMP"]
[2532802,"SAHRAOUI","MEISSA","MI","F","034066","034066","COMP"]
[2532917,"DELON","BASTIEN","BE","M","034038","034038","COMP"]
[2532969,"JULIEN","MATTHIEU","MI","M","012003","012003","COMP"]
[2532973,"MAZENQ","LAURINE","MI","F","012003","012003","COMP"]
[2532977,"DENAT","MAIANA","MI","F","031062","031062","COMP"]
[2532978,"HERBRETEAU","ALBANE","BE","F","031062","031062","COMP"]
[2532979,"STOFFELS","ROXANE","MI","F","031062","031062","COMP"]
[2533064,"ELGORRIAGA","GUILHEM","BE","M","031025","031025","COMP"]
[2533157,"DERUELLE","TYRON","BE","M","034066","034066","COMP"]
[2533161,"REVEL","ELIOTT","BE","M","034066","034066","COMP"]
[2533597,"ALONSO CAMPOS","LUNA","BE","F","031039","031039","COMP"]
[2533678,"COLOGNOLI","EMMA","BE","F","034066","034066","COMP"]
[2533717,"SERRI","ANNA","MI","F","031012","031012","COMP"]
[2533905,"ALEXANDRE","LOUISE","MI","F","031062","031062","COMP"]
[2534091,"LAUNE LABEYRIE","THEO","BE","M","034038","034038","COMP"]
[2534133,"WIDYNSKI","LANA","MI","F","011001","011001","COMP"]
[2534240,"POMMET","SOLENE","BE","F","031004","031004","COMP"]
[2534245,"LE GOURRIEREC","MARIANNE","BE","F","034066","034066","COMP"]
[2534258,"PODLIPSKI","PAUL-ALBERT","MI","M","031004","031004","COMP"]
[2534403,"BOURUT","NINO","BE","M","031042","031042","COMP"]
[2534695,"SCHIAVONE","MARIE-LOU","MI","F","012005","012005","COMP"]
[2534749,"CHEVILLOT","LISON","MI","F","081051","081051","COMP"]
[2534850,"DEEPOOA","RAYAN","BE","M","031004","031004","COMP"]
[2535262,"BOUCHONNET","LAURA","BE","F","065003","065003","COMP"]
[2535319,"LILLE CAUSERO","MARIE-SARAH","BE","F","031062","031062","COMP"]
[2535425,"LECOEUR","JULES","MI","M","034021","034021","COMP"]
[2535445,"BOURNIQUEL","JEANNE","MI","F","034457","034457","COMP"]
[2535457,"ALBERT","JUL","MI","M","034457","034457","COMP"]
[2535787,"BILOT","AUDRAN","BE","M","030004","030004","COMP"]
[2535829,"CHATILLON","ROSE","BE","F","065025","065025","COMP"]
[2536136,"LLOYD","LEON","BE","M","031025","031025","COMP"]
[2536185,"TUFFERY FOOT","ALBAN","BE","M","034066","034066","COMP"]
[2536260,"CLARAC","OCTAVE","MI","M","034066","034066","COMP"]
[2536306,"ALIPS","MAXENCE","BE","M","030067","030067","COMP"]
[2536362,"TRARIEUX","MATHILDE","BE","F","082017","082017","COMP"]
[2536364,"ALVES ARAUJO","TIAGO","BE","M","082017","082017","COMP"]
[2536445,"RANCOULE","EMMA","MI","F","031003","031003","COMP"]
[2536447,"BIECHE","JULES","BE","M","031003","031003","COMP"]
[2536639,"PAVANETTO","LOUIS","MI","M","082017","082017","COMP"]
[2536704,"ALAZARD","EMMY","BE","F","034012","034012","COMP"]
[2536903,"CHABERT","THEO","BE","M","012003","012003","COMP"]
[2536907,"RASCALOU","JULES","MI","M","012003","012003","COMP"]
[2537050,"BARRAU","NATHANAEL","MI","M","081048","081048","COMP"]
[2537116,"POZET","MARINE","BE","F","034036","034036","COMP"]
[2537128,"MENDRAS","LUCILLE","BE","F","034036","034036","COMP"]
[2537178,"NAVATEL-LEMIEUGRE","FANNY","MI","F","030067","030067","COMP"]
[2537210,"JAOUEN","LISA-ZOE","MI","F","031012","031012","COMP"]
[2537373,"AUGE CROUZET","ROXANNE","MI","F","065027","065027","COMP"]
[2537672,"PONS","ARMAND","BE","M","034038","034038","COMP"]
[2537768,"LETEURTRE","YLSEE","BE","F","034066","034066","COMP"]
[2537810,"MARTINEZ-OUDLOU","HODA","BE","F","034066","034066","COMP"]
[2537923,"MAUPREZ","NOEMIE","BE","F","034066","034066","COMP"]
[2538007,"KHAFIF MOLNAR","SOFIA","BE","F","066003","066003","COMP"]
[2538056,"ALMEDA-LECOCQ","CELIAN","MI","M","034038","034038","COMP"]
[2538057,"POMPIGNAT","EMMA","MI","F","034038","034038","COMP"]
[2538062,"ALLIO-BEAUVAIS","MILAN","BE","M","034038","034038","COMP"]
[2538130,"PINEAU","JOSEPHINE","BE","F","034066","034066","COMP"]
[2538161,"MARCELLIN","LUCIE","MI","F","034038","034038","COMP"]
[2538254,"GENSCH","LOUISE","MI","F","011001","011001","COMP"]
[2538338,"LABARTHE","ELISA","BE","F","031003","031003","COMP"]
[2538343,"BRAVO","ANABELLE","BE","F","031003","031003","COMP"]
[2538403,"VALERIO","ALYSSIA","BE","F","081062","081062","COMP"]
[2538437,"ANDREEV","PROKHOR","MI","M","081062","081062","COMP"]
[2538712,"PAMPHILE","JEANNE","MI","F","066003","066003","COMP"]
[2538727,"FAUCHART","ANNA","BE","F","066003","066003","COMP"]
[2538917,"EL BOUZIDI","ILYES","MI","M","031015","031015","COMP"]
[2538925,"CHARTIER","JULIETTE","MI","F","031015","031015","COMP"]
[2538939,"ARMANINI","JULES","BE","M","009011","009011","COMP"]
[2539057,"MONDET","MATHIS","BE","M","031015","031015","COMP"]
[2539303,"FELOUAH BERRIA","SERINE","BE","F","031015","031015","COMP"]
[2539439,"LABACI","EMILIE","BE","F","031025","031025","COMP"]
[2539468,"LAFFORGUE LARA","ALEX","BE","M","031015","031015","COMP"]
[2539472,"ROUQUET","ROMANE","MI","F","031025","031025","COMP"]
[2539475,"MQADMI BAALI","HIBA","BE","F","031015","031015","COMP"]
[2539482,"ROQUES","JULES","BE","M","031015","031015","COMP"]
[2539484,"MESSINE","ZOE","BE","F","032002","032002","COMP"]
[2539711,"FONSECA","VALENTIN","BE","M","081051","081051","COMP"]
[2539720,"BOSC","BAPTISTE","MI","M","081051","081051","COMP"]
[2539955,"AIT ALI","KINANE","BE","M","034038","034038","COMP"]
[2540008,"HARDIZI","AYA","BE","F","065012","065012","COMP"]
[2540009,"CANDE","CONSTANCE","MI","F","031039","031039","COMP"]
[2540056,"BIET","BASILE","BE","M","065012","065012","COMP"]
[2540081,"DEBONNET","HERMAN","BE","M","030008","030008","COMP"]
[2540087,"RIOS MORAN","NAISSYA","BE","F","034038","034038","COMP"]
[2540095,"VERNET","LENA","MI","F","030008","030008","COMP"]
[2540132,"BOUHAIBOULA","NAHIL","BE","M","030008","030008","COMP"]
[2540159,"RASSIER","CORALIE","MI","F","030069","030069","COMP"]
[2540262,"ICCA","LOUANN","MI","F","031034","031034","COMP"]
[2540547,"GAUTHIER","DARIA","BE","F","066003","066003","COMP"]
[2540604,"AIT EL KADI","ADAM","MI","M","034066","034066","COMP"]
[2540711,"CARCELLER","ELISA","BE","F","034457","034457","COMP"]
[2540902,"PEREZ MARCOU","SANDRO","BE","M","034062","034062","COMP"]
[2540961,"ANDRE-BALDIT","LEONIE","BE","F","030059","030059","COMP"]
[2541051,"BIGOU","HUGO","MI","M","031015","031015","COMP"]
[2541107,"ROGER","TAISS","MI","F","031015","031015","COMP"]
[2541168,"DARQUY","MATHILDE","BE","F","031043","031043","COMP"]
[2541243,"LEONI","MANON","BE","F","031042","031042","COMP"]
[2541457,"ZAMORA","TAO","BE","M","031039","031039","COMP"]
[2541460,"JUEN","LUCILLE","MI","F","046012","046012","COMP"]
[2541499,"ORVAIN","AXEL","BE","M","031062","031062","COMP"]
[2541738,"ESTEBE","MANON","MI","F","034064","034064","COMP"]
[2541832,"BARESCUT","EMMA","MI","F","034021","034021","COMP"]
[2542072,"GAUDEMARD","PAUL","BE","M","031012","031012","COMP"]
[2542096,"SIEBER DE CAZENAVE","IRIS","BE","F","031012","031012","COMP"]
[2542328,"TOSI","NATHAN","MI","M","030018","030018","COMP"]
[2542453,"AZZOUZ","YANICE","MI","M","082017","082017","COMP"]
[2542497,"MOURCET","VALENTINE","MI","F","082017","082017","COMP"]
[2542869,"VALETTE","GABRIEL","MI","M","081021","081021","COMP"]
[2543096,"CAMPE","GABRIEL","BE","M","081055","081055","COMP"]
[2543225,"CHAPUS","MAYOL","MI","M","034066","034066","COMP"]
[2543264,"PERNOT KONE","GLADYS","BE","F","034021","034021","COMP"]
[2543386,"GRANDU","LIYAH","MI","F","031043","031043","COMP"]
[2543480,"LAFONT","LALIE","MI","F","031003","031003","COMP"]
[2543499,"MARTINET","CHLOE","MI","F","031003","031003","COMP"]
[2543508,"CASSARD BRARDO","LUCIE","MI","F","031003","031003","COMP"]
[2543629,"CHOELDI","LEELOU","MI","F","034064","034064","COMP"]
[2543680,"VICENDO","ETHAN","MI","M","031035","031035","COMP"]
[2543771,"GAILLAC","ALEX","MI","M","082017","082017","COMP"]
[2543964,"POUZENC","EMILIE","MI","F","081048","081048","COMP"]
[2544001,"CATENACCI","ALESSANDRO","MI","M","081048","081048","COMP"]
[2544185,"AROCA","MAOLYA","MI","F","034038","034038","COMP"]
[2544241,"DIA","ALAN","BE","M","031043","031043","COMP"]
[2544356,"LEBLED","ENZO","MI","M","031004","031004","COMP"]
[2544361,"DJAKPA","KIMBERLY","MI","F","031004","031004","COMP"]
[2544377,"DE LA PANOUSE","ELEONORE","MI","F","031004","031004","COMP"]
[2544385,"GUINAND","EMMA","MI","F","031004","031004","COMP"]
[2544389,"DE GALZAIN","MAHAUT","MI","F","031004","031004","COMP"]
[2544396,"PULLES","MANON","MI","F","031004","031004","COMP"]
[2544401,"PARENT","VALENTINE","MI","F","031004","031004","COMP"]
[2544438,"PINOT-PEYRUSSE","ROMANE","MI","F","031004","031004","COMP"]
[2544440,"BILLOIS","COZETTE","MI","F","031004","031004","COMP"]
[2544469,"ALLAM","NAIL","MI","M","031004","031004","COMP"]
[2544477,"GRAULLE","JULIETTE","MI","F","031004","031004","COMP"]
[2544480,"GALAN","ZOE","BE","F","031063","031063","COMP"]
[2544495,"PASCAL","NATHAN","MI","M","031063","031063","COMP"]
[2544513,"LANCRY","GABRIEL","BE","M","034072","034072","COMP"]
[2544516,"LEGARNISSON","CHRISTELLE","BE","F","031063","031063","COMP"]
[2544535,"JOURDE","BASTIAN","MI","M","034066","034066","COMP"]
[2544546,"EL BAY","INES","MI","F","034066","034066","COMP"]
[2544554,"MOULAS","JULES","MI","M","031063","031063","COMP"]
[2544594,"ROZIS","GABRIEL","BE","M","032002","032002","COMP"]
[2544608,"LE BORGNE-RAULOT","ARTHUR","BE","M","032002","032002","COMP"]
[2544627,"MASSOL","AMANCE","MI","F","082017","082017","COMP"]
[2544638,"GINESTET","MATHILDA","BE","F","032002","032002","COMP"]
[2544949,"MACHINAL","AMBRE","MI","F","031063","031063","COMP"]
[2544951,"PLARD","THOMAS","BE","M","031063","031063","COMP"]
[2544991,"YHUEL","MELISSA","BE","F","034038","034038","COMP"]
[2545258,"TSCHAEN","LOUCAS","BE","M","009011","009011","COMP"]
[2545340,"NAHA","NAFIS","BE","M","034066","034066","COMP"]
[2545342,"BARELLA","CLEMENT","BE","M","032002","032002","COMP"]
[2545434,"CASBAS","MAEVA","MI","F","065012","065012","COMP"]
[2545486,"GENDREAU","GABRIEL","BE","M","031015","031015","COMP"]
[2545591,"DJABALLAH","LIAM","MI","M","065003","065003","COMP"]
[2545623,"SENTAGNE","SHAYNA","BE","F","065003","065003","COMP"]
[2545625,"BOUTA","LIAM","BE","M","011022","011022","COMP"]
[2545632,"LE GORREC","ELOUAN","MI","M","034474","034474","COMP"]
[2545683,"BRILLET","MORGANE","MI","F","011001","011001","COMP"]
[2545793,"DULYSSE","LOUISE","BE","F","031025","031025","COMP"]
[2545878,"BOUSQUET","ELISA","MI","F","031056","031056","COMP"]
[2546080,"BOUAZZI","SOFIANE","MI","M","034038","034038","COMP"]
[2546094,"SZYMCZAK","MARIE","BE","F","031003","031003","COMP"]
[2546147,"MAILLOT","ENOLA","MI","F","034038","034038","COMP"]
[2546200,"VICENTE","JULES","MI","M","034038","034038","COMP"]
[2546307,"GALIBERT","CHLOE","MI","F","081043","081043","COMP"]
[2546356,"RIGAL","MARTIN","BE","M","081043","081043","COMP"]
[2546398,"HERAIL","XAVIER","MI","M","031022","031022","COMP"]
[2546418,"MARROT","PAUL","MI","M","031062","031062","COMP"]
[2546658,"PAGES","GABIN","BE","M","031003","031003","COMP"]
[2546757,"PAILHES","ROSE","MI","F","034012","034012","COMP"]
[2546934,"LOUSTALOT","ELIOTT","BE","M","081017","081017","COMP"]
[2546958,"ZANELLATO","DORIANE","MI","F","031015","031015","COMP"]
[2547274,"DIABY","MOHAMED LAMINE","MI","M","082017","082017","COMP"]
[2547390,"DAENEKINDT","DELPHINE","MI","F","012005","012005","COMP"]
[2547697,"MOUSSAOUI","MONA","BE","F","031012","031012","COMP"]
[2548065,"DA SILVA","LYNA","MI","F","034062","034062","COMP"]
[2548166,"ORCHARD-GAY","ALEXANDRE","MI","M","031012","031012","COMP"]
[2548191,"LACROIX MELLIER","LAURA","BE","F","034457","034457","COMP"]
[2548459,"JALERAN","RAPHAEL","MI","M","031050","031050","COMP"]
[2548483,"DUMAS","PAUL","MI","M","031050","031050","COMP"]
[2548485,"CHAOUL","ALAIS","MI","F","031050","031050","COMP"]
[2548490,"DUMAS","MAYLA","MI","F","031050","031050","COMP"]
[2548610,"CADENE","CORENTIN","MI","M","066003","066003","COMP"]
[2548613,"DIARISSO","ALYAH","BE","F","066003","066003","COMP"]
[2548639,"LETOURNEUR","MANOA","BE","M","031001","031001","COMP"]
[2548744,"ABBACI","SOUMAYA","MI","F","030008","030008","COMP"]
[2548756,"ANDJOULI","CHELSY","BE","F","011001","011001","COMP"]
[2548772,"CARNET","LOIS","MI","M","030008","030008","COMP"]
[2548803,"EL AASRI","YOUMNA","BE","F","030008","030008","COMP"]
[2548843,"HUGOT-FREITAG","LILOU","MI","F","030008","030008","COMP"]
[2548850,"BLANCHON","MARTIN","MI","M","030008","030008","COMP"]
[2548885,"MENARD VIVIER","LANA","BE","F","034038","034038","COMP"]
[2548907,"BERTIN","LOU","MI","F","065012","065012","COMP"]
[2548935,"VAROQUI","ANAE","MI","F","081048","081048","COMP"]
[2548944,"MYRTHE","LISA","BE","F","081048","081048","COMP"]
[2549205,"GRAZIDE","GIULIA","BE","F","066003","066003","COMP"]
[2549218,"CABANNE","JUSTINE","MI","F","031004","031004","COMP"]
[2549236,"ADDECHE","GHANIA","MI","F","034021","034021","COMP"]
[2549238,"GANTOU","AXELLE","MI","F","031004","031004","COMP"]
[2549271,"ROBIC","GAELLE","MI","F","031004","031004","COMP"]
[2549297,"ARGENTIERE","GABRIELLE","MI","F","065027","065027","COMP"]
[2549396,"SANTOS","ELISA","BE","F","065012","065012","COMP"]
[2549405,"GAMBA","KELLY","BE","F","030018","030018","COMP"]
[2549427,"BOIS","JOSEPHINE","BE","F","065012","065012","COMP"]
[2549440,"JOUHRANI","NISRINE","MI","F","065012","065012","COMP"]
[2549657,"ZELLAMA","ENZO","BE","M","081053","081053","COMP"]
[2549699,"DA CUNHA","RAPHAEL","BE","M","034058","034058","COMP"]
[2549710,"MASSABUAU","FANNY","BE","F","034058","034058","COMP"]
[2549716,"NAIM","INES","MI","F","082017","082017","COMP"]
[2549746,"TONON","GAEL","MI","M","031003","031003","COMP"]
[2549847,"GIMENEZ","LOU","MI","F","034062","034062","COMP"]
[2549870,"CHAINEAU","MAELYS","MI","F","034062","034062","COMP"]
[2549927,"ASCHENDORF GROS","JANE","MI","F","034062","034062","COMP"]
[2549949,"WELZEL","JULINE","MI","F","034062","034062","COMP"]
[2550152,"BOUBAYA","NAELLE","BE","F","034454","034454","COMP"]
[2550163,"DAUM","LOUISE","MI","F","030003","030003","COMP"]
[2550293,"BOUTINAUD","MARIE","MI","F","031015","031015","COMP"]
[2550297,"PICOT DELEMOTTE","GAELLE","MI","F","030060","030060","COMP"]
[2550299,"VIDAL","AXEL","BE","M","011020","011020","COMP"]
[2550322,"KARMAOUI","ANAIS","MI","F","011020","011020","COMP"]
[2550333,"TINCU","FANNY","MI","F","066027","066027","COMP"]
[2550353,"HOTE","CLEMENCE","MI","F","030060","030060","COMP"]
[2550468,"RICAUD","KYLIAN","BE","M","081046","081046","COMP"]
[2550532,"LECLERC","MAELYS","MI","F","011001","011001","COMP"]
[2550918,"SOULIE","LYNN","BE","M","012008","012008","COMP"]
[2550952,"BERTIN","LOLA","MI","F","034064","034064","COMP"]
[2550979,"MIREBEAU","ENZA","MI","F","081051","081051","COMP"]
[2550996,"BAYCHERE","MELINA","BE","F","011020","011020","COMP"]
[2551027,"RABOU","NOURHANE","BE","F","034066","034066","COMP"]
[2551054,"BOUKIOUD KASPRZYK","EDEN","MI","F","034066","034066","COMP"]
[2551125,"BERNARD","EMMA","MI","F","030067","030067","COMP"]
[2551129,"BECAMEL","THEO","BE","M","030067","030067","COMP"]
[2551141,"GIOIA","SARAH","BE","F","031004","031004","COMP"]
[2551147,"THEVENET","IRIS","BE","F","031004","031004","COMP"]
[2551150,"AZALBERT FAIVRE","CHIARA","BE","F","031004","031004","COMP"]
[2551152,"DANCAUSSE","RAFAEL","BE","M","031004","031004","COMP"]
[2551158,"PORTET","EVA","BE","F","031004","031004","COMP"]
[2551160,"BACOUEL","ESTEBAN","BE","M","031004","031004","COMP"]
[2551162,"DUFOUR","LOU","BE","F","031004","031004","COMP"]
[2551166,"BOUHLALA","ILYAS","BE","M","031004","031004","COMP"]
[2551170,"LAVERGNE","GREGOIRE","BE","M","031004","031004","COMP"]
[2551173,"BEYT PETRIGNO","ANNA LEE","BE","F","031004","031004","COMP"]
[2551178,"COLOMBERA","CORENTINE","BE","F","081017","081017","COMP"]
[2551180,"BAUDRILLER","LILIBULLE","BE","F","031004","031004","COMP"]
[2551183,"CHAUMONT","MATHILDE","BE","F","031004","031004","COMP"]
[2551214,"ALTER","HUGO","BE","M","031022","031022","COMP"]
[2551222,"PEAN","VICTOIRE","MI","F","031022","031022","COMP"]
[2551227,"CESSES","LUCAS","BE","M","031062","031062","COMP"]
[2551229,"PEPE","MARIANINA","MI","F","030040","030040","COMP"]
[2551336,"KENMOGNE","LOUISE","BE","F","046012","046012","COMP"]
[2551348,"CANDE","IRINA","BE","F","031039","031039","COMP"]
[2551354,"PELLEAU","LILAS","BE","F","031062","031062","COMP"]
[2551423,"BRETECHER QUERE","ELYAN","BE","M","009002","009002","COMP"]
[2551539,"CHAUVET","ARTHUR","MI","M","031046","031046","COMP"]
[2551545,"FERROGALINI","GIORGIA","MI","F","031012","031012","COMP"]
[2551657,"BIE","MAEL","BE","M","031003","031003","COMP"]
[2551672,"DESERCES","CESAR","BE","M","065027","065027","COMP"]
[2551781,"JULLIA-VILLELA","LILY","BE","F","011020","011020","COMP"]
[2551835,"CIEPIELWSKI","VICTOR","BE","M","030040","030040","COMP"]
[2551868,"ZALMAT","JAWAD","BE","M","030040","030040","COMP"]
[2551870,"DEMMER","ENZO","MI","M","034012","034012","COMP"]
[2551872,"SIMON","LILLY","BE","F","034012","034012","COMP"]
[2551885,"KASSI","AYA","BE","F","030040","030040","COMP"]
[2551891,"CALANDRI","ANOUCK","MI","F","031046","031046","COMP"]
[2552224,"GRIBAUDO","NINA","MI","F","031056","031056","COMP"]
[2552248,"DELMAS","ELORA","BE","F","012003","012003","COMP"]
[2552612,"COLIN","LOLA","MI","F","034073","034073","COMP"]
[2552613,"VIVES","ROMAIN","MI","M","032002","032002","COMP"]
[2552628,"MOURGUES","OIHANA","MI","F","032002","032002","COMP"]
[2552636,"MAILLART","MARIANNE","MI","F","032002","032002","COMP"]
[2552768,"KOLKMAN","NIELS","BE","M","081047","081047","COMP"]
[2552961,"VIAU","LOLA","MI","F","082014","082014","COMP"]
[2553039,"MERCADIER","LAURA","BE","F","034066","034066","COMP"]
[2553298,"CHALAIN","KALAHANN","MI","F","031042","031042","COMP"]
[2553299,"ESTEBE","CELIA","MI","F","009001","009001","COMP"]
[2553306,"GOUJON","MATHYS","BE","M","009001","009001","COMP"]
[2553535,"DALLET","LEON","MI","M","031035","031035","COMP"]
[2553551,"MAUREL","ANTONY","MI","M","034064","034064","COMP"]
[2553556,"BATTISTUTA","JULES","BE","M","031035","031035","COMP"]
[2553557,"VIDALINC","MAEL","BE","M","034064","034064","COMP"]
[2553562,"HERVE LAFFONT","ZOE","BE","F","031035","031035","COMP"]
[2553689,"LOPES","ELSA","MI","F","030074","030074","COMP"]
[2553743,"BERTRAND","LILI","MI","F","030021","030021","COMP"]
[2553763,"FIEVET","YOUSRA","MI","F","034038","034038","COMP"]
[2553803,"BOYER","MARGAUX","MI","F","030074","030074","COMP"]
[2553835,"HUC","CLEMENCE","MI","F","081052","081052","COMP"]
[2553836,"VAUTOUR","SCARLETT","MI","F","031056","031056","COMP"]
[2553840,"REVELLO","ELENA","BE","F","081052","081052","COMP"]
[2553872,"BOUETARD","MARGAUX","MI","F","031056","031056","COMP"]
[2553875,"CYROT","MANON","BE","F","031056","031056","COMP"]
[2553893,"VICTOR","MATHILDE","BE","F","031056","031056","COMP"]
[2553899,"BRESSON","ALICE","BE","F","034072","034072","COMP"]
[2553907,"LE GOFF","LENA","BE","F","031056","031056","COMP"]
[2553923,"PANTALACCI-LORENZO","LOU","MI","F","031056","031056","COMP"]
[2554214,"LECUSSAN","LOUISE","BE","F","031042","031042","COMP"]
[2554240,"RIFA","FAUSTINE","BE","F","031004","031004","COMP"]
[2554251,"RASOA PIERMAY","MAEL","BE","M","031004","031004","COMP"]
[2554259,"LHERBET","SOLVEIG","BE","F","031004","031004","COMP"]
[2554279,"REBEYROL BRIMEUR","NOE","BE","M","081048","081048","COMP"]
[2554295,"MALOUM","KEVIN","BE","M","034036","034036","COMP"]
[2554422,"KEMPF","ALYSSA","BE","F","030067","030067","COMP"]
[2554424,"DUMOULIN","CHARLES","MI","M","012005","012005","COMP"]
[2554617,"BURET-BOCHAROV","KARL","BE","M","034038","034038","COMP"]
[2554693,"VIDAL","ELISE","MI","F","031056","031056","COMP"]
[2554707,"SAINT-MARTIN","LOLA","MI","F","031056","031056","COMP"]
[2554728,"VIGNA-LOBBIA","EMMA","MI","F","031056","031056","COMP"]
[2554796,"BLANC-GONNET","TOM","MI","M","065006","065006","COMP"]
[2554804,"GRAZIANO","DANELIA","MI","F","065006","065006","COMP"]
[2555057,"SERRE","ROMANE","MI","F","081017","081017","COMP"]
[2555059,"COMBES","LOUIS","MI","M","081017","081017","COMP"]
[2555061,"ANTUNES CIBA","KALIE","BE","F","081017","081017","COMP"]
[2555118,"CLARISSOU","ALBANE","MI","F","081017","081017","COMP"]
[2555119,"GAILLARD","SACHA","MI","M","081017","081017","COMP"]
[2555126,"MASSOL","NINO","BE","M","081017","081017","COMP"]
[2555344,"VIGNERAS","FAUSTINE","MI","F","046008","046008","COMP"]
[2555559,"GRASSET","LILA","BE","F","030004","030004","COMP"]
[2555861,"BRINGUIER","JUSTINE","MI","F","012018","012018","COMP"]
[2555982,"KEBABZA","NOHAM","BE","M","030004","030004","COMP"]
[2556185,"MASCRET","JOACHIM","BE","M","031025","031025","COMP"]
[2556223,"VOGUET","ALBANE","BE","F","082017","082017","COMP"]
[2556229,"GUILLOUD","OCEANE","BE","F","031015","031015","COMP"]
[2556234,"DECHESNE","MAELLE","MI","F","034021","034021","COMP"]
[2556242,"MAURIN","SOPHIE","MI","F","011001","011001","COMP"]
[2556352,"BOURDIEU","ANNA","BE","F","082017","082017","COMP"]
[2556365,"CHACON LAURENT","MORGAN","BE","M","011022","011022","COMP"]
[2556379,"VISENTIN","SARAH","MI","F","082017","082017","COMP"]
[2556429,"BERTRAND","CASSANDRA","BE","F","082017","082017","COMP"]
[2556649,"CALVET","LOLA","MI","F","031003","031003","COMP"]
[2556665,"COMTE","JANELLE","BE","F","031003","031003","COMP"]
[2556683,"KHALLOUQI","SYRINE","BE","F","031046","031046","COMP"]
[2556686,"CLAVE","ERWANN","BE","M","031046","031046","COMP"]
[2556690,"SGHIR POULLEAU","HANIA","MI","F","034021","034021","COMP"]
[2556739,"IBEN TAIB","MAISSA","BE","F","034038","034038","COMP"]
[2556822,"SECK","LYAM","BE","M","034066","034066","COMP"]
[2556870,"FABRE","LOLA","BE","F","009001","009001","COMP"]
[2556892,"BEAU","THOMAS","BE","M","081017","081017","COMP"]
[2556904,"CHAMAYOU","ROMANE","BE","F","081017","081017","COMP"]
[2556949,"MALEK","FARES ALI","MI","M","081051","081051","COMP"]
[2556956,"DAUZATS","JADE","MI","F","081053","081053","COMP"]
[2556975,"MALEK","CHERIFA JANANE","BE","F","081051","081051","COMP"]
[2556980,"BRAU","SIMON","BE","M","081043","081043","COMP"]
[2556994,"MADELAINE","KAYLA","MI","F","081043","081043","COMP"]
[2557051,"THIERS","ANDREA","BE","F","034457","034457","COMP"]
[2557160,"COUTRON","ROMANE","BE","F","034066","034066","COMP"]
[2557169,"PION","ANA-CLARA","MI","F","034066","034066","COMP"]
[2557175,"PARELLO","NOEMIE","BE","F","066003","066003","COMP"]
[2557204,"MATA","JOY","MI","F","034038","034038","COMP"]
[2557271,"DESNOUX","CELIA","MI","F","031043","031043","COMP"]
[2557319,"MOREAU-CALDANA","THOMAS","MI","M","030059","030059","COMP"]
[2557329,"BOUDET","ROMANE","MI","F","030059","030059","COMP"]
[2557335,"DENNING BECHIER","ALYSSA","MI","F","030059","030059","COMP"]
[2557365,"AREZKI","MELISSA","MI","F","030008","030008","COMP"]
[2557366,"SUDA RICHARD","ZOE","MI","F","030008","030008","COMP"]
[2557370,"RABIER","INES","BE","F","030008","030008","COMP"]
[2557409,"CHEUX","APOLLINE","MI","F","065012","065012","COMP"]
[2557513,"ZANNOUTI","NAWEL","MI","F","011022","011022","COMP"]
[2557527,"DAUDRUY","ANOUK","MI","F","011022","011022","COMP"]
[2557533,"LOPES DA SILVA","MONICA","BE","F","066006","066006","COMP"]
[2558193,"ADLI","WASSILA","BE","F","031015","031015","COMP"]
[2558218,"BREUZIN","MAEL","BE","M","031015","031015","COMP"]
[2558239,"VANTORRE","MATHIAS","MI","M","031015","031015","COMP"]
[2558326,"DEVISME","AMANDINE","MI","F","031001","031001","COMP"]
[2558364,"MAGGIONI","LISA","MI","F","032002","032002","COMP"]
[2558462,"MADI","ALIYA","BE","F","065012","065012","COMP"]
[2558483,"MADI","ROUWAIKA","MI","F","065012","065012","COMP"]
[2558501,"YEMBIT BOULE","PAUL-EMMANUEL","BE","M","081048","081048","COMP"]
[2558627,"MASSON","CELIA","MI","F","012011","012011","COMP"]
[2558637,"ROBERT TRUFFET","LILY","BE","F","030067","030067","COMP"]
[2558725,"GUET","AUGUSTIN","BE","M","031025","031025","COMP"]
[2558741,"ABDERRAHMANE","CHANO","MI","M","030008","030008","COMP"]
[2558824,"DELAUX","MADDIE","BE","F","031025","031025","COMP"]
[2558943,"COMTE","HIPPOLYTE","BE","M","082014","082014","COMP"]
[2559015,"PACOME NASSAR","LANA","BE","F","031012","031012","COMP"]
[2559166,"BECERRA LAHYANE","ADAM","BE","M","065006","065006","COMP"]
[2559184,"BAZIN","TINO","BE","M","081017","081017","COMP"]
[2559271,"GOUALLE DAGNAUD","ROSALIE","BE","F","032002","032002","COMP"]
[2559467,"ROBIN","EMMA","MI","F","082017","082017","COMP"]
[2559524,"FUCHS","ROMANE","MI","F","034066","034066","COMP"]
[2559528,"CORBIER","AUGUSTIN","MI","M","034038","034038","COMP"]
[2559542,"BAVEREL HATEM","RUBEN","BE","M","034066","034066","COMP"]
[2559588,"ZAMMERT","VICTORIA","BE","F","031012","031012","COMP"]
[2560101,"COSTALLAT","LYLOU","BE","F","065006","065006","COMP"]
[2560148,"SERY","ANOUK","MI","F","081048","081048","COMP"]
[2560234,"TOURNADRE","CAPUCINE","MI","F","048123","048123","COMP"]
[2560236,"TOURNADRE","ANOUCK","MI","F","048123","048123","COMP"]
[2560248,"RODRIGUEZ","ENZO","BE","M","009001","009001","COMP"]
[2560262,"HAGEGE","QUENTIN","MI","M","009001","009001","COMP"]
[2560267,"MIQUEL","LILY","MI","F","009001","009001","COMP"]
[2560485,"BALSIER","EDGAR","MI","M","034012","034012","COMP"]
[2560486,"TOUZET","CLARA","BE","F","034012","034012","COMP"]
[2560487,"COUTOUX","JULIETTE","BE","F","034012","034012","COMP"]
[2560714,"JIMENEZ","LISA","BE","F","009001","009001","COMP"]
[2560930,"AMAAOUCH","MARYAM","BE","F","081017","081017","COMP"]
[2560932,"SOUCHON TORAL","CYRIANE","MI","F","034058","034058","COMP"]
[2560989,"IMOULA","MARWA","BE","F","030040","030040","COMP"]
[2561091,"TONATI","VICTORIA","BE","F","031056","031056","COMP"]
[2561099,"CHARLES","HAILEY","MI","M","082017","082017","COMP"]
[2561103,"SILVA CRUZ","MARGARIDA","MI","F","082017","082017","COMP"]
[2561106,"SILVA CRUZ","GASPAR","MI","M","082017","082017","COMP"]
[2561214,"BASSOMPIERRE","OLYVIA","BE","F","012002","012002","COMP"]
[2561225,"CAILLEAU","AMBRE","BE","F","012002","012002","COMP"]
[2561232,"CHOUKROUNE","SARAH","BE","F","012002","012002","COMP"]
[2561265,"SCHUTT","HUGO","BE","M","012002","012002","COMP"]
[2561325,"NOUIOUATE","NADA","BE","F","034062","034062","COMP"]
[2561578,"SIDOBRE","EVAN","MI","M","066027","066027","COMP"]
[2561621,"FLAMANT","PAOLO","MI","M","011016","011016","COMP"]
[2561721,"JARNOLLE","ALICE","BE","F","031022","031022","COMP"]
[2561755,"COHEN","ALOIS","BE","M","081046","081046","COMP"]
[2562078,"RAYNAL BOO","ROMAIN","BE","M","012018","012018","COMP"]
[2562102,"OWONA","ZOE","BE","F","011001","011001","COMP"]
[2562305,"BADIMGA","WILLIAM","BE","M","048006","048006","COMP"]
[2562366,"ROBINET","LOUISE","BE","F","012005","012005","COMP"]
[2562447,"PUJOS LESPARRE","NOEMIE","BE","F","065006","065006","COMP"]
[2562457,"LAMY","SELENA","BE","F","030004","030004","COMP"]
[2562513,"DE DARDEL","NOEMIE","MI","F","009002","009002","COMP"]
[2562567,"JARREAULT","LISA","BE","F","081043","081043","COMP"]
[2562593,"JOSEPH MICHAUX","ALICE","BE","F","030059","030059","COMP"]
[2562605,"CHEVY BOURGAIN","MAHATMA","BE","M","066006","066006","COMP"]
[2562608,"BOISSIER","RAPHAEL","BE","M","030059","030059","COMP"]
[2562793,"THAREL MASSOT","LENA","MI","F","034062","034062","COMP"]
[2562818,"IDRISS","ABDANOUR","BE","M","034062","034062","COMP"]
[2563015,"BELLEC","ZOE","MI","F","034073","034073","COMP"]
[2563176,"VERGNEAUD","MAILYS","MI","F","031003","031003","COMP"]
[2563225,"DEVILLE","MAENCA","MI","F","031025","031025","COMP"]
[2563247,"TARRIUS","ALICE","MI","F","034062","034062","COMP"]
[2563279,"LE MOUELLIC","MARGOT","MI","F","048006","048006","COMP"]
[2563289,"ROUSSET","LOANE","BE","F","048006","048006","COMP"]
[2563306,"JOUIN","ELISA","BE","F","031007","031007","COMP"]
[2563307,"MICLAUS NAVARRO","ALEXANDRA","MI","F","048006","048006","COMP"]
[2563317,"BES","HELOISE","BE","F","031010","031010","COMP"]
[2563321,"DAZIN","NICOLAS","BE","M","031010","031010","COMP"]
[2563341,"TROUDE","LEON","BE","M","081051","081051","COMP"]
[2563349,"TAUPENAS","INES","BE","F","030021","030021","COMP"]
[2563440,"DUPERRON","YAEL","BE","F","081044","081044","COMP"]
[2563506,"MACIAS","ETHAN","BE","M","065027","065027","COMP"]
[2563555,"HELIOT","JOHANNE","MI","F","030021","030021","COMP"]
[2563564,"LABORIE","NOELIE","MI","F","034454","034454","COMP"]
[2563817,"GARAUD","STEPHAN","BE","M","031039","031039","COMP"]
[2563827,"HAVET","MATHEW","BE","M","031039","031039","COMP"]
[2563912,"GHERSALLAH","LUCE","MI","F","031025","031025","COMP"]
[2563923,"MONNIER","EDITH","MI","F","031025","031025","COMP"]
[2564049,"LAURANS","ELISE","MI","F","031025","031025","COMP"]
[2564202,"GARCIA","LOIS","BE","M","030008","030008","COMP"]
[2564376,"VALLETTA","VICTOIRE","MI","F","034021","034021","COMP"]
[2564384,"VIDALINC","EMMA","MI","F","031056","031056","COMP"]
[2564385,"VIDAL","ROMANE","MI","F","031056","031056","COMP"]
[2564400,"DJABALI","MYLO","MI","M","031056","031056","COMP"]
[2564402,"TERRISSON","MARGOT","MI","F","031056","031056","COMP"]
[2564408,"KADIRI OTTMANI","KENZA","MI","F","031056","031056","COMP"]
[2564412,"GUIGNARD","LEA","MI","F","031056","031056","COMP"]
[2564419,"VAZZOLER BORDES","CHARLOTTE","BE","F","031056","031056","COMP"]
[2564422,"COULONGES","AGATHE","BE","F","031056","031056","COMP"]
[2564476,"LEGORGEU-TOMAZ","NINON","MI","F","082017","082017","COMP"]
[2564490,"BABAUD DE MONVALLIER","ALIA","BE","F","030021","030021","COMP"]
[2564499,"BRUNO","CAMILLE","MI","F","034066","034066","COMP"]
[2564642,"FOLCHER","TONY","MI","M","030004","030004","COMP"]
[2564719,"POULET","DAYANE","MI","F","030004","030004","COMP"]
[2564753,"PICQ","LUKAS","BE","M","034065","034065","COMP"]
[2564874,"VIGNAL","CHARLOTTE","MI","F","030018","030018","COMP"]
[2564910,"AKLI","LOU","MI","F","030008","030008","COMP"]
[2565198,"CREDLAND","ROSE","BE","F","082014","082014","COMP"]
[2565261,"GUEDJ","NORAH","MI","F","034066","034066","COMP"]
[2565334,"MARTINEZ","PRESCILYA","BE","F","009001","009001","COMP"]
[2565345,"LAIMABLE-RICHEUX","MEYLISS","MI","F","034066","034066","COMP"]
[2565359,"KABOUS","JANIS","MI","F","081048","081048","COMP"]
[2565423,"DERRADJ","KAIS","BE","M","009001","009001","COMP"]
[2565457,"HAJJAJI","SARA","BE","F","031022","031022","COMP"]
[2565461,"ARANGO FACHON","PALOMA","MI","F","034066","034066","COMP"]
[2565471,"SZANTO","LASZLO","MI","M","034066","034066","COMP"]
[2565499,"ROUANET PHAM","CHLOE","MI","F","034066","034066","COMP"]
[2565509,"LEBLOIS","TAO","MI","M","034066","034066","COMP"]
[2565624,"BOULDOIRE","LENNY","MI","M","032014","032014","COMP"]
[2565881,"RAMOS","JULIETTE","MI","F","031039","031039","COMP"]
[2565897,"REY","MELOE","MI","F","031039","031039","COMP"]
[2566197,"BECERRA BRENGUES","CLARISSE","BE","F","034066","034066","COMP"]
[2566214,"KARSENTI","THOMAS","BE","M","034066","034066","COMP"]
[2566273,"TIMOTEI","ANAELLE","BE","F","031056","031056","COMP"]
[2566288,"BERTRAND","RAPHAEL","MI","M","031056","031056","COMP"]
[2566311,"GOURET","NORAH","MI","F","031025","031025","COMP"]
[2566831,"DEBUYSER","EMMY","BE","F","031025","031025","COMP"]
[2566910,"DUBUC","EMILIEN","BE","M","081055","081055","COMP"]
[2566912,"BOUZAT","EUGENIE","MI","F","012011","012011","COMP"]
[2566937,"VIMEL","TYA","MI","F","012011","012011","COMP"]
[2566966,"MENDOUSSE-BENOIT","AMELIE","MI","F","032002","032002","COMP"]
[2567055,"GUEFFIER","NORA","MI","F","032002","032002","COMP"]
[2567076,"FOLKERS","CHARLOTTE","BE","F","031056","031056","COMP"]
[2567092,"GRUNENWALD","MELISSE","MI","F","034073","034073","COMP"]
[2567209,"CORALLO","FLORIAN","BE","M","081047","081047","COMP"]
[2567263,"TOURNIER","AGATHE","BE","F","081047","081047","COMP"]
[2567279,"BARTHE","DIMITRI","BE","M","081047","081047","COMP"]
[2567328,"MAYRAND","LIA","MI","F","012003","012003","COMP"]
[2567594,"LEUGER","MICHEL","BE","M","081053","081053","COMP"]
[2567670,"CINCHETTI","RAPHAEL","MI","M","031003","031003","COMP"]
[2567767,"BOUSSEMART LHERMITTE","HUGO","BE","M","031046","031046","COMP"]
[2567785,"CALANDRI","SERENA","BE","F","031046","031046","COMP"]
[2568070,"AGUILLON","ALICE","MI","F","065003","065003","COMP"]
[2568098,"BRIANTI GAYE","GUILHEM","MI","M","065005","065005","COMP"]
[2568198,"PORTIER","ANOUCK","MI","F","009011","009011","COMP"]
[2568313,"FERTIL","NEILA","BE","F","066003","066003","COMP"]
[2568344,"LAVOL","MATEO","MI","M","030004","030004","COMP"]
[2568346,"SINOQUET","INES","BE","F","011001","011001","COMP"]
[2568472,"ABENOZA","NILS","BE","M","031050","031050","COMP"]
[2568557,"CHABBERT-INIGO","EMILIE","MI","F","031050","031050","COMP"]
[2568574,"JULLIEN","MARIUS","BE","M","034038","034038","COMP"]
[2568742,"ALARY","RAPHAEL","MI","M","081053","081053","COMP"]
[2568778,"LE BRAS","LUCAS","BE","M","031063","031063","COMP"]
[2568797,"BLANGY","ENOLA","MI","F","034038","034038","COMP"]
[2568825,"RAZON","RONAN","BE","M","034038","034038","COMP"]
[2568884,"FREU","MATHILDE","MI","F","066027","066027","COMP"]
[2568885,"SAHAKYAN","EMMI","MI","F","065003","065003","COMP"]
[2568942,"PONTABRY","JIVAN","BE","M","030021","030021","COMP"]
[2568964,"DE JESUS","CLOTILDE","BE","F","032002","032002","COMP"]
[2569007,"PUGNAIRE","SOLINE","MI","F","030008","030008","COMP"]
[2569162,"DUCLOS","MAELYS","BE","F","031003","031003","COMP"]
[2569204,"DIAITE","MAISSANE","BE","F","082014","082014","COMP"]
[2569207,"BOUCHEYOUKH-MARCHAL","TITOUAN","MI","M","082014","082014","COMP"]
[2569292,"NGUEMA OBAME VENDRELL","LEO","BE","M","034066","034066","COMP"]
[2569293,"CORREZE","ANAIS","MI","F","031046","031046","COMP"]
[2569333,"ROSSIGNOL","CHLOE","MI","F","081051","081051","COMP"]
[2569395,"DELNARD","EDSON","MI","M","081051","081051","COMP"]
[2569401,"CHIFFOLEAU","LOUISE","BE","F","034066","034066","COMP"]
[2569405,"CORPET-FERNANDES","MALO","MI","M","034066","034066","COMP"]
[2569409,"ALVES DE SA","LEO","MI","M","081051","081051","COMP"]
[2569415,"NOTTELET","ROMY","BE","F","034066","034066","COMP"]
[2569428,"BOURA","HAIMA","BE","F","081051","081051","COMP"]
[2569432,"MARIVOET","JO","BE","M","034066","034066","COMP"]
[2569442,"VAISSIERE","MELINE","BE","F","034066","034066","COMP"]
[2569448,"FIRMO","GABRIEL","MI","M","034066","034066","COMP"]
[2569455,"FELIX","MATIS","BE","M","030059","030059","COMP"]
[2569464,"PLA","ADELE","BE","F","034066","034066","COMP"]
[2569473,"COPIC ANTONNY","JUSTINE","BE","F","034066","034066","COMP"]
[2569480,"RICHARTE","ELISE","MI","F","034064","034064","COMP"]
[2569490,"JAMES","LUZ","BE","F","034064","034064","COMP"]
[2569499,"VIGNAL","HORTENSE","MI","F","030018","030018","COMP"]
[2569503,"GUILLET DELISLE","SOLENN","BE","F","034066","034066","COMP"]
[2569506,"CRUC","FLORIAN","BE","M","034064","034064","COMP"]
[2569507,"LEGRAND","NOE","BE","M","034066","034066","COMP"]
[2569681,"COURTEL","JEAN-CAMILLE","MI","M","031025","031025","COMP"]
[2569697,"FERNANDES DE ALMEIDA","LARA","MI","F","034038","034038","COMP"]
[2569712,"NGUYEN","KIM-LY","MI","F","065006","065006","COMP"]
[2570116,"LEPORE","CELYA","MI","F","030060","030060","COMP"]
[2570172,"FAURE FOURES","ADRIAN","MI","M","031039","031039","COMP"]
[2570178,"FIS-HOUEL","NEELA","MI","F","065017","065017","COMP"]
[2570232,"SANDA","DIANE","MI","F","030060","030060","COMP"]
[2570310,"RAKRAKI","BILAL","BE","M","030008","030008","COMP"]
[2570311,"RAKRAKI","AYA","MI","F","030008","030008","COMP"]
[2570336,"DJEFAFLIA","SACHA","BE","M","030008","030008","COMP"]
[2570534,"GAUTIER","ARTHUR","BE","M","081052","081052","COMP"]
[2570619,"CHARLET","LIAM","BE","M","065012","065012","COMP"]
[2570683,"MEHAY","JULIE","BE","F","065012","065012","COMP"]
[2570700,"CARPENTIER VIDAL","ENZO","BE","M","034073","034073","COMP"]
[2570755,"OZEN","AYLINE","MI","F","065012","065012","COMP"]
[2570828,"VIGNAUD","ELISE","MI","F","046012","046012","COMP"]
[2570876,"HUYNH QUAN SUU","MAEMI","BE","F","031004","031004","COMP"]
[2570960,"ROUMILHAC CATAY","LOUISE","BE","F","081021","081021","COMP"]
[2571212,"METGE","PIA","BE","F","034073","034073","COMP"]
[2571237,"CAPUS","INES","MI","F","011022","011022","COMP"]
[2571271,"OLOMBEL","ANDRES","BE","M","034069","034069","COMP"]
[2571276,"GOJARD GONZALEZ","VALENTINA","BE","F","081017","081017","COMP"]
[2571280,"FERNANDES","LEA","MI","F","081017","081017","COMP"]
[2571311,"SAHA","NOE","BE","M","034457","034457","COMP"]
[2571396,"BLANC","LIAM","BE","M","034069","034069","COMP"]
[2571404,"BERTUZZI","MATHEO","BE","M","081053","081053","COMP"]
[2571437,"AMIZJANYAN","NAZERI","BE","F","048006","048006","COMP"]
[2571489,"ZRAOULI","ILAF","BE","F","031050","031050","COMP"]
[2571502,"MORENO","CAMILLE","MI","F","031050","031050","COMP"]
[2571623,"CELLE","GABIN","BE","M","034069","034069","COMP"]
[2571671,"BEAUMET","MAE","BE","F","030004","030004","COMP"]
[2571684,"GAYET","BAPTISTE","MI","M","065006","065006","COMP"]
[2571688,"BYAR SALAZAR","QUETZALI-LUNA","MI","F","030004","030004","COMP"]
[2571724,"BENSALEM","EVAN","MI","M","031001","031001","COMP"]
[2571736,"PONSEILLE","APOLLINE","BE","F","034066","034066","COMP"]
[2571753,"AJDINI","ALDEN","BE","M","031001","031001","COMP"]
[2571823,"RAOUX","LEO","MI","M","065027","065027","COMP"]
[2571875,"BARBIER","MATTEO","BE","M","066003","066003","COMP"]
[2571897,"DAFFOS","JULES","BE","M","031008","031008","COMP"]
[2571978,"BONIFACE","JULES","MI","M","065006","065006","COMP"]
[2572259,"BARTOLOME","TOM","MI","M","031064","031064","COMP"]
[2572395,"KOCMIEL","SACHA","BE","M","034073","034073","COMP"]
[2572556,"CHOEUR","MAELLE","BE","F","031063","031063","COMP"]
[2572569,"LE BRETON","YANIS","MI","M","082017","082017","COMP"]
[2572604,"DELARUELLE","PAUL","BE","M","034058","034058","COMP"]
[2572613,"DA COSTA","CHLOE","BE","F","034058","034058","COMP"]
[2572614,"BRUNO","TESSA","MI","F","034058","034058","COMP"]
[2572626,"SEBAGH","LOUNA","BE","F","082017","082017","COMP"]
[2572654,"HARLAL","UMA","MI","F","034058","034058","COMP"]
[2572801,"RODRIGUEZ","MAELYNE","BE","F","030018","030018","COMP"]
[2572809,"TORRES","EVA","BE","F","030018","030018","COMP"]
[2572813,"VISEE","NIELS","BE","M","081051","081051","COMP"]
[2572879,"AMER","TATIANA","MI","F","034062","034062","COMP"]
[2572886,"RICHARD","ESTEVAN","BE","M","034062","034062","COMP"]
[2572902,"VALERO","ELISE","BE","F","034062","034062","COMP"]
[2572918,"KADIEV","ALISSA","MI","F","034062","034062","COMP"]
[2572926,"BRUNEL","CALIXTE","MI","M","034066","034066","COMP"]
[2572930,"NEGRE WILKIN","CILLIAN","MI","M","034062","034062","COMP"]
[2573040,"MUZAC","EMMY","MI","F","081062","081062","COMP"]
[2573044,"PEYRI CAPERA","SWANN","BE","M","081062","081062","COMP"]
[2573203,"LONGE","LOUISE","BE","F","031008","031008","COMP"]
[2573228,"DENARNAUD","YNAEL","BE","M","011016","011016","COMP"]
[2573258,"BOUSQUET","JADE","BE","F","012018","012018","COMP"]
[2573518,"CHAMPENOIS","LUCILE","MI","F","030004","030004","COMP"]
[2573525,"CHENOUF","JANNA","BE","F","030004","030004","COMP"]
[2573537,"GILLET","CELESTINE","MI","F","034073","034073","COMP"]
[2573551,"SANS","CLEMENT","BE","M","032014","032014","COMP"]
[2573569,"PLUTA","CORALINE","MI","F","030004","030004","COMP"]
[2573979,"BESSIERE","HUGO","BE","M","081048","081048","COMP"]
[2574070,"GILLES","CASSIA","BE","F","030004","030004","COMP"]
[2574182,"MAYOR","STELLA","MI","F","081056","081056","COMP"]
[2574184,"CALVIERE","ROXANE","MI","F","081056","081056","COMP"]
[2574191,"MONTAGNON","JEAN","MI","M","081056","081056","COMP"]
[2574263,"HABOUCHI","ZEYNEB","MI","F","031025","031025","COMP"]
[2574294,"BARBARAS","NINON","MI","F","030021","030021","COMP"]
[2574386,"CUENCA","ANAE","BE","F","081053","081053","COMP"]
[2574407,"QUARTERON","TYMEO","MI","M","065012","065012","COMP"]
[2574512,"CORDIER","CHLOE","MI","F","031025","031025","COMP"]
[2574755,"PELTIER-MARMORAT","LUCE","MI","F","031010","031010","COMP"]
[2574772,"PETIT","FANNY","BE","F","066003","066003","COMP"]
[2574842,"MOULIN","ANA","BE","F","066003","066003","COMP"]
[2574845,"MISSOUM","ABDELDJALIL","MI","M","066003","066003","COMP"]
[2574888,"BADOU","ALICIA","BE","F","012002","012002","COMP"]
[2574903,"CONIL","KALI","BE","F","012002","012002","COMP"]
[2574904,"AFFI","EMNA","MI","F","034066","034066","COMP"]
[2575139,"LAMBERT DUMOND","TIMOA","MI","M","031003","031003","COMP"]
[2575147,"PORTELINA","VALENTINA","BE","F","031003","031003","COMP"]
[2575151,"MONAGAS","ELOISA","MI","F","031003","031003","COMP"]
[2575158,"OMICCIOLI","DAVID","BE","M","030008","030008","COMP"]
[2575163,"ABD ALLAH","CHANELLE","BE","F","030008","030008","COMP"]
[2575169,"HERBETH","JULIE","MI","F","031003","031003","COMP"]
[2575170,"PELLISSIER","LEOPOLD","MI","M","030008","030008","COMP"]
[2575175,"OSIER-LAKHDAR","MERWAN","MI","M","031003","031003","COMP"]
[2575181,"PELLISSIER","LEANDRE","BE","M","030008","030008","COMP"]
[2575192,"NOUVEL","CHARLIE","BE","F","030008","030008","COMP"]
[2575204,"KHAMASSI","YOUMNA","MI","F","030008","030008","COMP"]
[2575367,"DURAND","YANNIS","BE","M","081054","081054","COMP"]
[2575404,"BRIKI BELIOUTE","MOHAMED","MI","M","034062","034062","COMP"]
[2575418,"ROJO","ALICE","BE","F","034062","034062","COMP"]
[2575509,"HAMICHE","AISLINN","BE","F","031042","031042","COMP"]
[2575595,"FALZON","AUDE","MI","F","081021","081021","COMP"]
[2575604,"CASSAGNES","LEA","MI","F","012003","012003","COMP"]
[2575610,"CYPRES","ROBIN","BE","M","065012","065012","COMP"]
[2575711,"LAGHRIBI","LINA","MI","F","030067","030067","COMP"]
[2575729,"PEREZ","KENOA","BE","M","030067","030067","COMP"]
[2575789,"FALVEY","JOSEPHINE","BE","F","034066","034066","COMP"]
[2575794,"BELLAL","JASMINE","MI","F","031025","031025","COMP"]
[2575829,"PEDECHES","MAYA","BE","F","031025","031025","COMP"]
[2575850,"CHENAUD","ADELIE","BE","F","034066","034066","COMP"]
[2575970,"RICHARD","ETHAN","BE","M","031035","031035","COMP"]
[2576017,"VAYSSOUZE FAURE","AWEN","BE","F","046012","046012","COMP"]
[2576049,"GUERIN","LISON","MI","F","009001","009001","COMP"]
[2576075,"AROUI","ALI","BE","M","030040","030040","COMP"]
[2576100,"VOGEL","TASNIM","BE","F","009001","009001","COMP"]
[2576101,"TAILLAN MITTELETTE","JULES","BE","M","030003","030003","COMP"]
[2576104,"GASO","LANA","BE","F","030003","030003","COMP"]
[2576116,"CHEVAUX","EMMA","BE","F","030003","030003","COMP"]
[2576329,"TURLURE","KELYA","MI","F","030059","030059","COMP"]
[2576357,"PERIERS","THIBAULT","MI","M","031063","031063","COMP"]
[2576418,"MARCH HERRERA","VICTORIA","MI","F","031012","031012","COMP"]
[2576438,"ZALLIF","LINA","BE","F","031012","031012","COMP"]
[2576585,"LAURENT","MARLON","BE","M","031063","031063","COMP"]
[2576604,"BODART VOITURIN","ADELIE","MI","F","031003","031003","COMP"]
[2576632,"LE GOURIEREC","THEO","MI","M","011022","011022","COMP"]
[2576672,"DUPLAT RUAUX","AMANDINE","MI","F","031015","031015","COMP"]
[2576722,"OUAFI","IRIS","BE","F","031015","031015","COMP"]
[2576775,"SARZIER","VICTOR","BE","M","031003","031003","COMP"]
[2576858,"DEMEURE","VICTOIRE","BE","F","081055","081055","COMP"]
[2577089,"GRUY","ORLINA","BE","F","009011","009011","COMP"]
[2577108,"CHANELIERE","KELYANN","BE","M","031004","031004","COMP"]
[2577396,"HUGONIN","MATHIEU","MI","M","030067","030067","COMP"]
[2577424,"RESSOUCHE","AMANDINE","BE","F","048007","048007","COMP"]
[2577449,"GHOUDANE","RAYAN","MI","M","030040","030040","COMP"]
[2577486,"RAFIK","MAISSA","BE","F","031025","031025","COMP"]
[2577598,"BOUTIT","IMENE","MI","F","032002","032002","COMP"]
[2577621,"HASSAINI CAMBRAY","ELSA","BE","F","032002","032002","COMP"]
[2577635,"RAMDASS TABARD","FANNY","MI","F","031012","031012","COMP"]
[2577640,"RIQUET","KEITH","BE","M","032002","032002","COMP"]
[2577653,"ELLIN","ERIN","BE","F","066027","066027","COMP"]
[2577664,"EL MOUDNI","HICHAM","BE","M","034066","034066","COMP"]
[2577671,"COLONNA","MARGAUX","MI","F","034012","034012","COMP"]
[2577672,"ADRIEN","FLAVIE","MI","F","034012","034012","COMP"]
[2577690,"GUILLOUX","JEANNE","BE","F","034066","034066","COMP"]
[2577737,"REGIEN","VICTOR","MI","M","009002","009002","COMP"]
[2577766,"CHOUDET","GAEL","BE","M","031035","031035","COMP"]
[2577768,"SAGUE","MARILOU","BE","F","066003","066003","COMP"]
[2578075,"AZAOUMI","MAISSA","BE","F","031025","031025","COMP"]
[2578128,"BALAN","GABRIELLE","MI","F","066006","066006","COMP"]
[2578223,"DALET LACAM","LILIE","MI","F","034038","034038","COMP"]
[2578246,"BOUSQUET","AYMERIC","MI","M","081052","081052","COMP"]
[2578304,"VANDAMME","ALICE","MI","F","066006","066006","COMP"]
[2578433,"TROUCHE","LOUISE","BE","F","046008","046008","COMP"]
[2578450,"TRIMAGLIO","PABLO","BE","M","031025","031025","COMP"]
[2578453,"PIGEON LE BEURIER","MANI","BE","M","048007","048007","COMP"]
[2578454,"GALY","SACHA","MI","M","031025","031025","COMP"]
[2578460,"SIMON","CLEMENCE","BE","F","034012","034012","COMP"]
[2578520,"TRONC ANDRIANANTOANDRO","GABRIEL","MI","M","031004","031004","COMP"]
[2578524,"KREMER","ALMA","MI","F","031004","031004","COMP"]
[2578768,"AJDINIJ","ISADORA","MI","F","031001","031001","COMP"]
[2578808,"RICOTTIER","COLINE","MI","F","031015","031015","COMP"]
[2578848,"MENDEZ","AMBRE","BE","F","066003","066003","COMP"]
[2578921,"CAMPOS","LUNA","MI","F","031056","031056","COMP"]
[2578929,"COMPTE DADOUN","JADE","BE","F","031056","031056","COMP"]
[2578944,"DJADE SINA","KEZIA","MI","F","031056","031056","COMP"]
[2579289,"FRANGEUL","GWENAELLE","MI","F","065017","065017","COMP"]
[2579410,"MENNECIER","CHLOE","BE","F","082017","082017","COMP"]
[2579490,"ZERROUK RUBIO","INAYA","BE","F","034012","034012","COMP"]
[2579496,"DRAPPIER","ELODIO","BE","M","034012","034012","COMP"]
[2579502,"CHASSELOUP","PAXIANNE","BE","F","030067","030067","COMP"]
[2579510,"CLAUSEL","MAELINE","MI","F","030060","030060","COMP"]
[2579586,"NAVARRO GUIRAUDIE","MATTHIAS","BE","M","032014","032014","COMP"]
[2579625,"LANGLOIS","ETHAN","MI","M","046008","046008","COMP"]
[2579833,"PALERMO","ALEXIS","BE","M","030059","030059","COMP"]
[2579854,"MEBARKI","KYMIA","MI","F","030059","030059","COMP"]
[2579917,"GUEHAM","HICHAM","MI","M","030059","030059","COMP"]
[2580196,"DAMBLEMONT","EVA","MI","F","031003","031003","COMP"]
[2580209,"TOUSTOU","ELOISE","MI","F","031039","031039","COMP"]
[2580222,"ESCOURBIAC","ETHAN","BE","M","031039","031039","COMP"]
[2580563,"BENJAAFAR","SALMA","BE","F","030008","030008","COMP"]
[2580578,"LAGARDE-MONTREDON","MATHIAS","BE","M","030008","030008","COMP"]
[2580587,"NDOYE","FATOU","BE","F","030008","030008","COMP"]
[2580659,"LORUSSO","ARTHUR","BE","M","034066","034066","COMP"]
[2580829,"BAROSO-LAMOUCHE","PAUL","MI","M","034012","034012","COMP"]
[2580846,"NFFAOUI","YASSIN","BE","M","031012","031012","COMP"]
[2580930,"MALUZO","ELIKYAEL","BE","F","031012","031012","COMP"]
[2580972,"CASTELLUCCIO","CHARLOTTE","MI","F","034065","034065","COMP"]
[2580993,"PETITJEAN","SIRA","BE","F","034065","034065","COMP"]
[2581084,"HACINI","YASMINE","BE","F","009011","009011","COMP"]
[2581100,"PERICAT","ADELE","BE","F","031004","031004","COMP"]
[2581987,"BONNEFOUS","NATHAEL","MI","M","081054","081054","COMP"]
[2582083,"FAURE","CHARLIE","MI","F","011022","011022","COMP"]
[2582113,"BONNEFOY","ELLE","BE","F","034055","034055","COMP"]
[2582295,"SADAOUI","WASSIM","BE","M","031025","031025","COMP"]
[2582377,"BROCHAND","GANAY","BE","F","048006","048006","COMP"]
[2582426,"DETHOOR","BENJAMIN","BE","M","082014","082014","COMP"]
[2582594,"CECCAREL","ALEXIS","MI","M","082017","082017","COMP"]
[2582595,"POIRIER","JADE","MI","F","082017","082017","COMP"]
[2582848,"HALOUA","RIYAD","BE","M","066003","066003","COMP"]
[2582887,"BLANC","MILA","MI","F","012005","012005","COMP"]
[2583046,"BOUVIALA","EMIE","MI","F","012018","012018","COMP"]
[2583052,"BREMNER","IBIMINA","BE","F","031025","031025","COMP"]
[2583145,"RODRIGUEZ","LENA","MI","F","066006","066006","COMP"]
[2583191,"ONA ABRANTES","SHANA","BE","F","081043","081043","COMP"]
[2583232,"HACHFI-DOLY","ROSE","BE","F","066003","066003","COMP"]
[2583243,"CAMPIGLIO","ALERA","BE","F","066003","066003","COMP"]
[2583434,"MORALES","LUKA","MI","M","031022","031022","COMP"]
[2583439,"MORALES","NATAN","MI","M","031022","031022","COMP"]
[2583455,"DALL ANTONIA","TOM","BE","M","031022","031022","COMP"]
[2583528,"AFAKIR","YASMINE","BE","F","031022","031022","COMP"]
[2583633,"HAMADI","YASMINE","BE","F","034072","034072","COMP"]
[2583653,"MENAGER","AUGUSTINE","MI","F","011022","011022","COMP"]
[2583687,"TROCELLIER","FELIX","BE","M","048006","048006","COMP"]
[2584064,"SE TCHIAO","ALINE","MI","F","031035","031035","COMP"]
[2584078,"LOUBET","LUCAS","BE","M","031035","031035","COMP"]
[2584219,"ROVIRA-REDLICH","GRETA","BE","F","066037","066037","COMP"]
[2584250,"GROFF BASSETTI","ANGELO","MI","M","011022","011022","COMP"]
[2584346,"BIABIANY SHI-NOG","LAIA","BE","F","031010","031010","COMP"]
[2584350,"BIABIANY SHI-NOG","SOAN","BE","M","031010","031010","COMP"]
[2584357,"RABIAZA","THEO","BE","M","031025","031025","COMP"]
[2584417,"ALRIC","EVA","MI","F","012002","012002","COMP"]
[2584542,"JULLIEN","CHARLIZE","BE","F","031025","031025","COMP"]
[2584577,"GARCIA","LUCE","BE","F","009011","009011","COMP"]
[2584634,"MILHORAT","ABIGAELLE","MI","F","009011","009011","COMP"]
[2584655,"PINTO","TIAGO","MI","M","046008","046008","COMP"]
[2584773,"PALOULINE","CAYLA","MI","F","046008","046008","COMP"]
[2584837,"DUMAS","CAPUCINE","MI","F","034062","034062","COMP"]
[2585375,"BELEM BABINHA","MADALENA","MI","F","031003","031003","COMP"]
[2585422,"TOUMIA-BONNEFOY","IDRISS","MI","M","082014","082014","COMP"]
[2585498,"TOURROU","MONA","MI","F","031035","031035","COMP"]
[2586317,"HAFOUDE","SARA","MI","F","034021","034021","COMP"]
[2586318,"HAFOUDE","SAFAE","MI","F","034021","034021","COMP"]
[2586464,"TESSIER TORU","NAHELOU","BE","F","009002","009002","COMP"]
[2586746,"CHITOU","ETIENNE","MI","M","065027","065027","COMP"]
[2586761,"HAMONET","ROBIN","BE","M","046004","046004","COMP"]
[2586795,"ROCHA DUMINY","MARLYSE","BE","F","066028","066028","COMP"]
[2586827,"CERRONE","TRISTAN","MI","M","066028","066028","COMP"]
[2586890,"MILLET","TIMEO","BE","M","031008","031008","COMP"]
[2587026,"SCHIAVONI","VICTOIRE","MI","F","030021","030021","COMP"]
[2587100,"TEYCHENE","ELISE","MI","F","011021","011021","COMP"]
[2587196,"LEMAISTRE DIEUTRE","AUGUSTIN","BE","M","034058","034058","COMP"]
[2587241,"ASSAILLIT","EMMA","BE","F","066003","066003","COMP"]
[2587388,"HOVE","KUDZAI","MI","F","031004","031004","COMP"]
[2587396,"DOUZAIN-DIDIER","CLEMENT","MI","M","031004","031004","COMP"]
[2587405,"SOROKO","ADRIEN","MI","M","031004","031004","COMP"]
[2587454,"BOURSOT","CLARA","MI","F","031004","031004","COMP"]
[2587511,"MORIN","MATHILDE","BE","F","082017","082017","COMP"]
[2587611,"JACQUEL ROGERO","JULIA","BE","F","082017","082017","COMP"]
[2587637,"RAVAYROL","ANNA","MI","F","011001","011001","COMP"]
[2587927,"FILIPE TAVARES","LAURA","MI","F","066028","066028","COMP"]
[2588144,"WADE","SALMA","BE","F","031001","031001","COMP"]
[2588510,"KOLFENTER","EVAN","MI","M","031046","031046","COMP"]
[2588527,"MOREL FALVEY","JOSEPHINE","BE","F","034066","034066","COMP"]
[2588545,"MATHIEU","PIERRE-ANDRE","BE","M","034066","034066","COMP"]
[2588565,"SIMONOT","MAELLE","MI","F","081021","081021","COMP"]
[2588629,"NDIAYE","YAYA-PATRICK","MI","M","081048","081048","COMP"]
[2588679,"ZAHIL","MOHAMED","BE","M","081048","081048","COMP"]
[2588818,"DELRIEU","ALYA","MI","F","031022","031022","COMP"]
[2588840,"CABANEL","SOPHIE","MI","F","031008","031008","COMP"]
[2588897,"SUTRA","MATHIS","BE","M","009001","009001","COMP"]
[2588982,"HANS","OTHILIE","MI","F","031046","031046","COMP"]
[2589062,"ISMAILI","INAYA","MI","F","034066","034066","COMP"]
[2589186,"TIMAR VERSTRAETE","JULIA","BE","F","081054","081054","COMP"]
[2589334,"AUBERT","LOUISE","BE","F","034068","034068","COMP"]
[2589344,"CANIZARES","MANON","BE","F","034068","034068","COMP"]
[2589349,"CHAPONNIERE","CAMILLE","BE","M","034068","034068","COMP"]
[2589355,"GREGOIRE","EMMA","MI","F","034068","034068","COMP"]
[2589371,"SAID FABRE","EMMA","MI","F","034068","034068","COMP"]
[2589440,"BUGNON BOUZOUMA-SARRAZIN","ABEL","BE","M","034068","034068","COMP"]
[2589562,"DAGNAC","LIAM","MI","M","031039","031039","COMP"]
[2589584,"NAZE","MANON","BE","F","030018","030018","COMP"]
[2589633,"EL OUALKADI","SIRINE","BE","F","030018","030018","COMP"]
[2589833,"HUGUET","LOU","MI","F","030021","030021","COMP"]
[2589882,"ZOGHLAMI","AHMED","MI","M","030018","030018","COMP"]
[2589886,"LORIETTE","EMMA","MI","F","034062","034062","COMP"]
[2589894,"GENEVET GERVOIS","EVA","BE","F","034062","034062","COMP"]
[2589970,"LOZANO","ISMAEL","MI","M","031009","031009","COMP"]
[2590063,"BRETON SOLER","ALICE","MI","F","034454","034454","COMP"]
[2590065,"VELOSO","DELYA","BE","F","034454","034454","COMP"]
[2590068,"MONSERRA","AMBRE","BE","F","034454","034454","COMP"]
[2590203,"FABRE","DORIAN","MI","M","081043","081043","COMP"]
[2590207,"GARCIA CONNAC","ELIA","BE","F","081052","081052","COMP"]
[2590482,"ZARIAH","JASSIM","BE","M","030040","030040","COMP"]
[2590600,"MAZIERES","FLORA","MI","F","081056","081056","COMP"]
[2590602,"SIMON","NORAH","MI","F","081056","081056","COMP"]
[2590620,"HAREL","CELIA","MI","F","046012","046012","COMP"]
[2590621,"DECUQ","ZOE","MI","F","046012","046012","COMP"]
[2590623,"MERIT","CLEA","MI","F","046012","046012","COMP"]
[2590625,"VIGUIER","EMMA","MI","F","046012","046012","COMP"]
[2590626,"RIBEIRO-FALCOMER","LOLA","MI","F","046012","046012","COMP"]
[2590634,"TECHER","MAELYSS","MI","F","046012","046012","COMP"]
[2590849,"REDONNET-DOSSARPS","KATHARINA","MI","F","081045","081045","COMP"]
[2591083,"ATMAI","RAYAN","MI","M","031043","031043","COMP"]
[2591283,"PRIEUR-ZINS","CLARISSE","MI","F","034064","034064","COMP"]
[2591559,"SEGUY","ESTELLE","MI","F","011022","011022","COMP"]
[2591594,"PENA","ELYA","MI","F","066028","066028","COMP"]
[2591603,"AUDABRAM","LEANDRE","MI","M","066028","066028","COMP"]
[2591608,"FERANDIN","JULIEN","BE","M","066028","066028","COMP"]
[2591623,"LAROQUE","LISA","MI","F","066028","066028","COMP"]
[2591635,"OSSET-BOBO","MARIN","MI","M","066028","066028","COMP"]
[2591660,"JANSOU","LISA","MI","F","031056","031056","COMP"]
[2591662,"MARROT","SUZIE","MI","F","031056","031056","COMP"]
[2591687,"CARRE","MAELLE","MI","F","034012","034012","COMP"]
[2591896,"VALDES HERES","EMMANUEL","BE","M","031056","031056","COMP"]
[2592279,"LE NEUDER","CHARLOTTE","MI","F","034072","034072","COMP"]
[2592331,"XAVIER BAUD","MATHIAS","BE","M","034072","034072","COMP"]
[2592382,"MARROSU","SOFIA","MI","F","030018","030018","COMP"]
[2592451,"MUSQUAR","LISE","MI","F","082017","082017","COMP"]
[2592466,"ORTH","MANON","BE","F","030059","030059","COMP"]
[2592476,"DUCLAUX CHARLOT","EVA","BE","F","030059","030059","COMP"]
[2592491,"FRANCOIS","LYLIAN","MI","M","066027","066027","COMP"]
[2592859,"POIRIER","LILIAN","BE","M","081054","081054","COMP"]
[2592860,"KOS","CLEMENCE","MI","F","081054","081054","COMP"]
[2592863,"GALINIER","ELISA","MI","F","081054","081054","COMP"]
[2592889,"SADAOUI","ILYES","MI","M","031025","031025","COMP"]
[2592956,"SERELE","ALYAH","MI","F","066006","066006","COMP"]
[2593166,"VIGNY HERBRETEAU","LOUANNE","MI","F","081047","081047","COMP"]
[2593272,"THEBAULT","RAPHAEL","BE","M","034066","034066","COMP"]
[2593307,"CHEVRIN","RONAN","BE","M","034066","034066","COMP"]
[2593310,"PENELVA MANIFACIER","LEHEREN","BE","M","034066","034066","COMP"]
[2593654,"DUCHEL-DEHONT","LISA","MI","F","031004","031004","COMP"]
[2593682,"BOISSEL","ZOE","MI","F","065006","065006","COMP"]
[2593705,"RIVAIN","LOLA","BE","F","081045","081045","COMP"]
[2593736,"ANTOINE","THOMAS","MI","M","082017","082017","COMP"]
[2593826,"PERALTA","LYDIA","BE","F","046012","046012","COMP"]
[2593897,"POUX","ALBAN","MI","M","034064","034064","COMP"]
[2593969,"CAYLAR","JULIETTE","MI","F","046012","046012","COMP"]
[2593970,"BENTALEB","ADAM","BE","M","046012","046012","COMP"]
[2594179,"COMBESCURE","FAUSTINE","BE","F","034476","034476","COMP"]
[2594406,"PROST","THOMAS","BE","M","034062","034062","COMP"]
[2594461,"EL AASRI","ANAS","BE","M","030018","030018","COMP"]
[2594914,"PASCAL","ESTEBAN","MI","M","034055","034055","COMP"]
[2594924,"DUSSOL","JEANNE","BE","F","034055","034055","COMP"]
[2594926,"SACCO","MILA","BE","F","034055","034055","COMP"]
[2594930,"BELHASNI","NOUR","BE","F","034055","034055","COMP"]
[2594931,"BUFFA","SINA","MI","F","034055","034055","COMP"]
[2594932,"BUFFA","LUNA","MI","F","034055","034055","COMP"]
[2594933,"HACHIR","MAWEL","BE","F","034055","034055","COMP"]
[2594934,"GARCIA","OCEANA","MI","F","034055","034055","COMP"]
[2594950,"IWANCIW","ELORA","MI","F","034055","034055","COMP"]
[2595202,"LAGOUTE","FELIX","MI","M","081043","081043","COMP"]
[2595327,"CONILL","BENJAMIN","MI","M","066037","066037","COMP"]
[2595419,"CHABERT","EVA","BE","F","048004","048004","COMP"]
[2596020,"CHENAVAL","MATHEO","BE","M","009002","009002","COMP"]
[2596514,"CHABOUD-CROUSAZ","CLEMENCE","BE","F","030003","030003","COMP"]
[2596629,"VALLON","LEONIE","MI","F","082017","082017","COMP"]
[2596709,"FANFARD","KYARA","MI","F","082017","082017","COMP"]
[2596764,"MALADI","KELLY","MI","F","082017","082017","COMP"]
[2596969,"GOUTILLE","CANNELLE","MI","F","034065","034065","COMP"]
[2596977,"GAUCHER","ELEA","BE","F","046008","046008","COMP"]
[2596990,"OUTITI","MOHAMED","BE","M","034065","034065","COMP"]
[2596997,"FAVARON","ELENA","MI","F","031003","031003","COMP"]
[2597039,"LAFON","AMAEL","BE","M","031004","031004","COMP"]
[2597179,"DEJEAN","HUGO","BE","M","031063","031063","COMP"]
[2597192,"ROBINSON","LAYLA","MI","F","031063","031063","COMP"]
[2597493,"ESSOUNANI","SHERAZADE","MI","F","046012","046012","COMP"]
[2597555,"BOUTINES","ENOLA","MI","F","082017","082017","COMP"]
[2597578,"GOUBEAU","ALOIS","BE","M","031050","031050","COMP"]
[2597757,"JACQUET","AXEL","MI","M","082017","082017","COMP"]
[2598072,"BERNET","RAFAEL","MI","M","081052","081052","COMP"]
[2598135,"EL MASAOUDI","INES","BE","F","066003","066003","COMP"]
[2598182,"LUREAU","CLEMENCE","BE","F","034058","034058","COMP"]
[2598312,"HUGONNARD","INAYA","BE","F","034065","034065","COMP"]
[2598339,"KAZADI-DELVOLVE","ELIKYA-ROSE","BE","F","082014","082014","COMP"]
[2598608,"FABRITIUS","LOUISE","BE","F","034457","034457","COMP"]
[2598669,"RENANI","MAYSSA","MI","F","034066","034066","COMP"]
[2598701,"MOSSON","ELENA","BE","F","030021","030021","COMP"]
[2598707,"GIMAT","FABIAN","BE","M","031008","031008","COMP"]
[2598715,"KHALLOUF","IMAD","BE","M","081021","081021","COMP"]
[2598991,"AISSANI","ASMA","MI","F","031046","031046","COMP"]
[2598997,"BIBAL","NINO","BE","M","034476","034476","COMP"]
[2599059,"SYLVESTRE","LAURA","BE","F","066003","066003","COMP"]
[2599179,"BELAN","SASHA","MI","F","034066","034066","COMP"]
[2599224,"DUPUIS","LOUISE","BE","F","082014","082014","COMP"]
[2599267,"BAYOL","THIBAULT","MI","M","012003","012003","COMP"]
[2599418,"ARNAL GINISTY","GAUTHIER","BE","M","012018","012018","COMP"]
[2599457,"LEKHAL","SALAHEDDINE","BE","M","046008","046008","COMP"]
[2599533,"DELANNOY","MATHIS","MI","M","066003","066003","COMP"]
[2599844,"CARCY","MIA","BE","F","081044","081044","COMP"]
[2599949,"HUGON","GABRIEL","MI","M","030074","030074","COMP"]
[2600109,"GALAU","LISA","MI","F","031012","031012","COMP"]
[2600188,"PASCUAL-FILLIERE","ALEXANDRE","MI","M","031042","031042","COMP"]
[2600305,"KASIM","RAYANE","BE","M","032002","032002","COMP"]
[2600386,"ABLANCOURT","WILLIAM","MI","M","030018","030018","COMP"]
[2600501,"PAULZE D IVOY DE LA POYPE-BURCKART","MARIE","MI","F","034068","034068","COMP"]
[2600509,"ZAHIRI EL MARROUNI","FARAH","BE","F","031063","031063","COMP"]
[2600695,"DAVID HELLATI","MANON","MI","F","034012","034012","COMP"]
[2600709,"ROGER-TESTA","EMMA","MI","F","034012","034012","COMP"]
[2600750,"LECUYER","THOMAS","BE","M","011022","011022","COMP"]
[2600804,"CAPRAIS-HETTEMA","SAIAN","BE","M","081021","081021","COMP"]
[2600837,"BISTER","ALICIA","BE","F","081048","081048","COMP"]
[2600893,"GIRARDI","ROBIN","BE","M","082014","082014","COMP"]
[2600896,"PATON","LEA","BE","F","030067","030067","COMP"]
[2600993,"FORTUNATI","JULES","MI","M","082017","082017","COMP"]
[2601009,"TIAR","LOUIS","MI","M","082017","082017","COMP"]
[2601136,"LEROUX","HELOISE","MI","F","066003","066003","COMP"]
[2601329,"BICHO","NINA","MI","F","012005","012005","COMP"]
[2601339,"MAJANI","EMNA","MI","F","012005","012005","COMP"]
[2601391,"MAI","FAUSTINE","MI","F","012003","012003","COMP"]
[2601583,"DAGUET","ITZEL","BE","F","034066","034066","COMP"]
[2601637,"M BARECK FALL","HALINA","MI","F","009011","009011","COMP"]
[2601744,"MARGOTIN","ARTHUR","MI","M","032014","032014","COMP"]
[2602133,"BOUGUIN","APOLLINE","MI","F","030059","030059","COMP"]
[2602355,"ROBERTSON","PAUL","BE","M","034021","034021","COMP"]
[2602384,"GUIGUE","VIOLAINE","MI","F","030018","030018","COMP"]
[2602394,"MORENO","LILOU","MI","F","048004","048004","COMP"]
[2602500,"LLORET-MARCOU","ROSE","MI","F","034066","034066","COMP"]
[2602510,"DUBOR","LISE","MI","F","046012","046012","COMP"]
[2602589,"BOUDJEMAI","AYMEN","BE","M","031043","031043","COMP"]
[2602704,"GIMAT","AELYS","MI","F","031008","031008","COMP"]
[2602800,"DANG FAUSEK","ALEXANDRE","BE","M","034066","034066","COMP"]
[2602805,"HENRIET","ELIOTT","MI","M","034069","034069","COMP"]
[2602905,"REBOUL","ILONA","MI","F","034068","034068","COMP"]
[2603073,"PESADO DOGUET","LUCIE","MI","F","065017","065017","COMP"]
[2603080,"ESCOFFRE","JULIETTE","MI","F","065017","065017","COMP"]
[2603165,"DOYENNETTE","NOELIE","MI","F","046008","046008","COMP"]
[2603377,"DE BRUCKER","LOLA","MI","F","031008","031008","COMP"]
[2603498,"CRESPIN","CLEMENT","BE","M","030018","030018","COMP"]
[2603642,"DAOUDI","ZINEDINE","BE","M","030008","030008","COMP"]
[2603948,"SANTIAGO","ISAAC","BE","M","034058","034058","COMP"]
[2603964,"MARCHAND MOURET","LOU-ANDRE","MI","M","081048","081048","COMP"]
[2603975,"MAZIERE KESZNER","AMAELYS","MI","F","081048","081048","COMP"]
[2604133,"FERREIRA","JULES","MI","M","082017","082017","COMP"]
[2604139,"LEPETZ GORRADO","GABRIELA","MI","F","030004","030004","COMP"]
[2604149,"BENBROUK","ISRAA","BE","F","030004","030004","COMP"]
[2604215,"THIEVENAZ","NOELIE","MI","F","012003","012003","COMP"]
[2604663,"DEYMIER","ROZENN","MI","F","034058","034058","COMP"]
[2604682,"PRADEAU","EUGENIE","MI","F","034066","034066","COMP"]
[2604689,"BOURSIER","AMBRE","MI","F","012002","012002","COMP"]
[2604754,"BAJOLLE","LEO","BE","M","032002","032002","COMP"]
[2604755,"ESCAFIT","EMILY","BE","F","081054","081054","COMP"]
[2604766,"STESSELS","CLEMENT","MI","M","034476","034476","COMP"]
[2604788,"DA SILVA","MAELYS","BE","F","066037","066037","COMP"]
[2604789,"BERZOSA-SACRISTAN","SAUL","MI","M","066037","066037","COMP"]
[2604801,"YAHYAOUI","LINA","BE","F","034066","034066","COMP"]
[2604805,"FORE","MATHILDE","MI","F","034066","034066","COMP"]
[2605009,"TCHAKOUNTE","NOE","BE","M","030021","030021","COMP"]
[2605027,"CHALVESCHE","MORGANE","MI","F","030003","030003","COMP"]
[2605063,"LEE","SEOYOON","BE","F","065012","065012","COMP"]
[2605067,"CHAHBOUNI","CHAH-NEZ","BE","F","065012","065012","COMP"]
[2605114,"BOBINET","KYLIAN","BE","M","081052","081052","COMP"]
[2605154,"ROURE","SYRAH","MI","F","034055","034055","ENCA"]
[2605237,"PARAZINES","SHERAZADE","MI","F","046012","046012","COMP"]
[2605256,"GILLES","JULIETTE","MI","F","034066","034066","COMP"]
[2605262,"PALOSSE","NATHAN","BE","M","031007","031007","COMP"]
[2605265,"PALOSSE","ALICIA","BE","F","031007","031007","COMP"]
[2605324,"BLONDEAU","PALOMA","BE","F","034036","034036","COMP"]
[2605390,"SI HAMANE","SARAH","BE","F","030004","030004","COMP"]
[2605427,"DEBBIOUI","HIBA","MI","F","034021","034021","COMP"]
[2605461,"PEBRE","ROBIN","BE","M","034055","034055","COMP"]
[2605496,"PELTIER PG","LUNA","MI","F","031003","031003","COMP"]
[2605537,"GITAREAU","LISA","MI","F","031004","031004","COMP"]
[2605619,"BILLIERE","LOAN","BE","M","034055","034055","COMP"]
[2605622,"BILLIERE","MELVIN","BE","M","034055","034055","COMP"]
[2605625,"MARROCQ","ETHAN","MI","M","034055","034055","COMP"]
[2605717,"BREDOIRE","EMMY","BE","F","034066","034066","COMP"]
[2606156,"CARRIE-GEFFROY","ANGELY","MI","M","081054","081054","COMP"]
[2606268,"NEVEU","ROMAIN","BE","M","031008","031008","COMP"]
[2606272,"VERTUT","LUCILE","MI","F","031008","031008","COMP"]
[2606339,"PORFAL","JOAQUIM","MI","M","030004","030004","COMP"]
[2606419,"BENHASKA","MALAK","BE","F","030018","030018","COMP"]
[2606427,"AKOUH","AYA","BE","F","030018","030018","COMP"]
[2606462,"ABRIBAT","LEONIE","MI","F","031003","031003","COMP"]
[2606610,"CABOT","ANAIS","BE","F","031035","031035","COMP"]
[2606616,"BERTIN","EMRYCK","BE","M","031007","031007","COMP"]
[2606934,"DAUGA APARICIO","CLOELIE","BE","F","032002","032002","COMP"]
[2607002,"OLIVEIRA SANTOS","VICTOR HUGO","MI","M","065005","065005","COMP"]
[2607092,"ANGOULA","CASSANDRA","BE","F","034066","034066","COMP"]
[2607336,"ARNAUDET","LOAN","BE","M","081017","081017","COMP"]
[2607471,"ZIANI","KARIM","BE","M","081017","081017","COMP"]
[2607513,"DURANT","ALAN","BE","M","046012","046012","COMP"]
[2607518,"GIRARD","MAEL","MI","M","065019","065019","COMP"]
[2607616,"CHACON CARDOSO","LANA","BE","F","030008","030008","COMP"]
[2607622,"MAGNELE","ELOUANN","BE","M","082017","082017","COMP"]
[2607720,"BIANCHI","MITIA","MI","F","031025","031025","COMP"]
[2607721,"FAUCHIER MAZIERES","ESTHER","BE","F","031025","031025","COMP"]
[2607743,"MECHREF","SHAYNA","MI","F","030018","030018","COMP"]
[2608578,"OUANES","JUSTINE","MI","F","031015","031015","COMP"]
[2608688,"DE PINHO","AIDAN","BE","M","081048","081048","COMP"]
[2608806,"ROLLAND","EMMA","BE","F","048008","048008","COMP"]
[2609000,"VAN HULST","INES","MI","F","031056","031056","COMP"]
[2609049,"COSME GRUA","OLIVIA","BE","F","031008","031008","COMP"]
[2609097,"SANCHO","EVA","MI","F","034473","034473","COMP"]
[2609221,"CUVILLIER","SOHAN","BE","M","046012","046012","COMP"]
[2609268,"GONDRAN","ILAN","MI","M","065012","065012","COMP"]
[2609308,"BANDERIER","GUILHEM","BE","M","046008","046008","COMP"]
[2609330,"EL FADDI","MANAELLE","BE","F","030018","030018","COMP"]
[2609350,"ABAKHTI","SELMANE","BE","M","030018","030018","COMP"]
[2609397,"RENAULT ROUSSEL","LILI","BE","F","030059","030059","COMP"]
[2609673,"BUFFIERE","MORGAN","BE","M","048006","048006","COMP"]
[2609989,"LIMOUSIN","MATIS","MI","M","046008","046008","COMP"]
[2610032,"NOA IONESCU","ILINCA","BE","F","066006","066006","COMP"]
[2610173,"TEISSEYRE","ANNA","BE","F","011016","011016","COMP"]
[2610258,"SUWAYD","SARA","BE","F","065003","065003","COMP"]
[2610508,"LINARD","LOIS","BE","M","032006","032006","COMP"]
[2610643,"VITALIS","ROSE","BE","F","011020","011020","COMP"]
[2610766,"FLERIAG","MARYLOU","BE","F","032014","032014","COMP"]
[2610783,"SUBIRA","JADE","BE","F","065012","065012","COMP"]
[2610855,"DELASSE","MAELLIE","BE","F","034072","034072","COMP"]
[2610859,"FERNANDEZ","LOLA","MI","F","034072","034072","COMP"]
[2610888,"LASSALLE","JUSTINE","MI","F","065005","065005","COMP"]
[2610936,"NEDJAR","ALEXIA","MI","F","034069","034069","COMP"]
[2610951,"RAYNAL","LUAN","MI","M","012013","012013","COMP"]
[2610959,"OUAHOUD","SANAE","BE","F","034036","034036","COMP"]
[2611246,"CORNELIS","AYLEEN","BE","F","034072","034072","COMP"]
[2611339,"DUC","AMANDINE","MI","F","031050","031050","COMP"]
[2611448,"DEBELS","EVHAN","BE","M","081048","081048","COMP"]
[2611457,"BOUE","LYSSANDRE","BE","M","031003","031003","COMP"]
[2611470,"VIGNOLE","LOAN","BE","M","030008","030008","COMP"]
[2611472,"NECHADI","AMANI","BE","F","034069","034069","COMP"]
[2611509,"OUSTIN","ELENA","BE","F","031008","031008","COMP"]
[2611676,"BENMEZIANE","MELISSA","BE","F","032002","032002","COMP"]
[2611817,"BERTOLINI","LEA","MI","F","034069","034069","COMP"]
[2611819,"GHAOUTI","LILIA","MI","F","034069","034069","COMP"]
[2611849,"WALCZAK","LISE","MI","F","031025","031025","COMP"]
[2612081,"VILLEPONTOUX","ANAIS","BE","F","034476","034476","COMP"]
[2612264,"NIAMBALAMOU","LINA","BE","F","030003","030003","COMP"]
[2612278,"BELMONTE","LOUISE","MI","F","034062","034062","COMP"]
[2612323,"CESARI","DIANE","MI","F","082017","082017","COMP"]
[2612477,"CHIEKH EL ARABE","AMINA","BE","F","034055","034055","COMP"]
[2612549,"HRIMECHE","FATIMA-ZAHRA","BE","F","034476","034476","COMP"]
[2612577,"BENECH","CAMILLE","MI","F","034062","034062","COMP"]
[2612614,"HAQUE","ANABELLE","BE","F","034012","034012","COMP"]
[2612616,"CAVE","LILY","MI","F","034012","034012","COMP"]
[2612696,"CONSEJO","IBAN","BE","M","034066","034066","COMP"]
[2612764,"PISTOL","VAEA","MI","F","011016","011016","COMP"]
[2612773,"MOHA","AIMAN","BE","M","082014","082014","COMP"]
[2612801,"BANYIK","LENA","MI","F","012003","012003","COMP"]
[2612899,"GAGNIER OUSSEMI","MAHOS","BE","M","031003","031003","COMP"]
[2613112,"CAZANAVE","SALOME","BE","F","011031","011031","COMP"]
[2613265,"BOUDEROUA","YANIS","MI","M","082018","082018","COMP"]
[2613294,"LANDRIEUX","LEO","MI","M","034058","034058","COMP"]
[2613303,"SEMENOFF","ALICE","BE","F","030059","030059","COMP"]
[2613330,"BONAFOS","GEROME","MI","M","065027","065027","COMP"]
[2613473,"EL GHAZA","NARJISS","BE","F","034038","034038","COMP"]
[2613644,"ARCANUTHURRY-BLONDEZ","ELISE","MI","F","065012","065012","COMP"]
[2613731,"MORIN","MILO","BE","M","048006","048006","COMP"]
[2613757,"HASNAOUI","MILA","MI","F","034064","034064","COMP"]
[2613903,"DATIL","SOAN","BE","M","066027","066027","COMP"]
[2613971,"DAUTLLARI","AMANTINA","BE","F","034066","034066","COMP"]
[2614131,"NAILI","VICTORIA","BE","F","030004","030004","COMP"]
[2614265,"BENDAOUD","MARIAM","BE","F","031012","031012","COMP"]
[2614287,"CARAYON","HELENE","BE","F","081047","081047","COMP"]
[2614404,"CHANVALON","LOUKA","BE","M","065017","065017","COMP"]
[2614573,"MANCHA","JULIA","BE","F","031009","031009","COMP"]
[2614617,"ISNARD LAURE","JULIETTE","MI","F","034062","034062","COMP"]
[2614652,"BRECHET","AXEL","MI","M","048003","048003","COMP"]
[2614709,"REDIER","JULES","BE","M","012002","012002","COMP"]
[2614766,"HAFIDHOU","IRSHAM","MI","M","065012","065012","COMP"]
[2614833,"MARES","LEOPOLD","BE","M","065027","065027","COMP"]
[2615439,"DELMAS","THEO","MI","M","034473","034473","COMP"]
[2615596,"ZELMAD","AMINA","BE","F","030018","030018","COMP"]
[2615666,"DORNEAU COUMES","JANNA","BE","F","066003","066003","COMP"]
[2615747,"LANSAC","LOU","MI","F","034012","034012","COMP"]
[2615748,"CRIADO","ESTELLE","MI","F","034012","034012","COMP"]
[2615804,"MANACH","YAEL","BE","M","082014","082014","COMP"]
[2615857,"LEBRETON-FAYOL","LILOU","BE","F","048006","048006","COMP"]
[2615942,"BELAIDI","RAYAN","MI","M","034062","034062","COMP"]
[2615989,"OLIVES","ELISE","BE","F","066031","066031","COMP"]
[2616147,"PLANTEVIN","MINA","BE","F","030008","030008","COMP"]
[2616180,"FAURE","CAMILLE","BE","F","066028","066028","COMP"]
[2616181,"TUZET","ALIX","BE","F","034072","034072","COMP"]
[2616186,"BAENA","MALIHA","BE","F","031063","031063","COMP"]
[2616201,"FERRERE","JEANNE","MI","F","012018","012018","COMP"]
[2616524,"ABRAMOWITZ MENARD","NOE","BE","M","034073","034073","COMP"]
[2616567,"RAKOTOSON-GANDY","LUCA","MI","M","046008","046008","COMP"]
[2616628,"LEMOINE","ADRIEN","BE","M","046008","046008","COMP"]
[2616695,"DAVID","NOHAM","MI","M","031050","031050","COMP"]
[2616769,"CHANU","TIMOTHE","MI","M","066037","066037","COMP"]
[2616904,"FERRIER-MARTINEZ","PABLO","MI","M","034457","034457","COMP"]
[2616974,"MONTIALOUX","ELIAN","BE","M","048008","048008","COMP"]
[2616975,"SCIAMANNA","LIA","MI","F","034062","034062","COMP"]
[2617186,"BELLINO","MAYLEE","BE","F","030059","030059","COMP"]
[2617275,"ALEXANDRE","JEREMIE","MI","M","030021","030021","COMP"]
[2617362,"MALBERT","LILOU","MI","F","046008","046008","COMP"]
[2617373,"KOUSSAYER","BASTIEN","BE","M","066003","066003","COMP"]
[2617374,"FAGEGALTIER","IARA","BE","F","034062","034062","COMP"]
[2617666,"RODRIGUEZ","EMMANUEL","BE","M","034069","034069","COMP"]
[2618098,"LE CAER","CONSTANCE","MI","F","082017","082017","COMP"]
[2618129,"SAIN","MANON","MI","F","066006","066006","COMP"]
[2618421,"CALON","CLARA","BE","F","030059","030059","COMP"]
[2618556,"RAPIAU-MONGELARD","BAPTISTE","MI","M","034012","034012","COMP"]
[2618557,"TEICH","RUBEN-CESAR","MI","M","034012","034012","COMP"]
[2618799,"HUGUET","MANON","BE","F","031022","031022","COMP"]
[2618856,"ABADIE","PABLO","BE","M","082017","082017","COMP"]
[2619030,"CHTOUROU","SHAHD","MI","F","030018","030018","COMP"]
[2619078,"SARRAZIN","EVY","MI","F","031039","031039","COMP"]
[2619127,"COSSONNET-LOTTIN","AMANDINE","MI","F","031003","031003","COMP"]
[2619247,"ARNAUDET","NAOMI","BE","F","081017","081017","COMP"]
[2619599,"RAZIER LUCATO","MATHILDE","MI","F","030021","030021","COMP"]
[2620025,"RAHMOUNI","INES","BE","F","034069","034069","COMP"]
[2620494,"MONTESTRUCQ","GREGOIRE","BE","M","031012","031012","COMP"]
[2620684,"MARAZANOF","LILOIE","BE","F","065006","065006","COMP"]
[2620692,"HOMA","MIRON","BE","M","066003","066003","COMP"]
[2620718,"TENDAYI","SAMUEL","BE","M","031063","031063","COMP"]
[2620787,"LECHIFFLARD","CLEMENT","MI","M","030059","030059","COMP"]
[2620792,"GONCALVES","MIA","BE","F","065012","065012","COMP"]
[2620913,"FONTANIE","ALICE","MI","F","031035","031035","COMP"]
[2621131,"DUCLOS","LEONIE","MI","F","032006","032006","COMP"]
[2621132,"AZAM","AUGUSTIN","BE","M","012005","012005","COMP"]
[2621133,"MAKKAR","CELIA","MI","F","032006","032006","COMP"]
[2621421,"VERGARA","AMBRE","BE","F","082017","082017","COMP"]
[2621494,"ALQUIER-CHARD","NOEMIE","BE","F","031007","031007","COMP"]
[2621531,"POMAYROL","LALIE","BE","F","081048","081048","COMP"]
[2621659,"BROILLIARD","CLEMENT","MI","M","081056","081056","COMP"]
[2621755,"TOUSSAINT","LILWENN","MI","F","030021","030021","COMP"]
[2621866,"BERTOLOTTI","CALI","MI","F","011001","011001","COMP"]
[2621868,"AGUILERA","CLEMENCE","BE","F","081053","081053","COMP"]
[2621973,"TERCERO","LYNNA","BE","F","012005","012005","COMP"]
[2622000,"DUFOUR-LARCHEVESQUE","ELIE","MI","M","009011","009011","COMP"]
[2622241,"DEVOGHEL","DIANA-DIAMOND","BE","F","012003","012003","COMP"]
[2622286,"SOUCARRE","LOU","MI","F","031039","031039","COMP"]
[2622349,"MINET","ERWAN","BE","M","031003","031003","COMP"]
[2622354,"GUILAVOGUI","SALOME","BE","F","031025","031025","COMP"]
[2622467,"BURCKARD","ALICE","BE","F","031025","031025","COMP"]
[2622638,"BRISBART","LOLA","BE","F","032006","032006","COMP"]
[2622789,"VAN MAASDIJK","AYA","MI","F","012003","012003","COMP"]
[2623187,"PARADOVICH","ARINA","MI","F","066003","066003","COMP"]
[2623264,"GARCIA FOGLIARINO","LUNA","MI","F","082017","082017","COMP"]
[2623399,"PETIT","AALON","BE","M","030067","030067","COMP"]
[2623408,"MARCELLIN","ALICE","BE","F","034038","034038","COMP"]
[2623488,"YANGA YANGA","OLIVAN","BE","M","031012","031012","COMP"]
[2623625,"LE GUEN","ENORA","BE","F","031056","031056","COMP"]
[2623692,"CHAZETTE","LORIS","MI","M","032002","032002","COMP"]
[2623693,"ELORZA","ANAIS","BE","F","032002","032002","COMP"]
[2623699,"ANDRIEUX","SAJJA","BE","M","009002","009002","COMP"]
[2623768,"BONNAL","LILIAN","MI","M","048007","048007","COMP"]
[2623769,"GASPARINI","ELENA","MI","F","048007","048007","COMP"]
[2623807,"ZERBANE","MANAL","BE","F","034055","034055","COMP"]
[2624031,"BRICARD CENTELLES","JUSTINE","MI","F","032014","032014","COMP"]
[2624041,"DE SAINT JEAN","ERINE","BE","F","031003","031003","COMP"]
[2624080,"CHARLES","MALIA","BE","F","034058","034058","COMP"]

{"sheet":"PARAMETRES","index":10,"n_rows":16,"n_cols":16,"rows_kept":16,"cut":false,"hidden":true,"merged":[]}
["Epreuve F","LOGICA","Epreuve M","LOGICA","Epreuve F","LOGICA","Epreuve M","LOGICA","Epreuve F","LOGICA","Epreuve M","LOGICA","Epreuve F","LOGICA","Epreuve M","LOGICA"]
["80m",108,"80m",108,"50m",104,"50m",104,"50m Salle",105,"50m Salle",105,"50m Salle",105,"50m Salle",105]
["120m",112,"120m",112,"50m haies",321,"50m haies",321,"50m haies  Salle",301,"50m haies Salle",302,"50m haies Salle",301,"50m haies Salle",302]
["80m haies",308,"100m haies",310,"1000m",210,"1000m",210,"3000m marche Salle",953,"3000m marche Salle",953,"2000m marche Salle",952,"2000m marche Salle",952]
["200m haies",326,"200m haies",326,"2000m marche",902,"2000m marche",902,"Poids (3 kg)  Salle",653,"Poids (4 kg) Salle",654,"Poids (2 kg) Salle",652,"Poids (3 kg) Salle",653]
["1000m",210,"1000m",210,"Hauteur",501,"Hauteur",501,"Hauteur Salle",511,"Hauteur Salle",511,"Hauteur Salle",511,"Hauteur Salle",511]
["2000m",220,"2000m",220,"Perche",502,"Perche",502,"Perche Salle",522,"Perche Salle",522,"Perche Salle",522,"Perche Salle",522]
["3000m marche",903,"3000m marche",903,"Longueur",503,"Longueur",503,"Longueur Salle",513,"Longueur Salle",513,"Longueur Salle",513,"Longueur Salle",513]
["Hauteur",501,"Hauteur",501,"Triple saut",504,"Triple saut",504,"Triple saut Salle",514,"Triple saut Salle",514,"Triple saut Salle",514,"Triple saut Salle",514]
["Perche",502,"Perche",502,"Poids (2 kg)",602,"Poids (3 kg)",603]
["Longueur",503,"Longueur",503,"Disque (0.6 kg)",616,"Disque (1.0 kg)",610]
["Triple saut",504,"Triple saut",504,"Marteau (2 kg)",632,"Marteau (3 kg)",633]
["Poids (3 kg)",603,"Poids (4 kg)",604,"Javelot (400 g)",640,"Javelot (500 g)",650]
["Disque (0.8 kg)",608,"Disque (1.2 kg)",612]
["Marteau (3 kg)",633,"Marteau (4 kg)",634]
["Javelot (500 g)",650,"Javelot (600 g)",660]